{"text_format":"1","workbook":"xlsx","n_sheets":8,"sheets":["Completion instructions","Per Minute Rate (NCW)","Per Folio Rate - \"OT\"","Per Folio Rate - \"CR\"","HoP Editor Rate","QC + Hourly Rate","TTA USE ONLY Pay Advice","Sheet1"],"not_rendered":{"charts":0,"images":0,"macros":1,"external_links":0,"defined_names":10,"comments":0,"pivot_tables":0},"unopened":[],"bounds":{"document_bytes":16777216,"sheet_cells":100000,"rows_first":2000,"rows_last":500,"rows_between":2000,"halvings":0,"cell_chars":16384,"cell_head_chars":4096},"cells_cut":0,"cells_raw":0,"read":"whole","date_system":"1900"}

{"sheet":"Completion instructions","index":0,"n_rows":0,"n_cols":0,"rows_kept":0,"cut":false,"hidden":false,"merged":[]}

{"sheet":"Per Minute Rate (NCW)","index":1,"n_rows":64,"n_cols":54,"rows_kept":64,"cut":false,"hidden":false,"merged":[[15,0,16,0],[15,1,16,1],[15,6,16,6],[15,10,16,10],[11,0,11,1],[12,0,12,1],[13,0,13,1],[15,8,16,8],[15,9,16,9],[15,3,16,3],[9,2,9,5],[11,2,11,7],[12,2,12,7],[13,2,13,7],[15,2,16,2],[15,4,16,4],[15,5,16,5],[15,7,16,7]]}
[]
["NAME"]
["ADDRESS"]
["ADDRESS"]
["ADDRESS"]
["POST CODE"]
["EMAIL ADDRESS:"]
["PHONE NUMBER:"]
[]
["PAYMENT OF INVOICES FOR WORK CARRIED OUT IN",null,"MONTH",null,null,null,"YEAR"]
[]
["Bank Account Name (if different from last pay)"]
["Sort Code (if different from last pay)"]
["Account Number (if different from last pay)",null,null,null,null,null,null,null,null,null,null,null,null,null,null,null,null,null,null,null,null,null,null,null,null,null,null,null,null,null,null,null,null,null,null,null,null,null,null,null,null,null,null,null,null,null,null,null,null,null,null,null,null,"D, PD"]
[null,null,null,null,null,null,null,null,null,null,null,null,null,null,null,null,null,null,null,null,null,null,null,null,null,null,null,null,null,null,null,null,null,null,null,null,null,null,null,null,null,null,null,null,null,null,null,null,null,null,null,null,null,"G"]
["Date TC Ret'd (DD/MM/YY)"," Full Transcript Saving Code","D, PD, G, editing","Rate claimed","Additional Claim","Duration (Minute format only)","Time taken (HH:MM)","QC score","Base amount","Additional claim","Total",null,null,null,null,null,null,null,null,null,null,null,null,null,null,null,null,null,null,null,null,null,null,null,null,null,null,null,null,null,null,null,null,null,null,null,null,null,null,null,null,null,null,"Editing - D, PD"]
[null,null,null,null,null,null,null,null,null,null,null,null,null,null,null,null,null,null,null,null,null,null,null,null,null,null,null,null,null,null,null,null,null,null,null,null,null,null,null,null,null,null,null,null,null,null,null,null,null,null,null,null,null,"Editing - G"]
[null,null,null,null,null,null,null,null,{"$f":"D18*F18","v":0},{"$f":"IF((OR(E18=\"Poor quality\", E18=\"Accent\", E18=\"Referencing\", E18=\"Other\")), I18*10%,I18*0)","v":0},{"$f":"SUM(I18:J18)","v":0}]
[null,null,null,null,null,null,null,null,{"$f":"D19*F19","v":0},0,{"$f":"SUM(I19:J19)","v":0}]
[null,null,null,null,null,null,null,null,0,0,0]
[null,null,null,null,null,null,null,null,0,0,0]
[null,null,null,null,null,null,null,null,0,0,0]
[null,null,null,null,null,null,null,null,0,0,0]
[null,null,null,null,null,null,null,null,0,0,0]
[null,null,null,null,null,null,null,null,0,0,0]
[null,null,null,null,null,null,null,null,0,0,0]
[null,null,null,null,null,null,null,null,0,0,0]
[null,null,null,null,null,null,null,null,0,0,0]
[null,null,null,null,null,null,null,null,0,0,0]
[null,null,null,null,null,null,null,null,0,0,0]
[null,null,null,null,null,null,null,null,0,0,0]
[null,null,null,null,null,null,null,null,0,0,0]
[null,null,null,null,null,null,null,null,0,0,0]
[null,null,null,null,null,null,null,null,0,0,0]
[null,null,null,null,null,null,null,null,0,0,0]
[null,null,null,null,null,null,null,null,0,0,0]
[null,null,null,null,null,null,null,null,0,0,0]
[null,null,null,null,null,null,null,null,0,0,0]
[null,null,null,null,null,null,null,null,0,0,0]
[null,null,null,null,null,null,null,null,0,0,0]
[null,null,null,null,null,null,null,null,0,0,0]
[null,null,null,null,null,null,null,null,0,0,0]
[null,null,null,null,null,null,null,null,0,0,0]
[null,null,null,null,null,null,null,null,0,0,0]
[null,null,null,null,null,null,null,null,0,0,0]
[null,null,null,null,null,null,null,null,0,0,0]
[null,null,null,null,null,null,null,null,0,0,0]
[null,null,null,null,null,null,null,null,0,0,0]
[null,null,null,null,null,null,null,null,0,0,0]
[null,null,null,null,null,null,null,null,0,0,0]
[null,null,null,null,null,null,null,null,0,0,0]
[null,null,null,null,null,null,null,null,0,0,0]
[null,null,null,null,null,null,null,null,0,0,0]
[null,null,null,null,null,null,null,null,0,0,0]
[null,null,null,null,null,null,null,null,0,0,0]
[null,null,null,null,null,null,null,null,0,0,0]
[null,null,null,null,null,null,null,null,0,0,0]
[null,null,null,null,null,null,null,null,0,0,0]
[null,null,null,null,null,null,null,null,0,0,0]
[null,null,null,null,null,null,null,null,0,0,0]
[null,null,null,null,null,null,null,null,0,0,0]
[null,null,null,null,null,null,null,null,0,0,0]
[]
[null,null,null,null,null,{"$f":"SUM(F18:F62)","v":0},{"$f":"SUM(G18:G62)","v":0},null,null,null,{"$f":"SUM(K18:K62)","v":0}]

{"sheet":"Per Folio Rate - \"OT\"","index":2,"n_rows":51,"n_cols":8,"rows_kept":51,"cut":false,"hidden":false,"merged":[[0,0,0,7],[2,0,3,0],[2,1,3,1],[2,2,3,2],[2,4,3,4],[2,5,3,5],[2,6,3,6],[2,7,3,7],[2,3,3,3]]}
["ONLY PER FOLIO TRANSCRIPTS WITH A STARTING CODE OF \"OT\" SHOULD BE NOTED ON THIS PAGE"]
[]
["Date TC Ret'd (DD/MM/YY)"," Full Transcript Saving Code","No of voices (primarily)","Rate claimed","Number of folios","Time taken (HH:MM)","QC score","Amount"]
[]
[null,null,null,null,null,null,null,{"$f":"D5*E5","v":0}]
[null,null,null,null,null,null,null,{"$f":"D6*E6","v":0}]
[null,null,null,null,null,null,null,0]
[null,null,null,null,null,null,null,0]
[null,null,null,null,null,null,null,0]
[null,null,null,null,null,null,null,0]
[null,null,null,null,null,null,null,0]
[null,null,null,null,null,null,null,0]
[null,null,null,null,null,null,null,0]
[null,null,null,null,null,null,null,0]
[null,null,null,null,null,null,null,0]
[null,null,null,null,null,null,null,0]
[null,null,null,null,null,null,null,0]
[null,null,null,null,null,null,null,0]
[null,null,null,null,null,null,null,0]
[null,null,null,null,null,null,null,0]
[null,null,null,null,null,null,null,0]
[null,null,null,null,null,null,null,0]
[null,null,null,null,null,null,null,0]
[null,null,null,null,null,null,null,0]
[null,null,null,null,null,null,null,0]
[null,null,null,null,null,null,null,0]
[null,null,null,null,null,null,null,0]
[null,null,null,null,null,null,null,0]
[null,null,null,null,null,null,null,0]
[null,null,null,null,null,null,null,0]
[null,null,null,null,null,null,null,0]
[null,null,null,null,null,null,null,0]
[null,null,null,null,null,null,null,0]
[null,null,null,null,null,null,null,0]
[null,null,null,null,null,null,null,0]
[null,null,null,null,null,null,null,0]
[null,null,null,null,null,null,null,0]
[null,null,null,null,null,null,null,0]
[null,null,null,null,null,null,null,0]
[null,null,null,null,null,null,null,0]
[null,null,null,null,null,null,null,0]
[null,null,null,null,null,null,null,0]
[null,null,null,null,null,null,null,0]
[null,null,null,null,null,null,null,0]
[null,null,null,null,null,null,null,0]
[null,null,null,null,null,null,null,0]
[null,null,null,null,null,null,null,0]
[null,null,null,null,null,null,null,0]
[null,null,null,null,null,null,null,0]
[]
[null,null,null,null,{"$f":"SUM(E5:E49)","v":0},{"$f":"SUM(F5:F49)","v":0},null,{"$f":"SUM(H5:H49)","v":0}]

{"sheet":"Per Folio Rate - \"CR\"","index":3,"n_rows":51,"n_cols":8,"rows_kept":51,"cut":false,"hidden":false,"merged":[[2,7,3,7],[0,0,0,7],[2,0,3,0],[2,1,3,1],[2,2,3,2],[2,4,3,4],[2,5,3,5],[2,6,3,6],[2,3,3,3]]}
["ONLY PER FOLIO TRANSCRIPTS WITH A STARTING CODE OF \"CR\" SHOULD BE NOTED ON THIS PAGE"]
[]
["Date TC Ret'd (DD/MM/YY)"," Full Transcript Saving Code","No of voices (primarily)","Rate claimed","Number of folios","Time taken (HH:MM)","QC score","Amount"]
[]
[null,null,null,null,null,null,null,{"$f":"D5*E5","v":0}]
[null,null,null,null,null,null,null,{"$f":"D6*E6","v":0}]
[null,null,null,null,null,null,null,0]
[null,null,null,null,null,null,null,0]
[null,null,null,null,null,null,null,0]
[null,null,null,null,null,null,null,0]
[null,null,null,null,null,null,null,0]
[null,null,null,null,null,null,null,0]
[null,null,null,null,null,null,null,0]
[null,null,null,null,null,null,null,0]
[null,null,null,null,null,null,null,0]
[null,null,null,null,null,null,null,0]
[null,null,null,null,null,null,null,0]
[null,null,null,null,null,null,null,0]
[null,null,null,null,null,null,null,0]
[null,null,null,null,null,null,null,0]
[null,null,null,null,null,null,null,0]
[null,null,null,null,null,null,null,0]
[null,null,null,null,null,null,null,0]
[null,null,null,null,null,null,null,0]
[null,null,null,null,null,null,null,0]
[null,null,null,null,null,null,null,0]
[null,null,null,null,null,null,null,0]
[null,null,null,null,null,null,null,0]
[null,null,null,null,null,null,null,0]
[null,null,null,null,null,null,null,0]
[null,null,null,null,null,null,null,0]
[null,null,null,null,null,null,null,0]
[null,null,null,null,null,null,null,0]
[null,null,null,null,null,null,null,0]
[null,null,null,null,null,null,null,0]
[null,null,null,null,null,null,null,0]
[null,null,null,null,null,null,null,0]
[null,null,null,null,null,null,null,0]
[null,null,null,null,null,null,null,0]
[null,null,null,null,null,null,null,0]
[null,null,null,null,null,null,null,0]
[null,null,null,null,null,null,null,0]
[null,null,null,null,null,null,null,0]
[null,null,null,null,null,null,null,0]
[null,null,null,null,null,null,null,0]
[null,null,null,null,null,null,null,0]
[null,null,null,null,null,null,null,0]
[null,null,null,null,null,null,null,0]
[null,null,null,null,null,null,null,0]
[]
[null,null,null,null,{"$f":"SUM(E5:E49)","v":0},{"$f":"SUM(F5:F49)","v":0},null,{"$f":"SUM(H5:H49)","v":0}]

{"sheet":"HoP Editor Rate","index":4,"n_rows":64,"n_cols":52,"rows_kept":64,"cut":false,"hidden":false,"merged":[[13,0,13,1],[13,2,13,5],[9,2,9,4],[11,0,11,1],[11,2,11,5],[12,0,12,1],[12,2,12,5],[15,5,16,5],[15,6,16,6],[15,7,16,7],[15,8,16,8],[15,0,16,0],[15,1,16,1],[15,2,16,2],[15,3,16,3],[15,4,16,4]]}
[]
["NAME"]
["ADDRESS"]
["ADDRESS"]
["ADDRESS"]
["POST CODE"]
["EMAIL ADDRESS:"]
["PHONE NUMBER:"]
[]
["PAYMENT OF INVOICES FOR WORK CARRIED OUT IN",null,"MONTH",null,null,"YEAR"]
[]
["Bank Account Name (if different from last pay)"]
["Sort Code (if different from last pay)"]
["Account Number (if different from last pay)",null,null,null,null,null,null,null,null,null,null,null,null,null,null,null,null,null,null,null,null,null,null,null,null,null,null,null,null,null,null,null,null,null,null,null,null,null,null,null,null,null,null,null,null,null,null,null,null,null,null,"D, PD"]
[null,null,null,null,null,null,null,null,null,null,null,null,null,null,null,null,null,null,null,null,null,null,null,null,null,null,null,null,null,null,null,null,null,null,null,null,null,null,null,null,null,null,null,null,null,null,null,null,null,null,null,"G"]
["Date TC Ret'd (DD/MM/YY)"," Full Transcript Saving Code","Level","Rate claimed","Duration (Minute format only)","Time taken (HH:MM)","Base amount","Deductions","Total",null,null,null,null,null,null,null,null,null,null,null,null,null,null,null,null,null,null,null,null,null,null,null,null,null,null,null,null,null,null,null,null,null,null,null,null,null,null,null,null,null,null,"Editing - D, PD"]
[null,null,null,null,null,null,null,null,null,null,null,null,null,null,null,null,null,null,null,null,null,null,null,null,null,null,null,null,null,null,null,null,null,null,null,null,null,null,null,null,null,null,null,null,null,null,null,null,null,null,null,"Editing - G"]
[null,null,null,{"$f":"IF(C18=\"Level 1\",\"£1.20\",IF(C18=\"Level 2\",\"£1.26\",IF(C18=\"Level 3\",\"£1.37\",IF(C18=\"n/a - document fee\",\"£15.00\"))))","v":false},null,null,{"$f":"D18*E18","v":0},null,{"$f":"G18-H18","v":0}]
[null,null,null,{"$f":"IF(C19=\"Level 1\",\"£1.20\",IF(C19=\"Level 2\",\"£1.26\",IF(C19=\"Level 3\",\"£1.37\",IF(C19=\"n/a - document fee\",\"£15.00\"))))","v":false},null,null,{"$f":"D19*E19","v":0},null,{"$f":"G19-H19","v":0}]
[null,null,null,false,null,null,0,null,0]
[null,null,null,false,null,null,0,null,0]
[null,null,null,false,null,null,0,null,0]
[null,null,null,false,null,null,0,null,0]
[null,null,null,false,null,null,0,null,0]
[null,null,null,false,null,null,0,null,0]
[null,null,null,false,null,null,0,null,0]
[null,null,null,false,null,null,0,null,0]
[null,null,null,false,null,null,0,null,0]
[null,null,null,false,null,null,0,null,0]
[null,null,null,false,null,null,0,null,0]
[null,null,null,false,null,null,0,null,0]
[null,null,null,false,null,null,0,null,0]
[null,null,null,false,null,null,0,null,0]
[null,null,null,false,null,null,0,null,0]
[null,null,null,false,null,null,0,null,0]
[null,null,null,false,null,null,0,null,0]
[null,null,null,false,null,null,0,null,0]
[null,null,null,false,null,null,0,null,0]
[null,null,null,false,null,null,0,null,0]
[null,null,null,false,null,null,0,null,0]
[null,null,null,false,null,null,0,null,0]
[null,null,null,false,null,null,0,null,0]
[null,null,null,false,null,null,0,null,0]
[null,null,null,false,null,null,0,null,0]
[null,null,null,false,null,null,0,null,0]
[null,null,null,false,null,null,0,null,0]
[null,null,null,false,null,null,0,null,0]
[null,null,null,false,null,null,0,null,0]
[null,null,null,false,null,null,0,null,0]
[null,null,null,false,null,null,0,null,0]
[null,null,null,false,null,null,0,null,0]
[null,null,null,false,null,null,0,null,0]
[null,null,null,false,null,null,0,null,0]
[null,null,null,false,null,null,0,null,0]
[null,null,null,false,null,null,0,null,0]
[null,null,null,false,null,null,0,null,0]
[null,null,null,false,null,null,0,null,0]
[null,null,null,false,null,null,0,null,0]
[null,null,null,false,null,null,0,null,0]
[null,null,null,false,null,null,0,null,0]
[null,null,null,false,null,null,0,null,0]
[null,null,null,false,null,null,0,null,0]
[]
[null,null,null,null,{"$f":"SUM(E18:E62)","v":0},{"$f":"SUM(F18:F62)","v":0},null,null,{"$f":"SUM(I18:I62)","v":0}]

{"sheet":"QC + Hourly Rate","index":5,"n_rows":53,"n_cols":5,"rows_kept":53,"cut":false,"hidden":false,"merged":[[0,0,0,4],[4,0,5,0],[4,1,5,1],[4,2,5,2],[4,3,5,3],[4,4,5,4]]}
["ONLY TRANSCRIPTS YOU HAVE QUALITY CONTROLLED FOR TTA FOR SHOULD BE NOTED ON THIS PAGE OR WORK WHICH TTA HAS ADVISED IS BEING PAID ON AN HOURLY RATE"]
[]
["Hourly rate:"]
[]
["Date TC Ret'd (DD/MM/YY)"," Full Transcript Saving Code","Type of work","Time taken (HH:MM)","Amount"]
[]
[null,null,null,null,{"$f":"D7*24*B3","v":0}]
[null,null,null,null,{"$f":"D8*24*B3","v":0}]
[null,null,null,null,{"$f":"D9*24*B3","v":0}]
[null,null,null,null,{"$f":"D10*24*B3","v":0}]
[null,null,null,null,{"$f":"D11*24*B3","v":0}]
[null,null,null,null,{"$f":"D12*24*B3","v":0}]
[null,null,null,null,{"$f":"D13*24*B3","v":0}]
[null,null,null,null,{"$f":"D14*24*B3","v":0}]
[null,null,null,null,{"$f":"D15*24*B3","v":0}]
[null,null,null,null,{"$f":"D16*24*B3","v":0}]
[null,null,null,null,{"$f":"D17*24*B3","v":0}]
[null,null,null,null,{"$f":"D18*24*B3","v":0}]
[null,null,null,null,{"$f":"D19*24*B3","v":0}]
[null,null,null,null,{"$f":"D20*24*B3","v":0}]
[null,null,null,null,{"$f":"D21*24*B3","v":0}]
[null,null,null,null,{"$f":"D22*24*B3","v":0}]
[null,null,null,null,{"$f":"D23*24*B3","v":0}]
[null,null,null,null,{"$f":"D24*24*B3","v":0}]
[null,null,null,null,{"$f":"D25*24*B4","v":0}]
[null,null,null,null,{"$f":"D26*24*B3","v":0}]
[null,null,null,null,{"$f":"D27*24*B3","v":0}]
[null,null,null,null,{"$f":"D28*24*B3","v":0}]
[null,null,null,null,{"$f":"D29*24*B3","v":0}]
[null,null,null,null,{"$f":"D30*24*B3","v":0}]
[null,null,null,null,{"$f":"D31*24*B3","v":0}]
[null,null,null,null,{"$f":"D32*24*B3","v":0}]
[null,null,null,null,{"$f":"D33*24*B3","v":0}]
[null,null,null,null,{"$f":"D34*24*B3","v":0}]
[null,null,null,null,{"$f":"D35*24*B3","v":0}]
[null,null,null,null,{"$f":"D36*24*B3","v":0}]
[null,null,null,null,{"$f":"D37*24*B3","v":0}]
[null,null,null,null,{"$f":"D38*24*B3","v":0}]
[null,null,null,null,{"$f":"D39*24*B3","v":0}]
[null,null,null,null,{"$f":"D40*24*B3","v":0}]
[null,null,null,null,{"$f":"D41*24*B3","v":0}]
[null,null,null,null,{"$f":"D42*24*B3","v":0}]
[null,null,null,null,{"$f":"D43*24*B3","v":0}]
[null,null,null,null,{"$f":"D44*24*B3","v":0}]
[null,null,null,null,{"$f":"D45*24*B3","v":0}]
[null,null,null,null,{"$f":"D46*24*B3","v":0}]
[null,null,null,null,{"$f":"D47*24*B3","v":0}]
[null,null,null,null,{"$f":"D48*24*B3","v":0}]
[null,null,null,null,{"$f":"D49*24*B3","v":0}]
[null,null,null,null,{"$f":"D50*24*B3","v":0}]
[null,null,null,null,{"$f":"D51*24*B3","v":0}]
[]
[null,null,null,{"$f":"SUM(D7:D51)","v":0},{"$f":"SUM(E7:E51)","v":0}]

{"sheet":"TTA USE ONLY Pay Advice","index":6,"n_rows":251,"n_cols":11,"rows_kept":251,"cut":false,"hidden":false,"merged":[[15,6,16,6],[15,7,16,7],[15,8,16,8],[9,2,9,5],[15,0,16,0],[15,1,16,1],[15,2,16,2],[15,4,16,4],[15,5,16,5],[15,3,16,3]]}
[]
[{"$f":"'Per Minute Rate (NCW)'!A2","v":"NAME"}]
[{"$f":"'Per Minute Rate (NCW)'!A3","v":"ADDRESS"}]
[{"$f":"'Per Minute Rate (NCW)'!A4","v":"ADDRESS"}]
[{"$f":"'Per Minute Rate (NCW)'!A5","v":"ADDRESS"}]
[{"$f":"'Per Minute Rate (NCW)'!A6","v":"POST CODE"}]
[{"$f":"'Per Minute Rate (NCW)'!A7","v":"EMAIL ADDRESS:"}]
[{"$f":"'Per Minute Rate (NCW)'!A8","v":"PHONE NUMBER:"}]
[]
["PAYMENT OF INVOICES FOR WORK CARRIED OUT IN",null,{"$f":"'Per Minute Rate (NCW)'!C10","v":"MONTH"},null,null,null,{"$f":"'Per Minute Rate (NCW)'!G10","v":"YEAR"}]
[]
[{"$f":"'Per Minute Rate (NCW)'!A12","v":"Bank Account Name (if different from last pay)"},null,{"$f":"'Per Minute Rate (NCW)'!C12","v":0}]
[{"$f":"'Per Minute Rate (NCW)'!A13","v":"Sort Code (if different from last pay)"},null,{"$f":"'Per Minute Rate (NCW)'!C13","v":0}]
[{"$f":"'Per Minute Rate (NCW)'!A14","v":"Account Number (if different from last pay)"},null,{"$f":"'Per Minute Rate (NCW)'!C14","v":0}]
[]
["Date TC Ret'd","Transcript Name (as in subject box)","D, PD, G, editing","Rate claimed","PQ/AC claim/Hourly rate type","No of Mins / Folios","Time taken (apprx)","QC score","Amount"]
[]
[{"$f":"'Per Minute Rate (NCW)'!A18","v":"00:00:00"},{"$f":"'Per Minute Rate (NCW)'!B18","v":0},{"$f":"'Per Minute Rate (NCW)'!C18","v":0},{"$f":"'Per Minute Rate (NCW)'!D18","v":0},{"$f":"'Per Minute Rate (NCW)'!E18","v":0},{"$f":"'Per Minute Rate (NCW)'!F18","v":0},{"$f":"'Per Minute Rate (NCW)'!G18","v":0},{"$f":"'Per Minute Rate (NCW)'!H18","v":0},{"$f":"'Per Minute Rate (NCW)'!K18","v":0}]
[{"$f":"'Per Minute Rate (NCW)'!A19","v":"00:00:00"},{"$f":"'Per Minute Rate (NCW)'!B19","v":0},{"$f":"'Per Minute Rate (NCW)'!C19","v":0},{"$f":"'Per Minute Rate (NCW)'!D19","v":0},{"$f":"'Per Minute Rate (NCW)'!E19","v":0},{"$f":"'Per Minute Rate (NCW)'!F19","v":0},{"$f":"'Per Minute Rate (NCW)'!G19","v":0},{"$f":"'Per Minute Rate (NCW)'!H19","v":0},{"$f":"'Per Minute Rate (NCW)'!K19","v":0}]
[{"$f":"'Per Minute Rate (NCW)'!A20","v":"00:00:00"},{"$f":"'Per Minute Rate (NCW)'!B20","v":0},{"$f":"'Per Minute Rate (NCW)'!C20","v":0},{"$f":"'Per Minute Rate (NCW)'!D20","v":0},{"$f":"'Per Minute Rate (NCW)'!E20","v":0},{"$f":"'Per Minute Rate (NCW)'!F20","v":0},{"$f":"'Per Minute Rate (NCW)'!G20","v":0},{"$f":"'Per Minute Rate (NCW)'!H20","v":0},{"$f":"'Per Minute Rate (NCW)'!K20","v":0}]
[{"$f":"'Per Minute Rate (NCW)'!A21","v":"00:00:00"},{"$f":"'Per Minute Rate (NCW)'!B21","v":0},{"$f":"'Per Minute Rate (NCW)'!C21","v":0},{"$f":"'Per Minute Rate (NCW)'!D21","v":0},{"$f":"'Per Minute Rate (NCW)'!E21","v":0},{"$f":"'Per Minute Rate (NCW)'!F21","v":0},{"$f":"'Per Minute Rate (NCW)'!G21","v":0},{"$f":"'Per Minute Rate (NCW)'!H21","v":0},{"$f":"'Per Minute Rate (NCW)'!K21","v":0}]
[{"$f":"'Per Minute Rate (NCW)'!A22","v":"00:00:00"},{"$f":"'Per Minute Rate (NCW)'!B22","v":0},{"$f":"'Per Minute Rate (NCW)'!C22","v":0},{"$f":"'Per Minute Rate (NCW)'!D22","v":0},{"$f":"'Per Minute Rate (NCW)'!E22","v":0},{"$f":"'Per Minute Rate (NCW)'!F22","v":0},{"$f":"'Per Minute Rate (NCW)'!G22","v":0},{"$f":"'Per Minute Rate (NCW)'!H22","v":0},{"$f":"'Per Minute Rate (NCW)'!K22","v":0}]
[{"$f":"'Per Minute Rate (NCW)'!A23","v":"00:00:00"},{"$f":"'Per Minute Rate (NCW)'!B23","v":0},{"$f":"'Per Minute Rate (NCW)'!C23","v":0},{"$f":"'Per Minute Rate (NCW)'!D23","v":0},{"$f":"'Per Minute Rate (NCW)'!E23","v":0},{"$f":"'Per Minute Rate (NCW)'!F23","v":0},{"$f":"'Per Minute Rate (NCW)'!G23","v":0},{"$f":"'Per Minute Rate (NCW)'!H23","v":0},{"$f":"'Per Minute Rate (NCW)'!K23","v":0}]
[{"$f":"'Per Minute Rate (NCW)'!A24","v":"00:00:00"},{"$f":"'Per Minute Rate (NCW)'!B24","v":0},{"$f":"'Per Minute Rate (NCW)'!C24","v":0},{"$f":"'Per Minute Rate (NCW)'!D24","v":0},{"$f":"'Per Minute Rate (NCW)'!E24","v":0},{"$f":"'Per Minute Rate (NCW)'!F24","v":0},{"$f":"'Per Minute Rate (NCW)'!G24","v":0},{"$f":"'Per Minute Rate (NCW)'!H24","v":0},{"$f":"'Per Minute Rate (NCW)'!K24","v":0}]
[{"$f":"'Per Minute Rate (NCW)'!A25","v":"00:00:00"},{"$f":"'Per Minute Rate (NCW)'!B25","v":0},{"$f":"'Per Minute Rate (NCW)'!C25","v":0},{"$f":"'Per Minute Rate (NCW)'!D25","v":0},{"$f":"'Per Minute Rate (NCW)'!E25","v":0},{"$f":"'Per Minute Rate (NCW)'!F25","v":0},{"$f":"'Per Minute Rate (NCW)'!G25","v":0},{"$f":"'Per Minute Rate (NCW)'!H25","v":0},{"$f":"'Per Minute Rate (NCW)'!K25","v":0}]
[{"$f":"'Per Minute Rate (NCW)'!A26","v":"00:00:00"},{"$f":"'Per Minute Rate (NCW)'!B26","v":0},{"$f":"'Per Minute Rate (NCW)'!C26","v":0},{"$f":"'Per Minute Rate (NCW)'!D26","v":0},{"$f":"'Per Minute Rate (NCW)'!E26","v":0},{"$f":"'Per Minute Rate (NCW)'!F26","v":0},{"$f":"'Per Minute Rate (NCW)'!G26","v":0},{"$f":"'Per Minute Rate (NCW)'!H26","v":0},{"$f":"'Per Minute Rate (NCW)'!K26","v":0}]
[{"$f":"'Per Minute Rate (NCW)'!A27","v":"00:00:00"},{"$f":"'Per Minute Rate (NCW)'!B27","v":0},{"$f":"'Per Minute Rate (NCW)'!C27","v":0},{"$f":"'Per Minute Rate (NCW)'!D27","v":0},{"$f":"'Per Minute Rate (NCW)'!E27","v":0},{"$f":"'Per Minute Rate (NCW)'!F27","v":0},{"$f":"'Per Minute Rate (NCW)'!G27","v":0},{"$f":"'Per Minute Rate (NCW)'!H27","v":0},{"$f":"'Per Minute Rate (NCW)'!K27","v":0}]
[{"$f":"'Per Minute Rate (NCW)'!A28","v":"00:00:00"},{"$f":"'Per Minute Rate (NCW)'!B28","v":0},{"$f":"'Per Minute Rate (NCW)'!C28","v":0},{"$f":"'Per Minute Rate (NCW)'!D28","v":0},{"$f":"'Per Minute Rate (NCW)'!E28","v":0},{"$f":"'Per Minute Rate (NCW)'!F28","v":0},{"$f":"'Per Minute Rate (NCW)'!G28","v":0},{"$f":"'Per Minute Rate (NCW)'!H28","v":0},{"$f":"'Per Minute Rate (NCW)'!K28","v":0}]
[{"$f":"'Per Minute Rate (NCW)'!A29","v":"00:00:00"},{"$f":"'Per Minute Rate (NCW)'!B29","v":0},{"$f":"'Per Minute Rate (NCW)'!C29","v":0},{"$f":"'Per Minute Rate (NCW)'!D29","v":0},{"$f":"'Per Minute Rate (NCW)'!E29","v":0},{"$f":"'Per Minute Rate (NCW)'!F29","v":0},{"$f":"'Per Minute Rate (NCW)'!G29","v":0},{"$f":"'Per Minute Rate (NCW)'!H29","v":0},{"$f":"'Per Minute Rate (NCW)'!K29","v":0}]
[{"$f":"'Per Minute Rate (NCW)'!A30","v":"00:00:00"},{"$f":"'Per Minute Rate (NCW)'!B30","v":0},{"$f":"'Per Minute Rate (NCW)'!C30","v":0},{"$f":"'Per Minute Rate (NCW)'!D30","v":0},{"$f":"'Per Minute Rate (NCW)'!E30","v":0},{"$f":"'Per Minute Rate (NCW)'!F30","v":0},{"$f":"'Per Minute Rate (NCW)'!G30","v":0},{"$f":"'Per Minute Rate (NCW)'!H30","v":0},{"$f":"'Per Minute Rate (NCW)'!K30","v":0}]
[{"$f":"'Per Minute Rate (NCW)'!A31","v":"00:00:00"},{"$f":"'Per Minute Rate (NCW)'!B31","v":0},{"$f":"'Per Minute Rate (NCW)'!C31","v":0},{"$f":"'Per Minute Rate (NCW)'!D31","v":0},{"$f":"'Per Minute Rate (NCW)'!E31","v":0},{"$f":"'Per Minute Rate (NCW)'!F31","v":0},{"$f":"'Per Minute Rate (NCW)'!G31","v":0},{"$f":"'Per Minute Rate (NCW)'!H31","v":0},{"$f":"'Per Minute Rate (NCW)'!K31","v":0}]
[{"$f":"'Per Minute Rate (NCW)'!A32","v":"00:00:00"},{"$f":"'Per Minute Rate (NCW)'!B32","v":0},{"$f":"'Per Minute Rate (NCW)'!C32","v":0},{"$f":"'Per Minute Rate (NCW)'!D32","v":0},{"$f":"'Per Minute Rate (NCW)'!E32","v":0},{"$f":"'Per Minute Rate (NCW)'!F32","v":0},{"$f":"'Per Minute Rate (NCW)'!G32","v":0},{"$f":"'Per Minute Rate (NCW)'!H32","v":0},{"$f":"'Per Minute Rate (NCW)'!K32","v":0}]
[{"$f":"'Per Minute Rate (NCW)'!A33","v":"00:00:00"},{"$f":"'Per Minute Rate (NCW)'!B33","v":0},{"$f":"'Per Minute Rate (NCW)'!C33","v":0},{"$f":"'Per Minute Rate (NCW)'!D33","v":0},{"$f":"'Per Minute Rate (NCW)'!E33","v":0},{"$f":"'Per Minute Rate (NCW)'!F33","v":0},{"$f":"'Per Minute Rate (NCW)'!G33","v":0},{"$f":"'Per Minute Rate (NCW)'!H33","v":0},{"$f":"'Per Minute Rate (NCW)'!K33","v":0}]
[{"$f":"'Per Minute Rate (NCW)'!A34","v":"00:00:00"},{"$f":"'Per Minute Rate (NCW)'!B34","v":0},{"$f":"'Per Minute Rate (NCW)'!C34","v":0},{"$f":"'Per Minute Rate (NCW)'!D34","v":0},{"$f":"'Per Minute Rate (NCW)'!E34","v":0},{"$f":"'Per Minute Rate (NCW)'!F34","v":0},{"$f":"'Per Minute Rate (NCW)'!G34","v":0},{"$f":"'Per Minute Rate (NCW)'!H34","v":0},{"$f":"'Per Minute Rate (NCW)'!K34","v":0}]
[{"$f":"'Per Minute Rate (NCW)'!A35","v":"00:00:00"},{"$f":"'Per Minute Rate (NCW)'!B35","v":0},{"$f":"'Per Minute Rate (NCW)'!C35","v":0},{"$f":"'Per Minute Rate (NCW)'!D35","v":0},{"$f":"'Per Minute Rate (NCW)'!E35","v":0},{"$f":"'Per Minute Rate (NCW)'!F35","v":0},{"$f":"'Per Minute Rate (NCW)'!G35","v":0},{"$f":"'Per Minute Rate (NCW)'!H35","v":0},{"$f":"'Per Minute Rate (NCW)'!K35","v":0}]
[{"$f":"'Per Minute Rate (NCW)'!A36","v":"00:00:00"},{"$f":"'Per Minute Rate (NCW)'!B36","v":0},{"$f":"'Per Minute Rate (NCW)'!C36","v":0},{"$f":"'Per Minute Rate (NCW)'!D36","v":0},{"$f":"'Per Minute Rate (NCW)'!E36","v":0},{"$f":"'Per Minute Rate (NCW)'!F36","v":0},{"$f":"'Per Minute Rate (NCW)'!G36","v":0},{"$f":"'Per Minute Rate (NCW)'!H36","v":0},{"$f":"'Per Minute Rate (NCW)'!K36","v":0}]
[{"$f":"'Per Minute Rate (NCW)'!A37","v":"00:00:00"},{"$f":"'Per Minute Rate (NCW)'!B37","v":0},{"$f":"'Per Minute Rate (NCW)'!C37","v":0},{"$f":"'Per Minute Rate (NCW)'!D37","v":0},{"$f":"'Per Minute Rate (NCW)'!E37","v":0},{"$f":"'Per Minute Rate (NCW)'!F37","v":0},{"$f":"'Per Minute Rate (NCW)'!G37","v":0},{"$f":"'Per Minute Rate (NCW)'!H37","v":0},{"$f":"'Per Minute Rate (NCW)'!K37","v":0}]
[{"$f":"'Per Minute Rate (NCW)'!A38","v":"00:00:00"},{"$f":"'Per Minute Rate (NCW)'!B38","v":0},{"$f":"'Per Minute Rate (NCW)'!C38","v":0},{"$f":"'Per Minute Rate (NCW)'!D38","v":0},{"$f":"'Per Minute Rate (NCW)'!E38","v":0},{"$f":"'Per Minute Rate (NCW)'!F38","v":0},{"$f":"'Per Minute Rate (NCW)'!G38","v":0},{"$f":"'Per Minute Rate (NCW)'!H38","v":0},{"$f":"'Per Minute Rate (NCW)'!K38","v":0}]
[{"$f":"'Per Minute Rate (NCW)'!A39","v":"00:00:00"},{"$f":"'Per Minute Rate (NCW)'!B39","v":0},{"$f":"'Per Minute Rate (NCW)'!C39","v":0},{"$f":"'Per Minute Rate (NCW)'!D39","v":0},{"$f":"'Per Minute Rate (NCW)'!E39","v":0},{"$f":"'Per Minute Rate (NCW)'!F39","v":0},{"$f":"'Per Minute Rate (NCW)'!G39","v":0},{"$f":"'Per Minute Rate (NCW)'!H39","v":0},{"$f":"'Per Minute Rate (NCW)'!K39","v":0}]
[{"$f":"'Per Minute Rate (NCW)'!A40","v":"00:00:00"},{"$f":"'Per Minute Rate (NCW)'!B40","v":0},{"$f":"'Per Minute Rate (NCW)'!C40","v":0},{"$f":"'Per Minute Rate (NCW)'!D40","v":0},{"$f":"'Per Minute Rate (NCW)'!E40","v":0},{"$f":"'Per Minute Rate (NCW)'!F40","v":0},{"$f":"'Per Minute Rate (NCW)'!G40","v":0},{"$f":"'Per Minute Rate (NCW)'!H40","v":0},{"$f":"'Per Minute Rate (NCW)'!K40","v":0}]
[{"$f":"'Per Minute Rate (NCW)'!A41","v":"00:00:00"},{"$f":"'Per Minute Rate (NCW)'!B41","v":0},{"$f":"'Per Minute Rate (NCW)'!C41","v":0},{"$f":"'Per Minute Rate (NCW)'!D41","v":0},{"$f":"'Per Minute Rate (NCW)'!E41","v":0},{"$f":"'Per Minute Rate (NCW)'!F41","v":0},{"$f":"'Per Minute Rate (NCW)'!G41","v":0},{"$f":"'Per Minute Rate (NCW)'!H41","v":0},{"$f":"'Per Minute Rate (NCW)'!K41","v":0}]
[{"$f":"'Per Minute Rate (NCW)'!A42","v":"00:00:00"},{"$f":"'Per Minute Rate (NCW)'!B42","v":0},{"$f":"'Per Minute Rate (NCW)'!C42","v":0},{"$f":"'Per Minute Rate (NCW)'!D42","v":0},{"$f":"'Per Minute Rate (NCW)'!E42","v":0},{"$f":"'Per Minute Rate (NCW)'!F42","v":0},{"$f":"'Per Minute Rate (NCW)'!G42","v":0},{"$f":"'Per Minute Rate (NCW)'!H42","v":0},{"$f":"'Per Minute Rate (NCW)'!K42","v":0}]
[{"$f":"'Per Minute Rate (NCW)'!A43","v":"00:00:00"},{"$f":"'Per Minute Rate (NCW)'!B43","v":0},{"$f":"'Per Minute Rate (NCW)'!C43","v":0},{"$f":"'Per Minute Rate (NCW)'!D43","v":0},{"$f":"'Per Minute Rate (NCW)'!E43","v":0},{"$f":"'Per Minute Rate (NCW)'!F43","v":0},{"$f":"'Per Minute Rate (NCW)'!G43","v":0},{"$f":"'Per Minute Rate (NCW)'!H43","v":0},{"$f":"'Per Minute Rate (NCW)'!K43","v":0}]
[{"$f":"'Per Minute Rate (NCW)'!A44","v":"00:00:00"},{"$f":"'Per Minute Rate (NCW)'!B44","v":0},{"$f":"'Per Minute Rate (NCW)'!C44","v":0},{"$f":"'Per Minute Rate (NCW)'!D44","v":0},{"$f":"'Per Minute Rate (NCW)'!E44","v":0},{"$f":"'Per Minute Rate (NCW)'!F44","v":0},{"$f":"'Per Minute Rate (NCW)'!G44","v":0},{"$f":"'Per Minute Rate (NCW)'!H44","v":0},{"$f":"'Per Minute Rate (NCW)'!K44","v":0}]
[{"$f":"'Per Minute Rate (NCW)'!A45","v":"00:00:00"},{"$f":"'Per Minute Rate (NCW)'!B45","v":0},{"$f":"'Per Minute Rate (NCW)'!C45","v":0},{"$f":"'Per Minute Rate (NCW)'!D45","v":0},{"$f":"'Per Minute Rate (NCW)'!E45","v":0},{"$f":"'Per Minute Rate (NCW)'!F45","v":0},{"$f":"'Per Minute Rate (NCW)'!G45","v":0},{"$f":"'Per Minute Rate (NCW)'!H45","v":0},{"$f":"'Per Minute Rate (NCW)'!K45","v":0}]
[{"$f":"'Per Minute Rate (NCW)'!A46","v":"00:00:00"},{"$f":"'Per Minute Rate (NCW)'!B46","v":0},{"$f":"'Per Minute Rate (NCW)'!C46","v":0},{"$f":"'Per Minute Rate (NCW)'!D46","v":0},{"$f":"'Per Minute Rate (NCW)'!E46","v":0},{"$f":"'Per Minute Rate (NCW)'!F46","v":0},{"$f":"'Per Minute Rate (NCW)'!G46","v":0},{"$f":"'Per Minute Rate (NCW)'!H46","v":0},{"$f":"'Per Minute Rate (NCW)'!K46","v":0}]
[{"$f":"'Per Minute Rate (NCW)'!A47","v":"00:00:00"},{"$f":"'Per Minute Rate (NCW)'!B47","v":0},{"$f":"'Per Minute Rate (NCW)'!C47","v":0},{"$f":"'Per Minute Rate (NCW)'!D47","v":0},{"$f":"'Per Minute Rate (NCW)'!E47","v":0},{"$f":"'Per Minute Rate (NCW)'!F47","v":0},{"$f":"'Per Minute Rate (NCW)'!G47","v":0},{"$f":"'Per Minute Rate (NCW)'!H47","v":0},{"$f":"'Per Minute Rate (NCW)'!K47","v":0}]
[{"$f":"'Per Minute Rate (NCW)'!A48","v":"00:00:00"},{"$f":"'Per Minute Rate (NCW)'!B48","v":0},{"$f":"'Per Minute Rate (NCW)'!C48","v":0},{"$f":"'Per Minute Rate (NCW)'!D48","v":0},{"$f":"'Per Minute Rate (NCW)'!E48","v":0},{"$f":"'Per Minute Rate (NCW)'!F48","v":0},{"$f":"'Per Minute Rate (NCW)'!G48","v":0},{"$f":"'Per Minute Rate (NCW)'!H48","v":0},{"$f":"'Per Minute Rate (NCW)'!K48","v":0}]
[{"$f":"'Per Minute Rate (NCW)'!A49","v":"00:00:00"},{"$f":"'Per Minute Rate (NCW)'!B49","v":0},{"$f":"'Per Minute Rate (NCW)'!C49","v":0},{"$f":"'Per Minute Rate (NCW)'!D49","v":0},{"$f":"'Per Minute Rate (NCW)'!E49","v":0},{"$f":"'Per Minute Rate (NCW)'!F49","v":0},{"$f":"'Per Minute Rate (NCW)'!G49","v":0},{"$f":"'Per Minute Rate (NCW)'!H49","v":0},{"$f":"'Per Minute Rate (NCW)'!K49","v":0}]
[{"$f":"'Per Minute Rate (NCW)'!A50","v":"00:00:00"},{"$f":"'Per Minute Rate (NCW)'!B50","v":0},{"$f":"'Per Minute Rate (NCW)'!C50","v":0},{"$f":"'Per Minute Rate (NCW)'!D50","v":0},{"$f":"'Per Minute Rate (NCW)'!E50","v":0},{"$f":"'Per Minute Rate (NCW)'!F50","v":0},{"$f":"'Per Minute Rate (NCW)'!G50","v":0},{"$f":"'Per Minute Rate (NCW)'!H50","v":0},{"$f":"'Per Minute Rate (NCW)'!K50","v":0}]
[{"$f":"'Per Minute Rate (NCW)'!A51","v":"00:00:00"},{"$f":"'Per Minute Rate (NCW)'!B51","v":0},{"$f":"'Per Minute Rate (NCW)'!C51","v":0},{"$f":"'Per Minute Rate (NCW)'!D51","v":0},{"$f":"'Per Minute Rate (NCW)'!E51","v":0},{"$f":"'Per Minute Rate (NCW)'!F51","v":0},{"$f":"'Per Minute Rate (NCW)'!G51","v":0},{"$f":"'Per Minute Rate (NCW)'!H51","v":0},{"$f":"'Per Minute Rate (NCW)'!K51","v":0}]
[{"$f":"'Per Minute Rate (NCW)'!A52","v":"00:00:00"},{"$f":"'Per Minute Rate (NCW)'!B52","v":0},{"$f":"'Per Minute Rate (NCW)'!C52","v":0},{"$f":"'Per Minute Rate (NCW)'!D52","v":0},{"$f":"'Per Minute Rate (NCW)'!E52","v":0},{"$f":"'Per Minute Rate (NCW)'!F52","v":0},{"$f":"'Per Minute Rate (NCW)'!G52","v":0},{"$f":"'Per Minute Rate (NCW)'!H52","v":0},{"$f":"'Per Minute Rate (NCW)'!K52","v":0}]
[{"$f":"'Per Minute Rate (NCW)'!A53","v":"00:00:00"},{"$f":"'Per Minute Rate (NCW)'!B53","v":0},{"$f":"'Per Minute Rate (NCW)'!C53","v":0},{"$f":"'Per Minute Rate (NCW)'!D53","v":0},{"$f":"'Per Minute Rate (NCW)'!E53","v":0},{"$f":"'Per Minute Rate (NCW)'!F53","v":0},{"$f":"'Per Minute Rate (NCW)'!G53","v":0},{"$f":"'Per Minute Rate (NCW)'!H53","v":0},{"$f":"'Per Minute Rate (NCW)'!K53","v":0}]
[{"$f":"'Per Minute Rate (NCW)'!A54","v":"00:00:00"},{"$f":"'Per Minute Rate (NCW)'!B54","v":0},{"$f":"'Per Minute Rate (NCW)'!C54","v":0},{"$f":"'Per Minute Rate (NCW)'!D54","v":0},{"$f":"'Per Minute Rate (NCW)'!E54","v":0},{"$f":"'Per Minute Rate (NCW)'!F54","v":0},{"$f":"'Per Minute Rate (NCW)'!G54","v":0},{"$f":"'Per Minute Rate (NCW)'!H54","v":0},{"$f":"'Per Minute Rate (NCW)'!K54","v":0}]
[{"$f":"'Per Minute Rate (NCW)'!A55","v":"00:00:00"},{"$f":"'Per Minute Rate (NCW)'!B55","v":0},{"$f":"'Per Minute Rate (NCW)'!C55","v":0},{"$f":"'Per Minute Rate (NCW)'!D55","v":0},{"$f":"'Per Minute Rate (NCW)'!E55","v":0},{"$f":"'Per Minute Rate (NCW)'!F55","v":0},{"$f":"'Per Minute Rate (NCW)'!G55","v":0},{"$f":"'Per Minute Rate (NCW)'!H55","v":0},{"$f":"'Per Minute Rate (NCW)'!K55","v":0}]
[{"$f":"'Per Minute Rate (NCW)'!A56","v":"00:00:00"},{"$f":"'Per Minute Rate (NCW)'!B56","v":0},{"$f":"'Per Minute Rate (NCW)'!C56","v":0},{"$f":"'Per Minute Rate (NCW)'!D56","v":0},{"$f":"'Per Minute Rate (NCW)'!E56","v":0},{"$f":"'Per Minute Rate (NCW)'!F56","v":0},{"$f":"'Per Minute Rate (NCW)'!G56","v":0},{"$f":"'Per Minute Rate (NCW)'!H56","v":0},{"$f":"'Per Minute Rate (NCW)'!K56","v":0}]
[{"$f":"'Per Minute Rate (NCW)'!A57","v":"00:00:00"},{"$f":"'Per Minute Rate (NCW)'!B57","v":0},{"$f":"'Per Minute Rate (NCW)'!C57","v":0},{"$f":"'Per Minute Rate (NCW)'!D57","v":0},{"$f":"'Per Minute Rate (NCW)'!E57","v":0},{"$f":"'Per Minute Rate (NCW)'!F57","v":0},{"$f":"'Per Minute Rate (NCW)'!G57","v":0},{"$f":"'Per Minute Rate (NCW)'!H57","v":0},{"$f":"'Per Minute Rate (NCW)'!K57","v":0}]
[{"$f":"'Per Minute Rate (NCW)'!A58","v":"00:00:00"},{"$f":"'Per Minute Rate (NCW)'!B58","v":0},{"$f":"'Per Minute Rate (NCW)'!C58","v":0},{"$f":"'Per Minute Rate (NCW)'!D58","v":0},{"$f":"'Per Minute Rate (NCW)'!E58","v":0},{"$f":"'Per Minute Rate (NCW)'!F58","v":0},{"$f":"'Per Minute Rate (NCW)'!G58","v":0},{"$f":"'Per Minute Rate (NCW)'!H58","v":0},{"$f":"'Per Minute Rate (NCW)'!K58","v":0}]
[{"$f":"'Per Minute Rate (NCW)'!A59","v":"00:00:00"},{"$f":"'Per Minute Rate (NCW)'!B59","v":0},{"$f":"'Per Minute Rate (NCW)'!C59","v":0},{"$f":"'Per Minute Rate (NCW)'!D59","v":0},{"$f":"'Per Minute Rate (NCW)'!E59","v":0},{"$f":"'Per Minute Rate (NCW)'!F59","v":0},{"$f":"'Per Minute Rate (NCW)'!G59","v":0},{"$f":"'Per Minute Rate (NCW)'!H59","v":0},{"$f":"'Per Minute Rate (NCW)'!K59","v":0}]
[{"$f":"'Per Minute Rate (NCW)'!A60","v":"00:00:00"},{"$f":"'Per Minute Rate (NCW)'!B60","v":0},{"$f":"'Per Minute Rate (NCW)'!C60","v":0},{"$f":"'Per Minute Rate (NCW)'!D60","v":0},{"$f":"'Per Minute Rate (NCW)'!E60","v":0},{"$f":"'Per Minute Rate (NCW)'!F60","v":0},{"$f":"'Per Minute Rate (NCW)'!G60","v":0},{"$f":"'Per Minute Rate (NCW)'!H60","v":0},{"$f":"'Per Minute Rate (NCW)'!K60","v":0}]
[{"$f":"'Per Minute Rate (NCW)'!A61","v":"00:00:00"},{"$f":"'Per Minute Rate (NCW)'!B61","v":0},{"$f":"'Per Minute Rate (NCW)'!C61","v":0},{"$f":"'Per Minute Rate (NCW)'!D61","v":0},{"$f":"'Per Minute Rate (NCW)'!E61","v":0},{"$f":"'Per Minute Rate (NCW)'!F61","v":0},{"$f":"'Per Minute Rate (NCW)'!G61","v":0},{"$f":"'Per Minute Rate (NCW)'!H61","v":0},{"$f":"'Per Minute Rate (NCW)'!K61","v":0}]
[{"$f":"'Per Minute Rate (NCW)'!A62","v":"00:00:00"},{"$f":"'Per Minute Rate (NCW)'!B62","v":0},{"$f":"'Per Minute Rate (NCW)'!C62","v":0},{"$f":"'Per Minute Rate (NCW)'!D62","v":0},{"$f":"'Per Minute Rate (NCW)'!E62","v":0},{"$f":"'Per Minute Rate (NCW)'!F62","v":0},{"$f":"'Per Minute Rate (NCW)'!G62","v":0},{"$f":"'Per Minute Rate (NCW)'!H62","v":0},{"$f":"'Per Minute Rate (NCW)'!K62","v":0}]
[{"$f":"'Per Folio Rate - \"OT\"'!A5","v":"00:00:00"},{"$f":"'Per Folio Rate - \"OT\"'!B5","v":0},{"$f":"'Per Folio Rate - \"OT\"'!C5","v":0},{"$f":"'Per Folio Rate - \"OT\"'!D5","v":0},"n/a",{"$f":"'Per Folio Rate - \"OT\"'!E5","v":0},{"$f":"'Per Folio Rate - \"OT\"'!F5","v":0},{"$f":"'Per Folio Rate - \"OT\"'!G5","v":0},{"$f":"'Per Folio Rate - \"OT\"'!H5","v":0}]
[{"$f":"'Per Folio Rate - \"OT\"'!A6","v":"00:00:00"},{"$f":"'Per Folio Rate - \"OT\"'!B6","v":0},{"$f":"'Per Folio Rate - \"OT\"'!C6","v":0},{"$f":"'Per Folio Rate - \"OT\"'!D6","v":0},"n/a",{"$f":"'Per Folio Rate - \"OT\"'!E6","v":0},{"$f":"'Per Folio Rate - \"OT\"'!F6","v":0},{"$f":"'Per Folio Rate - \"OT\"'!G6","v":0},{"$f":"'Per Folio Rate - \"OT\"'!H6","v":0}]
[{"$f":"'Per Folio Rate - \"OT\"'!A7","v":"00:00:00"},{"$f":"'Per Folio Rate - \"OT\"'!B7","v":0},{"$f":"'Per Folio Rate - \"OT\"'!C7","v":0},{"$f":"'Per Folio Rate - \"OT\"'!D7","v":0},"n/a",{"$f":"'Per Folio Rate - \"OT\"'!E7","v":0},{"$f":"'Per Folio Rate - \"OT\"'!F7","v":0},{"$f":"'Per Folio Rate - \"OT\"'!G7","v":0},{"$f":"'Per Folio Rate - \"OT\"'!H7","v":0}]
[{"$f":"'Per Folio Rate - \"OT\"'!A8","v":"00:00:00"},{"$f":"'Per Folio Rate - \"OT\"'!B8","v":0},{"$f":"'Per Folio Rate - \"OT\"'!C8","v":0},{"$f":"'Per Folio Rate - \"OT\"'!D8","v":0},"n/a",{"$f":"'Per Folio Rate - \"OT\"'!E8","v":0},{"$f":"'Per Folio Rate - \"OT\"'!F8","v":0},{"$f":"'Per Folio Rate - \"OT\"'!G8","v":0},{"$f":"'Per Folio Rate - \"OT\"'!H8","v":0}]
[{"$f":"'Per Folio Rate - \"OT\"'!A9","v":"00:00:00"},{"$f":"'Per Folio Rate - \"OT\"'!B9","v":0},{"$f":"'Per Folio Rate - \"OT\"'!C9","v":0},{"$f":"'Per Folio Rate - \"OT\"'!D9","v":0},"n/a",{"$f":"'Per Folio Rate - \"OT\"'!E9","v":0},{"$f":"'Per Folio Rate - \"OT\"'!F9","v":0},{"$f":"'Per Folio Rate - \"OT\"'!G9","v":0},{"$f":"'Per Folio Rate - \"OT\"'!H9","v":0}]
[{"$f":"'Per Folio Rate - \"OT\"'!A10","v":"00:00:00"},{"$f":"'Per Folio Rate - \"OT\"'!B10","v":0},{"$f":"'Per Folio Rate - \"OT\"'!C10","v":0},{"$f":"'Per Folio Rate - \"OT\"'!D10","v":0},"n/a",{"$f":"'Per Folio Rate - \"OT\"'!E10","v":0},{"$f":"'Per Folio Rate - \"OT\"'!F10","v":0},{"$f":"'Per Folio Rate - \"OT\"'!G10","v":0},{"$f":"'Per Folio Rate - \"OT\"'!H10","v":0}]
[{"$f":"'Per Folio Rate - \"OT\"'!A11","v":"00:00:00"},{"$f":"'Per Folio Rate - \"OT\"'!B11","v":0},{"$f":"'Per Folio Rate - \"OT\"'!C11","v":0},{"$f":"'Per Folio Rate - \"OT\"'!D11","v":0},"n/a",{"$f":"'Per Folio Rate - \"OT\"'!E11","v":0},{"$f":"'Per Folio Rate - \"OT\"'!F11","v":0},{"$f":"'Per Folio Rate - \"OT\"'!G11","v":0},{"$f":"'Per Folio Rate - \"OT\"'!H11","v":0}]
[{"$f":"'Per Folio Rate - \"OT\"'!A12","v":"00:00:00"},{"$f":"'Per Folio Rate - \"OT\"'!B12","v":0},{"$f":"'Per Folio Rate - \"OT\"'!C12","v":0},{"$f":"'Per Folio Rate - \"OT\"'!D12","v":0},"n/a",{"$f":"'Per Folio Rate - \"OT\"'!E12","v":0},{"$f":"'Per Folio Rate - \"OT\"'!F12","v":0},{"$f":"'Per Folio Rate - \"OT\"'!G12","v":0},{"$f":"'Per Folio Rate - \"OT\"'!H12","v":0}]
[{"$f":"'Per Folio Rate - \"OT\"'!A13","v":"00:00:00"},{"$f":"'Per Folio Rate - \"OT\"'!B13","v":0},{"$f":"'Per Folio Rate - \"OT\"'!C13","v":0},{"$f":"'Per Folio Rate - \"OT\"'!D13","v":0},"n/a",{"$f":"'Per Folio Rate - \"OT\"'!E13","v":0},{"$f":"'Per Folio Rate - \"OT\"'!F13","v":0},{"$f":"'Per Folio Rate - \"OT\"'!G13","v":0},{"$f":"'Per Folio Rate - \"OT\"'!H13","v":0}]
[{"$f":"'Per Folio Rate - \"OT\"'!A14","v":"00:00:00"},{"$f":"'Per Folio Rate - \"OT\"'!B14","v":0},{"$f":"'Per Folio Rate - \"OT\"'!C14","v":0},{"$f":"'Per Folio Rate - \"OT\"'!D14","v":0},"n/a",{"$f":"'Per Folio Rate - \"OT\"'!E14","v":0},{"$f":"'Per Folio Rate - \"OT\"'!F14","v":0},{"$f":"'Per Folio Rate - \"OT\"'!G14","v":0},{"$f":"'Per Folio Rate - \"OT\"'!H14","v":0}]
[{"$f":"'Per Folio Rate - \"OT\"'!A15","v":"00:00:00"},{"$f":"'Per Folio Rate - \"OT\"'!B15","v":0},{"$f":"'Per Folio Rate - \"OT\"'!C15","v":0},{"$f":"'Per Folio Rate - \"OT\"'!D15","v":0},"n/a",{"$f":"'Per Folio Rate - \"OT\"'!E15","v":0},{"$f":"'Per Folio Rate - \"OT\"'!F15","v":0},{"$f":"'Per Folio Rate - \"OT\"'!G15","v":0},{"$f":"'Per Folio Rate - \"OT\"'!H15","v":0}]
[{"$f":"'Per Folio Rate - \"OT\"'!A16","v":"00:00:00"},{"$f":"'Per Folio Rate - \"OT\"'!B16","v":0},{"$f":"'Per Folio Rate - \"OT\"'!C16","v":0},{"$f":"'Per Folio Rate - \"OT\"'!D16","v":0},"n/a",{"$f":"'Per Folio Rate - \"OT\"'!E16","v":0},{"$f":"'Per Folio Rate - \"OT\"'!F16","v":0},{"$f":"'Per Folio Rate - \"OT\"'!G16","v":0},{"$f":"'Per Folio Rate - \"OT\"'!H16","v":0}]
[{"$f":"'Per Folio Rate - \"OT\"'!A17","v":"00:00:00"},{"$f":"'Per Folio Rate - \"OT\"'!B17","v":0},{"$f":"'Per Folio Rate - \"OT\"'!C17","v":0},{"$f":"'Per Folio Rate - \"OT\"'!D17","v":0},"n/a",{"$f":"'Per Folio Rate - \"OT\"'!E17","v":0},{"$f":"'Per Folio Rate - \"OT\"'!F17","v":0},{"$f":"'Per Folio Rate - \"OT\"'!G17","v":0},{"$f":"'Per Folio Rate - \"OT\"'!H17","v":0}]
[{"$f":"'Per Folio Rate - \"OT\"'!A18","v":"00:00:00"},{"$f":"'Per Folio Rate - \"OT\"'!B18","v":0},{"$f":"'Per Folio Rate - \"OT\"'!C18","v":0},{"$f":"'Per Folio Rate - \"OT\"'!D18","v":0},"n/a",{"$f":"'Per Folio Rate - \"OT\"'!E18","v":0},{"$f":"'Per Folio Rate - \"OT\"'!F18","v":0},{"$f":"'Per Folio Rate - \"OT\"'!G18","v":0},{"$f":"'Per Folio Rate - \"OT\"'!H18","v":0}]
[{"$f":"'Per Folio Rate - \"OT\"'!A19","v":"00:00:00"},{"$f":"'Per Folio Rate - \"OT\"'!B19","v":0},{"$f":"'Per Folio Rate - \"OT\"'!C19","v":0},{"$f":"'Per Folio Rate - \"OT\"'!D19","v":0},"n/a",{"$f":"'Per Folio Rate - \"OT\"'!E19","v":0},{"$f":"'Per Folio Rate - \"OT\"'!F19","v":0},{"$f":"'Per Folio Rate - \"OT\"'!G19","v":0},{"$f":"'Per Folio Rate - \"OT\"'!H19","v":0}]
[{"$f":"'Per Folio Rate - \"OT\"'!A20","v":"00:00:00"},{"$f":"'Per Folio Rate - \"OT\"'!B20","v":0},{"$f":"'Per Folio Rate - \"OT\"'!C20","v":0},{"$f":"'Per Folio Rate - \"OT\"'!D20","v":0},"n/a",{"$f":"'Per Folio Rate - \"OT\"'!E20","v":0},{"$f":"'Per Folio Rate - \"OT\"'!F20","v":0},{"$f":"'Per Folio Rate - \"OT\"'!G20","v":0},{"$f":"'Per Folio Rate - \"OT\"'!H20","v":0}]
[{"$f":"'Per Folio Rate - \"OT\"'!A21","v":"00:00:00"},{"$f":"'Per Folio Rate - \"OT\"'!B21","v":0},{"$f":"'Per Folio Rate - \"OT\"'!C21","v":0},{"$f":"'Per Folio Rate - \"OT\"'!D21","v":0},"n/a",{"$f":"'Per Folio Rate - \"OT\"'!E21","v":0},{"$f":"'Per Folio Rate - \"OT\"'!F21","v":0},{"$f":"'Per Folio Rate - \"OT\"'!G21","v":0},{"$f":"'Per Folio Rate - \"OT\"'!H21","v":0}]
[{"$f":"'Per Folio Rate - \"OT\"'!A22","v":"00:00:00"},{"$f":"'Per Folio Rate - \"OT\"'!B22","v":0},{"$f":"'Per Folio Rate - \"OT\"'!C22","v":0},{"$f":"'Per Folio Rate - \"OT\"'!D22","v":0},"n/a",{"$f":"'Per Folio Rate - \"OT\"'!E22","v":0},{"$f":"'Per Folio Rate - \"OT\"'!F22","v":0},{"$f":"'Per Folio Rate - \"OT\"'!G22","v":0},{"$f":"'Per Folio Rate - \"OT\"'!H22","v":0}]
[{"$f":"'Per Folio Rate - \"OT\"'!A23","v":"00:00:00"},{"$f":"'Per Folio Rate - \"OT\"'!B23","v":0},{"$f":"'Per Folio Rate - \"OT\"'!C23","v":0},{"$f":"'Per Folio Rate - \"OT\"'!D23","v":0},"n/a",{"$f":"'Per Folio Rate - \"OT\"'!E23","v":0},{"$f":"'Per Folio Rate - \"OT\"'!F23","v":0},{"$f":"'Per Folio Rate - \"OT\"'!G23","v":0},{"$f":"'Per Folio Rate - \"OT\"'!H23","v":0}]
[{"$f":"'Per Folio Rate - \"OT\"'!A24","v":"00:00:00"},{"$f":"'Per Folio Rate - \"OT\"'!B24","v":0},{"$f":"'Per Folio Rate - \"OT\"'!C24","v":0},{"$f":"'Per Folio Rate - \"OT\"'!D24","v":0},"n/a",{"$f":"'Per Folio Rate - \"OT\"'!E24","v":0},{"$f":"'Per Folio Rate - \"OT\"'!F24","v":0},{"$f":"'Per Folio Rate - \"OT\"'!G24","v":0},{"$f":"'Per Folio Rate - \"OT\"'!H24","v":0}]
[{"$f":"'Per Folio Rate - \"OT\"'!A25","v":"00:00:00"},{"$f":"'Per Folio Rate - \"OT\"'!B25","v":0},{"$f":"'Per Folio Rate - \"OT\"'!C25","v":0},{"$f":"'Per Folio Rate - \"OT\"'!D25","v":0},"n/a",{"$f":"'Per Folio Rate - \"OT\"'!E25","v":0},{"$f":"'Per Folio Rate - \"OT\"'!F25","v":0},{"$f":"'Per Folio Rate - \"OT\"'!G25","v":0},{"$f":"'Per Folio Rate - \"OT\"'!H25","v":0}]
[{"$f":"'Per Folio Rate - \"OT\"'!A26","v":"00:00:00"},{"$f":"'Per Folio Rate - \"OT\"'!B26","v":0},{"$f":"'Per Folio Rate - \"OT\"'!C26","v":0},{"$f":"'Per Folio Rate - \"OT\"'!D26","v":0},"n/a",{"$f":"'Per Folio Rate - \"OT\"'!E26","v":0},{"$f":"'Per Folio Rate - \"OT\"'!F26","v":0},{"$f":"'Per Folio Rate - \"OT\"'!G26","v":0},{"$f":"'Per Folio Rate - \"OT\"'!H26","v":0}]
[{"$f":"'Per Folio Rate - \"OT\"'!A27","v":"00:00:00"},{"$f":"'Per Folio Rate - \"OT\"'!B27","v":0},{"$f":"'Per Folio Rate - \"OT\"'!C27","v":0},{"$f":"'Per Folio Rate - \"OT\"'!D27","v":0},"n/a",{"$f":"'Per Folio Rate - \"OT\"'!E27","v":0},{"$f":"'Per Folio Rate - \"OT\"'!F27","v":0},{"$f":"'Per Folio Rate - \"OT\"'!G27","v":0},{"$f":"'Per Folio Rate - \"OT\"'!H27","v":0}]
[{"$f":"'Per Folio Rate - \"OT\"'!A28","v":"00:00:00"},{"$f":"'Per Folio Rate - \"OT\"'!B28","v":0},{"$f":"'Per Folio Rate - \"OT\"'!C28","v":0},{"$f":"'Per Folio Rate - \"OT\"'!D28","v":0},"n/a",{"$f":"'Per Folio Rate - \"OT\"'!E28","v":0},{"$f":"'Per Folio Rate - \"OT\"'!F28","v":0},{"$f":"'Per Folio Rate - \"OT\"'!G28","v":0},{"$f":"'Per Folio Rate - \"OT\"'!H28","v":0}]
[{"$f":"'Per Folio Rate - \"OT\"'!A29","v":"00:00:00"},{"$f":"'Per Folio Rate - \"OT\"'!B29","v":0},{"$f":"'Per Folio Rate - \"OT\"'!C29","v":0},{"$f":"'Per Folio Rate - \"OT\"'!D29","v":0},"n/a",{"$f":"'Per Folio Rate - \"OT\"'!E29","v":0},{"$f":"'Per Folio Rate - \"OT\"'!F29","v":0},{"$f":"'Per Folio Rate - \"OT\"'!G29","v":0},{"$f":"'Per Folio Rate - \"OT\"'!H29","v":0}]
[{"$f":"'Per Folio Rate - \"OT\"'!A30","v":"00:00:00"},{"$f":"'Per Folio Rate - \"OT\"'!B30","v":0},{"$f":"'Per Folio Rate - \"OT\"'!C30","v":0},{"$f":"'Per Folio Rate - \"OT\"'!D30","v":0},"n/a",{"$f":"'Per Folio Rate - \"OT\"'!E30","v":0},{"$f":"'Per Folio Rate - \"OT\"'!F30","v":0},{"$f":"'Per Folio Rate - \"OT\"'!G30","v":0},{"$f":"'Per Folio Rate - \"OT\"'!H30","v":0}]
[{"$f":"'Per Folio Rate - \"OT\"'!A31","v":"00:00:00"},{"$f":"'Per Folio Rate - \"OT\"'!B31","v":0},{"$f":"'Per Folio Rate - \"OT\"'!C31","v":0},{"$f":"'Per Folio Rate - \"OT\"'!D31","v":0},"n/a",{"$f":"'Per Folio Rate - \"OT\"'!E31","v":0},{"$f":"'Per Folio Rate - \"OT\"'!F31","v":0},{"$f":"'Per Folio Rate - \"OT\"'!G31","v":0},{"$f":"'Per Folio Rate - \"OT\"'!H31","v":0}]
[{"$f":"'Per Folio Rate - \"OT\"'!A32","v":"00:00:00"},{"$f":"'Per Folio Rate - \"OT\"'!B32","v":0},{"$f":"'Per Folio Rate - \"OT\"'!C32","v":0},{"$f":"'Per Folio Rate - \"OT\"'!D32","v":0},"n/a",{"$f":"'Per Folio Rate - \"OT\"'!E32","v":0},{"$f":"'Per Folio Rate - \"OT\"'!F32","v":0},{"$f":"'Per Folio Rate - \"OT\"'!G32","v":0},{"$f":"'Per Folio Rate - \"OT\"'!H32","v":0}]
[{"$f":"'Per Folio Rate - \"OT\"'!A33","v":"00:00:00"},{"$f":"'Per Folio Rate - \"OT\"'!B33","v":0},{"$f":"'Per Folio Rate - \"OT\"'!C33","v":0},{"$f":"'Per Folio Rate - \"OT\"'!D33","v":0},"n/a",{"$f":"'Per Folio Rate - \"OT\"'!E33","v":0},{"$f":"'Per Folio Rate - \"OT\"'!F33","v":0},{"$f":"'Per Folio Rate - \"OT\"'!G33","v":0},{"$f":"'Per Folio Rate - \"OT\"'!H33","v":0}]
[{"$f":"'Per Folio Rate - \"OT\"'!A34","v":"00:00:00"},{"$f":"'Per Folio Rate - \"OT\"'!B34","v":0},{"$f":"'Per Folio Rate - \"OT\"'!C34","v":0},{"$f":"'Per Folio Rate - \"OT\"'!D34","v":0},"n/a",{"$f":"'Per Folio Rate - \"OT\"'!E34","v":0},{"$f":"'Per Folio Rate - \"OT\"'!F34","v":0},{"$f":"'Per Folio Rate - \"OT\"'!G34","v":0},{"$f":"'Per Folio Rate - \"OT\"'!H34","v":0}]
[{"$f":"'Per Folio Rate - \"OT\"'!A35","v":"00:00:00"},{"$f":"'Per Folio Rate - \"OT\"'!B35","v":0},{"$f":"'Per Folio Rate - \"OT\"'!C35","v":0},{"$f":"'Per Folio Rate - \"OT\"'!D35","v":0},"n/a",{"$f":"'Per Folio Rate - \"OT\"'!E35","v":0},{"$f":"'Per Folio Rate - \"OT\"'!F35","v":0},{"$f":"'Per Folio Rate - \"OT\"'!G35","v":0},{"$f":"'Per Folio Rate - \"OT\"'!H35","v":0}]
[{"$f":"'Per Folio Rate - \"OT\"'!A36","v":"00:00:00"},{"$f":"'Per Folio Rate - \"OT\"'!B36","v":0},{"$f":"'Per Folio Rate - \"OT\"'!C36","v":0},{"$f":"'Per Folio Rate - \"OT\"'!D36","v":0},"n/a",{"$f":"'Per Folio Rate - \"OT\"'!E36","v":0},{"$f":"'Per Folio Rate - \"OT\"'!F36","v":0},{"$f":"'Per Folio Rate - \"OT\"'!G36","v":0},{"$f":"'Per Folio Rate - \"OT\"'!H36","v":0}]
[{"$f":"'Per Folio Rate - \"OT\"'!A37","v":"00:00:00"},{"$f":"'Per Folio Rate - \"OT\"'!B37","v":0},{"$f":"'Per Folio Rate - \"OT\"'!C37","v":0},{"$f":"'Per Folio Rate - \"OT\"'!D37","v":0},"n/a",{"$f":"'Per Folio Rate - \"OT\"'!E37","v":0},{"$f":"'Per Folio Rate - \"OT\"'!F37","v":0},{"$f":"'Per Folio Rate - \"OT\"'!G37","v":0},{"$f":"'Per Folio Rate - \"OT\"'!H37","v":0}]
[{"$f":"'Per Folio Rate - \"OT\"'!A38","v":"00:00:00"},{"$f":"'Per Folio Rate - \"OT\"'!B38","v":0},{"$f":"'Per Folio Rate - \"OT\"'!C38","v":0},{"$f":"'Per Folio Rate - \"OT\"'!D38","v":0},"n/a",{"$f":"'Per Folio Rate - \"OT\"'!E38","v":0},{"$f":"'Per Folio Rate - \"OT\"'!F38","v":0},{"$f":"'Per Folio Rate - \"OT\"'!G38","v":0},{"$f":"'Per Folio Rate - \"OT\"'!H38","v":0}]
[{"$f":"'Per Folio Rate - \"OT\"'!A39","v":"00:00:00"},{"$f":"'Per Folio Rate - \"OT\"'!B39","v":0},{"$f":"'Per Folio Rate - \"OT\"'!C39","v":0},{"$f":"'Per Folio Rate - \"OT\"'!D39","v":0},"n/a",{"$f":"'Per Folio Rate - \"OT\"'!E39","v":0},{"$f":"'Per Folio Rate - \"OT\"'!F39","v":0},{"$f":"'Per Folio Rate - \"OT\"'!G39","v":0},{"$f":"'Per Folio Rate - \"OT\"'!H39","v":0}]
[{"$f":"'Per Folio Rate - \"OT\"'!A40","v":"00:00:00"},{"$f":"'Per Folio Rate - \"OT\"'!B40","v":0},{"$f":"'Per Folio Rate - \"OT\"'!C40","v":0},{"$f":"'Per Folio Rate - \"OT\"'!D40","v":0},"n/a",{"$f":"'Per Folio Rate - \"OT\"'!E40","v":0},{"$f":"'Per Folio Rate - \"OT\"'!F40","v":0},{"$f":"'Per Folio Rate - \"OT\"'!G40","v":0},{"$f":"'Per Folio Rate - \"OT\"'!H40","v":0}]
[{"$f":"'Per Folio Rate - \"OT\"'!A41","v":"00:00:00"},{"$f":"'Per Folio Rate - \"OT\"'!B41","v":0},{"$f":"'Per Folio Rate - \"OT\"'!C41","v":0},{"$f":"'Per Folio Rate - \"OT\"'!D41","v":0},"n/a",{"$f":"'Per Folio Rate - \"OT\"'!E41","v":0},{"$f":"'Per Folio Rate - \"OT\"'!F41","v":0},{"$f":"'Per Folio Rate - \"OT\"'!G41","v":0},{"$f":"'Per Folio Rate - \"OT\"'!H41","v":0}]
[{"$f":"'Per Folio Rate - \"OT\"'!A42","v":"00:00:00"},{"$f":"'Per Folio Rate - \"OT\"'!B42","v":0},{"$f":"'Per Folio Rate - \"OT\"'!C42","v":0},{"$f":"'Per Folio Rate - \"OT\"'!D42","v":0},"n/a",{"$f":"'Per Folio Rate - \"OT\"'!E42","v":0},{"$f":"'Per Folio Rate - \"OT\"'!F42","v":0},{"$f":"'Per Folio Rate - \"OT\"'!G42","v":0},{"$f":"'Per Folio Rate - \"OT\"'!H42","v":0}]
[{"$f":"'Per Folio Rate - \"OT\"'!A43","v":"00:00:00"},{"$f":"'Per Folio Rate - \"OT\"'!B43","v":0},{"$f":"'Per Folio Rate - \"OT\"'!C43","v":0},{"$f":"'Per Folio Rate - \"OT\"'!D43","v":0},"n/a",{"$f":"'Per Folio Rate - \"OT\"'!E43","v":0},{"$f":"'Per Folio Rate - \"OT\"'!F43","v":0},{"$f":"'Per Folio Rate - \"OT\"'!G43","v":0},{"$f":"'Per Folio Rate - \"OT\"'!H43","v":0}]
[{"$f":"'Per Folio Rate - \"OT\"'!A44","v":"00:00:00"},{"$f":"'Per Folio Rate - \"OT\"'!B44","v":0},{"$f":"'Per Folio Rate - \"OT\"'!C44","v":0},{"$f":"'Per Folio Rate - \"OT\"'!D44","v":0},"n/a",{"$f":"'Per Folio Rate - \"OT\"'!E44","v":0},{"$f":"'Per Folio Rate - \"OT\"'!F44","v":0},{"$f":"'Per Folio Rate - \"OT\"'!G44","v":0},{"$f":"'Per Folio Rate - \"OT\"'!H44","v":0}]
[{"$f":"'Per Folio Rate - \"OT\"'!A45","v":"00:00:00"},{"$f":"'Per Folio Rate - \"OT\"'!B45","v":0},{"$f":"'Per Folio Rate - \"OT\"'!C45","v":0},{"$f":"'Per Folio Rate - \"OT\"'!D45","v":0},"n/a",{"$f":"'Per Folio Rate - \"OT\"'!E45","v":0},{"$f":"'Per Folio Rate - \"OT\"'!F45","v":0},{"$f":"'Per Folio Rate - \"OT\"'!G45","v":0},{"$f":"'Per Folio Rate - \"OT\"'!H45","v":0}]
[{"$f":"'Per Folio Rate - \"OT\"'!A46","v":"00:00:00"},{"$f":"'Per Folio Rate - \"OT\"'!B46","v":0},{"$f":"'Per Folio Rate - \"OT\"'!C46","v":0},{"$f":"'Per Folio Rate - \"OT\"'!D46","v":0},"n/a",{"$f":"'Per Folio Rate - \"OT\"'!E46","v":0},{"$f":"'Per Folio Rate - \"OT\"'!F46","v":0},{"$f":"'Per Folio Rate - \"OT\"'!G46","v":0},{"$f":"'Per Folio Rate - \"OT\"'!H46","v":0}]
[{"$f":"'Per Folio Rate - \"OT\"'!A47","v":"00:00:00"},{"$f":"'Per Folio Rate - \"OT\"'!B47","v":0},{"$f":"'Per Folio Rate - \"OT\"'!C47","v":0},{"$f":"'Per Folio Rate - \"OT\"'!D47","v":0},"n/a",{"$f":"'Per Folio Rate - \"OT\"'!E47","v":0},{"$f":"'Per Folio Rate - \"OT\"'!F47","v":0},{"$f":"'Per Folio Rate - \"OT\"'!G47","v":0},{"$f":"'Per Folio Rate - \"OT\"'!H47","v":0}]
[{"$f":"'Per Folio Rate - \"OT\"'!A48","v":"00:00:00"},{"$f":"'Per Folio Rate - \"OT\"'!B48","v":0},{"$f":"'Per Folio Rate - \"OT\"'!C48","v":0},{"$f":"'Per Folio Rate - \"OT\"'!D48","v":0},"n/a",{"$f":"'Per Folio Rate - \"OT\"'!E48","v":0},{"$f":"'Per Folio Rate - \"OT\"'!F48","v":0},{"$f":"'Per Folio Rate - \"OT\"'!G48","v":0},{"$f":"'Per Folio Rate - \"OT\"'!H48","v":0}]
[{"$f":"'Per Folio Rate - \"OT\"'!A49","v":"00:00:00"},{"$f":"'Per Folio Rate - \"OT\"'!B49","v":0},{"$f":"'Per Folio Rate - \"OT\"'!C49","v":0},{"$f":"'Per Folio Rate - \"OT\"'!D49","v":0},"n/a",{"$f":"'Per Folio Rate - \"OT\"'!E49","v":0},{"$f":"'Per Folio Rate - \"OT\"'!F49","v":0},{"$f":"'Per Folio Rate - \"OT\"'!G49","v":0},{"$f":"'Per Folio Rate - \"OT\"'!H49","v":0}]
[{"$f":"'Per Folio Rate - \"CR\"'!A5","v":"00:00:00"},{"$f":"'Per Folio Rate - \"CR\"'!B5","v":0},{"$f":"'Per Folio Rate - \"CR\"'!C5","v":0},{"$f":"'Per Folio Rate - \"CR\"'!D5","v":0},"n/a",{"$f":"'Per Folio Rate - \"CR\"'!E5","v":0},{"$f":"'Per Folio Rate - \"CR\"'!F5","v":0},{"$f":"'Per Folio Rate - \"CR\"'!G5","v":0},{"$f":"'Per Folio Rate - \"CR\"'!H5","v":0}]
[{"$f":"'Per Folio Rate - \"CR\"'!A6","v":"00:00:00"},{"$f":"'Per Folio Rate - \"CR\"'!B6","v":0},{"$f":"'Per Folio Rate - \"CR\"'!C6","v":0},{"$f":"'Per Folio Rate - \"CR\"'!D6","v":0},"n/a",{"$f":"'Per Folio Rate - \"CR\"'!E6","v":0},{"$f":"'Per Folio Rate - \"CR\"'!F6","v":0},{"$f":"'Per Folio Rate - \"CR\"'!G6","v":0},{"$f":"'Per Folio Rate - \"CR\"'!H6","v":0}]
[{"$f":"'Per Folio Rate - \"CR\"'!A7","v":"00:00:00"},{"$f":"'Per Folio Rate - \"CR\"'!B7","v":0},{"$f":"'Per Folio Rate - \"CR\"'!C7","v":0},{"$f":"'Per Folio Rate - \"CR\"'!D7","v":0},"n/a",{"$f":"'Per Folio Rate - \"CR\"'!E7","v":0},{"$f":"'Per Folio Rate - \"CR\"'!F7","v":0},{"$f":"'Per Folio Rate - \"CR\"'!G7","v":0},{"$f":"'Per Folio Rate - \"CR\"'!H7","v":0}]
[{"$f":"'Per Folio Rate - \"CR\"'!A8","v":"00:00:00"},{"$f":"'Per Folio Rate - \"CR\"'!B8","v":0},{"$f":"'Per Folio Rate - \"CR\"'!C8","v":0},{"$f":"'Per Folio Rate - \"CR\"'!D8","v":0},"n/a",{"$f":"'Per Folio Rate - \"CR\"'!E8","v":0},{"$f":"'Per Folio Rate - \"CR\"'!F8","v":0},{"$f":"'Per Folio Rate - \"CR\"'!G8","v":0},{"$f":"'Per Folio Rate - \"CR\"'!H8","v":0}]
[{"$f":"'Per Folio Rate - \"CR\"'!A9","v":"00:00:00"},{"$f":"'Per Folio Rate - \"CR\"'!B9","v":0},{"$f":"'Per Folio Rate - \"CR\"'!C9","v":0},{"$f":"'Per Folio Rate - \"CR\"'!D9","v":0},"n/a",{"$f":"'Per Folio Rate - \"CR\"'!E9","v":0},{"$f":"'Per Folio Rate - \"CR\"'!F9","v":0},{"$f":"'Per Folio Rate - \"CR\"'!G9","v":0},{"$f":"'Per Folio Rate - \"CR\"'!H9","v":0}]
[{"$f":"'Per Folio Rate - \"CR\"'!A10","v":"00:00:00"},{"$f":"'Per Folio Rate - \"CR\"'!B10","v":0},{"$f":"'Per Folio Rate - \"CR\"'!C10","v":0},{"$f":"'Per Folio Rate - \"CR\"'!D10","v":0},"n/a",{"$f":"'Per Folio Rate - \"CR\"'!E10","v":0},{"$f":"'Per Folio Rate - \"CR\"'!F10","v":0},{"$f":"'Per Folio Rate - \"CR\"'!G10","v":0},{"$f":"'Per Folio Rate - \"CR\"'!H10","v":0}]
[{"$f":"'Per Folio Rate - \"CR\"'!A11","v":"00:00:00"},{"$f":"'Per Folio Rate - \"CR\"'!B11","v":0},{"$f":"'Per Folio Rate - \"CR\"'!C11","v":0},{"$f":"'Per Folio Rate - \"CR\"'!D11","v":0},"n/a",{"$f":"'Per Folio Rate - \"CR\"'!E11","v":0},{"$f":"'Per Folio Rate - \"CR\"'!F11","v":0},{"$f":"'Per Folio Rate - \"CR\"'!G11","v":0},{"$f":"'Per Folio Rate - \"CR\"'!H11","v":0}]
[{"$f":"'Per Folio Rate - \"CR\"'!A12","v":"00:00:00"},{"$f":"'Per Folio Rate - \"CR\"'!B12","v":0},{"$f":"'Per Folio Rate - \"CR\"'!C12","v":0},{"$f":"'Per Folio Rate - \"CR\"'!D12","v":0},"n/a",{"$f":"'Per Folio Rate - \"CR\"'!E12","v":0},{"$f":"'Per Folio Rate - \"CR\"'!F12","v":0},{"$f":"'Per Folio Rate - \"CR\"'!G12","v":0},{"$f":"'Per Folio Rate - \"CR\"'!H12","v":0}]
[{"$f":"'Per Folio Rate - \"CR\"'!A13","v":"00:00:00"},{"$f":"'Per Folio Rate - \"CR\"'!B13","v":0},{"$f":"'Per Folio Rate - \"CR\"'!C13","v":0},{"$f":"'Per Folio Rate - \"CR\"'!D13","v":0},"n/a",{"$f":"'Per Folio Rate - \"CR\"'!E13","v":0},{"$f":"'Per Folio Rate - \"CR\"'!F13","v":0},{"$f":"'Per Folio Rate - \"CR\"'!G13","v":0},{"$f":"'Per Folio Rate - \"CR\"'!H13","v":0}]
[{"$f":"'Per Folio Rate - \"CR\"'!A14","v":"00:00:00"},{"$f":"'Per Folio Rate - \"CR\"'!B14","v":0},{"$f":"'Per Folio Rate - \"CR\"'!C14","v":0},{"$f":"'Per Folio Rate - \"CR\"'!D14","v":0},"n/a",{"$f":"'Per Folio Rate - \"CR\"'!E14","v":0},{"$f":"'Per Folio Rate - \"CR\"'!F14","v":0},{"$f":"'Per Folio Rate - \"CR\"'!G14","v":0},{"$f":"'Per Folio Rate - \"CR\"'!H14","v":0}]
[{"$f":"'Per Folio Rate - \"CR\"'!A15","v":"00:00:00"},{"$f":"'Per Folio Rate - \"CR\"'!B15","v":0},{"$f":"'Per Folio Rate - \"CR\"'!C15","v":0},{"$f":"'Per Folio Rate - \"CR\"'!D15","v":0},"n/a",{"$f":"'Per Folio Rate - \"CR\"'!E15","v":0},{"$f":"'Per Folio Rate - \"CR\"'!F15","v":0},{"$f":"'Per Folio Rate - \"CR\"'!G15","v":0},{"$f":"'Per Folio Rate - \"CR\"'!H15","v":0}]
[{"$f":"'Per Folio Rate - \"CR\"'!A16","v":"00:00:00"},{"$f":"'Per Folio Rate - \"CR\"'!B16","v":0},{"$f":"'Per Folio Rate - \"CR\"'!C16","v":0},{"$f":"'Per Folio Rate - \"CR\"'!D16","v":0},"n/a",{"$f":"'Per Folio Rate - \"CR\"'!E16","v":0},{"$f":"'Per Folio Rate - \"CR\"'!F16","v":0},{"$f":"'Per Folio Rate - \"CR\"'!G16","v":0},{"$f":"'Per Folio Rate - \"CR\"'!H16","v":0}]
[{"$f":"'Per Folio Rate - \"CR\"'!A17","v":"00:00:00"},{"$f":"'Per Folio Rate - \"CR\"'!B17","v":0},{"$f":"'Per Folio Rate - \"CR\"'!C17","v":0},{"$f":"'Per Folio Rate - \"CR\"'!D17","v":0},"n/a",{"$f":"'Per Folio Rate - \"CR\"'!E17","v":0},{"$f":"'Per Folio Rate - \"CR\"'!F17","v":0},{"$f":"'Per Folio Rate - \"CR\"'!G17","v":0},{"$f":"'Per Folio Rate - \"CR\"'!H17","v":0}]
[{"$f":"'Per Folio Rate - \"CR\"'!A18","v":"00:00:00"},{"$f":"'Per Folio Rate - \"CR\"'!B18","v":0},{"$f":"'Per Folio Rate - \"CR\"'!C18","v":0},{"$f":"'Per Folio Rate - \"CR\"'!D18","v":0},"n/a",{"$f":"'Per Folio Rate - \"CR\"'!E18","v":0},{"$f":"'Per Folio Rate - \"CR\"'!F18","v":0},{"$f":"'Per Folio Rate - \"CR\"'!G18","v":0},{"$f":"'Per Folio Rate - \"CR\"'!H18","v":0}]
[{"$f":"'Per Folio Rate - \"CR\"'!A19","v":"00:00:00"},{"$f":"'Per Folio Rate - \"CR\"'!B19","v":0},{"$f":"'Per Folio Rate - \"CR\"'!C19","v":0},{"$f":"'Per Folio Rate - \"CR\"'!D19","v":0},"n/a",{"$f":"'Per Folio Rate - \"CR\"'!E19","v":0},{"$f":"'Per Folio Rate - \"CR\"'!F19","v":0},{"$f":"'Per Folio Rate - \"CR\"'!G19","v":0},{"$f":"'Per Folio Rate - \"CR\"'!H19","v":0}]
[{"$f":"'Per Folio Rate - \"CR\"'!A20","v":"00:00:00"},{"$f":"'Per Folio Rate - \"CR\"'!B20","v":0},{"$f":"'Per Folio Rate - \"CR\"'!C20","v":0},{"$f":"'Per Folio Rate - \"CR\"'!D20","v":0},"n/a",{"$f":"'Per Folio Rate - \"CR\"'!E20","v":0},{"$f":"'Per Folio Rate - \"CR\"'!F20","v":0},{"$f":"'Per Folio Rate - \"CR\"'!G20","v":0},{"$f":"'Per Folio Rate - \"CR\"'!H20","v":0}]
[{"$f":"'Per Folio Rate - \"CR\"'!A21","v":"00:00:00"},{"$f":"'Per Folio Rate - \"CR\"'!B21","v":0},{"$f":"'Per Folio Rate - \"CR\"'!C21","v":0},{"$f":"'Per Folio Rate - \"CR\"'!D21","v":0},"n/a",{"$f":"'Per Folio Rate - \"CR\"'!E21","v":0},{"$f":"'Per Folio Rate - \"CR\"'!F21","v":0},{"$f":"'Per Folio Rate - \"CR\"'!G21","v":0},{"$f":"'Per Folio Rate - \"CR\"'!H21","v":0}]
[{"$f":"'Per Folio Rate - \"CR\"'!A22","v":"00:00:00"},{"$f":"'Per Folio Rate - \"CR\"'!B22","v":0},{"$f":"'Per Folio Rate - \"CR\"'!C22","v":0},{"$f":"'Per Folio Rate - \"CR\"'!D22","v":0},"n/a",{"$f":"'Per Folio Rate - \"CR\"'!E22","v":0},{"$f":"'Per Folio Rate - \"CR\"'!F22","v":0},{"$f":"'Per Folio Rate - \"CR\"'!G22","v":0},{"$f":"'Per Folio Rate - \"CR\"'!H22","v":0}]
[{"$f":"'Per Folio Rate - \"CR\"'!A23","v":"00:00:00"},{"$f":"'Per Folio Rate - \"CR\"'!B23","v":0},{"$f":"'Per Folio Rate - \"CR\"'!C23","v":0},{"$f":"'Per Folio Rate - \"CR\"'!D23","v":0},"n/a",{"$f":"'Per Folio Rate - \"CR\"'!E23","v":0},{"$f":"'Per Folio Rate - \"CR\"'!F23","v":0},{"$f":"'Per Folio Rate - \"CR\"'!G23","v":0},{"$f":"'Per Folio Rate - \"CR\"'!H23","v":0}]
[{"$f":"'Per Folio Rate - \"CR\"'!A24","v":"00:00:00"},{"$f":"'Per Folio Rate - \"CR\"'!B24","v":0},{"$f":"'Per Folio Rate - \"CR\"'!C24","v":0},{"$f":"'Per Folio Rate - \"CR\"'!D24","v":0},"n/a",{"$f":"'Per Folio Rate - \"CR\"'!E24","v":0},{"$f":"'Per Folio Rate - \"CR\"'!F24","v":0},{"$f":"'Per Folio Rate - \"CR\"'!G24","v":0},{"$f":"'Per Folio Rate - \"CR\"'!H24","v":0}]
[{"$f":"'Per Folio Rate - \"CR\"'!A25","v":"00:00:00"},{"$f":"'Per Folio Rate - \"CR\"'!B25","v":0},{"$f":"'Per Folio Rate - \"CR\"'!C25","v":0},{"$f":"'Per Folio Rate - \"CR\"'!D25","v":0},"n/a",{"$f":"'Per Folio Rate - \"CR\"'!E25","v":0},{"$f":"'Per Folio Rate - \"CR\"'!F25","v":0},{"$f":"'Per Folio Rate - \"CR\"'!G25","v":0},{"$f":"'Per Folio Rate - \"CR\"'!H25","v":0}]
[{"$f":"'Per Folio Rate - \"CR\"'!A26","v":"00:00:00"},{"$f":"'Per Folio Rate - \"CR\"'!B26","v":0},{"$f":"'Per Folio Rate - \"CR\"'!C26","v":0},{"$f":"'Per Folio Rate - \"CR\"'!D26","v":0},"n/a",{"$f":"'Per Folio Rate - \"CR\"'!E26","v":0},{"$f":"'Per Folio Rate - \"CR\"'!F26","v":0},{"$f":"'Per Folio Rate - \"CR\"'!G26","v":0},{"$f":"'Per Folio Rate - \"CR\"'!H26","v":0}]
[{"$f":"'Per Folio Rate - \"CR\"'!A27","v":"00:00:00"},{"$f":"'Per Folio Rate - \"CR\"'!B27","v":0},{"$f":"'Per Folio Rate - \"CR\"'!C27","v":0},{"$f":"'Per Folio Rate - \"CR\"'!D27","v":0},"n/a",{"$f":"'Per Folio Rate - \"CR\"'!E27","v":0},{"$f":"'Per Folio Rate - \"CR\"'!F27","v":0},{"$f":"'Per Folio Rate - \"CR\"'!G27","v":0},{"$f":"'Per Folio Rate - \"CR\"'!H27","v":0}]
[{"$f":"'Per Folio Rate - \"CR\"'!A28","v":"00:00:00"},{"$f":"'Per Folio Rate - \"CR\"'!B28","v":0},{"$f":"'Per Folio Rate - \"CR\"'!C28","v":0},{"$f":"'Per Folio Rate - \"CR\"'!D28","v":0},"n/a",{"$f":"'Per Folio Rate - \"CR\"'!E28","v":0},{"$f":"'Per Folio Rate - \"CR\"'!F28","v":0},{"$f":"'Per Folio Rate - \"CR\"'!G28","v":0},{"$f":"'Per Folio Rate - \"CR\"'!H28","v":0}]
[{"$f":"'Per Folio Rate - \"CR\"'!A29","v":"00:00:00"},{"$f":"'Per Folio Rate - \"CR\"'!B29","v":0},{"$f":"'Per Folio Rate - \"CR\"'!C29","v":0},{"$f":"'Per Folio Rate - \"CR\"'!D29","v":0},"n/a",{"$f":"'Per Folio Rate - \"CR\"'!E29","v":0},{"$f":"'Per Folio Rate - \"CR\"'!F29","v":0},{"$f":"'Per Folio Rate - \"CR\"'!G29","v":0},{"$f":"'Per Folio Rate - \"CR\"'!H29","v":0}]
[{"$f":"'Per Folio Rate - \"CR\"'!A30","v":"00:00:00"},{"$f":"'Per Folio Rate - \"CR\"'!B30","v":0},{"$f":"'Per Folio Rate - \"CR\"'!C30","v":0},{"$f":"'Per Folio Rate - \"CR\"'!D30","v":0},"n/a",{"$f":"'Per Folio Rate - \"CR\"'!E30","v":0},{"$f":"'Per Folio Rate - \"CR\"'!F30","v":0},{"$f":"'Per Folio Rate - \"CR\"'!G30","v":0},{"$f":"'Per Folio Rate - \"CR\"'!H30","v":0}]
[{"$f":"'Per Folio Rate - \"CR\"'!A31","v":"00:00:00"},{"$f":"'Per Folio Rate - \"CR\"'!B31","v":0},{"$f":"'Per Folio Rate - \"CR\"'!C31","v":0},{"$f":"'Per Folio Rate - \"CR\"'!D31","v":0},"n/a",{"$f":"'Per Folio Rate - \"CR\"'!E31","v":0},{"$f":"'Per Folio Rate - \"CR\"'!F31","v":0},{"$f":"'Per Folio Rate - \"CR\"'!G31","v":0},{"$f":"'Per Folio Rate - \"CR\"'!H31","v":0}]
[{"$f":"'Per Folio Rate - \"CR\"'!A32","v":"00:00:00"},{"$f":"'Per Folio Rate - \"CR\"'!B32","v":0},{"$f":"'Per Folio Rate - \"CR\"'!C32","v":0},{"$f":"'Per Folio Rate - \"CR\"'!D32","v":0},"n/a",{"$f":"'Per Folio Rate - \"CR\"'!E32","v":0},{"$f":"'Per Folio Rate - \"CR\"'!F32","v":0},{"$f":"'Per Folio Rate - \"CR\"'!G32","v":0},{"$f":"'Per Folio Rate - \"CR\"'!H32","v":0}]
[{"$f":"'Per Folio Rate - \"CR\"'!A33","v":"00:00:00"},{"$f":"'Per Folio Rate - \"CR\"'!B33","v":0},{"$f":"'Per Folio Rate - \"CR\"'!C33","v":0},{"$f":"'Per Folio Rate - \"CR\"'!D33","v":0},"n/a",{"$f":"'Per Folio Rate - \"CR\"'!E33","v":0},{"$f":"'Per Folio Rate - \"CR\"'!F33","v":0},{"$f":"'Per Folio Rate - \"CR\"'!G33","v":0},{"$f":"'Per Folio Rate - \"CR\"'!H33","v":0}]
[{"$f":"'Per Folio Rate - \"CR\"'!A34","v":"00:00:00"},{"$f":"'Per Folio Rate - \"CR\"'!B34","v":0},{"$f":"'Per Folio Rate - \"CR\"'!C34","v":0},{"$f":"'Per Folio Rate - \"CR\"'!D34","v":0},"n/a",{"$f":"'Per Folio Rate - \"CR\"'!E34","v":0},{"$f":"'Per Folio Rate - \"CR\"'!F34","v":0},{"$f":"'Per Folio Rate - \"CR\"'!G34","v":0},{"$f":"'Per Folio Rate - \"CR\"'!H34","v":0}]
[{"$f":"'Per Folio Rate - \"CR\"'!A35","v":"00:00:00"},{"$f":"'Per Folio Rate - \"CR\"'!B35","v":0},{"$f":"'Per Folio Rate - \"CR\"'!C35","v":0},{"$f":"'Per Folio Rate - \"CR\"'!D35","v":0},"n/a",{"$f":"'Per Folio Rate - \"CR\"'!E35","v":0},{"$f":"'Per Folio Rate - \"CR\"'!F35","v":0},{"$f":"'Per Folio Rate - \"CR\"'!G35","v":0},{"$f":"'Per Folio Rate - \"CR\"'!H35","v":0}]
[{"$f":"'Per Folio Rate - \"CR\"'!A36","v":"00:00:00"},{"$f":"'Per Folio Rate - \"CR\"'!B36","v":0},{"$f":"'Per Folio Rate - \"CR\"'!C36","v":0},{"$f":"'Per Folio Rate - \"CR\"'!D36","v":0},"n/a",{"$f":"'Per Folio Rate - \"CR\"'!E36","v":0},{"$f":"'Per Folio Rate - \"CR\"'!F36","v":0},{"$f":"'Per Folio Rate - \"CR\"'!G36","v":0},{"$f":"'Per Folio Rate - \"CR\"'!H36","v":0}]
[{"$f":"'Per Folio Rate - \"CR\"'!A37","v":"00:00:00"},{"$f":"'Per Folio Rate - \"CR\"'!B37","v":0},{"$f":"'Per Folio Rate - \"CR\"'!C37","v":0},{"$f":"'Per Folio Rate - \"CR\"'!D37","v":0},"n/a",{"$f":"'Per Folio Rate - \"CR\"'!E37","v":0},{"$f":"'Per Folio Rate - \"CR\"'!F37","v":0},{"$f":"'Per Folio Rate - \"CR\"'!G37","v":0},{"$f":"'Per Folio Rate - \"CR\"'!H37","v":0}]
[{"$f":"'Per Folio Rate - \"CR\"'!A38","v":"00:00:00"},{"$f":"'Per Folio Rate - \"CR\"'!B38","v":0},{"$f":"'Per Folio Rate - \"CR\"'!C38","v":0},{"$f":"'Per Folio Rate - \"CR\"'!D38","v":0},"n/a",{"$f":"'Per Folio Rate - \"CR\"'!E38","v":0},{"$f":"'Per Folio Rate - \"CR\"'!F38","v":0},{"$f":"'Per Folio Rate - \"CR\"'!G38","v":0},{"$f":"'Per Folio Rate - \"CR\"'!H38","v":0}]
[{"$f":"'Per Folio Rate - \"CR\"'!A39","v":"00:00:00"},{"$f":"'Per Folio Rate - \"CR\"'!B39","v":0},{"$f":"'Per Folio Rate - \"CR\"'!C39","v":0},{"$f":"'Per Folio Rate - \"CR\"'!D39","v":0},"n/a",{"$f":"'Per Folio Rate - \"CR\"'!E39","v":0},{"$f":"'Per Folio Rate - \"CR\"'!F39","v":0},{"$f":"'Per Folio Rate - \"CR\"'!G39","v":0},{"$f":"'Per Folio Rate - \"CR\"'!H39","v":0}]
[{"$f":"'Per Folio Rate - \"CR\"'!A40","v":"00:00:00"},{"$f":"'Per Folio Rate - \"CR\"'!B40","v":0},{"$f":"'Per Folio Rate - \"CR\"'!C40","v":0},{"$f":"'Per Folio Rate - \"CR\"'!D40","v":0},"n/a",{"$f":"'Per Folio Rate - \"CR\"'!E40","v":0},{"$f":"'Per Folio Rate - \"CR\"'!F40","v":0},{"$f":"'Per Folio Rate - \"CR\"'!G40","v":0},{"$f":"'Per Folio Rate - \"CR\"'!H40","v":0}]
[{"$f":"'Per Folio Rate - \"CR\"'!A41","v":"00:00:00"},{"$f":"'Per Folio Rate - \"CR\"'!B41","v":0},{"$f":"'Per Folio Rate - \"CR\"'!C41","v":0},{"$f":"'Per Folio Rate - \"CR\"'!D41","v":0},"n/a",{"$f":"'Per Folio Rate - \"CR\"'!E41","v":0},{"$f":"'Per Folio Rate - \"CR\"'!F41","v":0},{"$f":"'Per Folio Rate - \"CR\"'!G41","v":0},{"$f":"'Per Folio Rate - \"CR\"'!H41","v":0}]
[{"$f":"'Per Folio Rate - \"CR\"'!A42","v":"00:00:00"},{"$f":"'Per Folio Rate - \"CR\"'!B42","v":0},{"$f":"'Per Folio Rate - \"CR\"'!C42","v":0},{"$f":"'Per Folio Rate - \"CR\"'!D42","v":0},"n/a",{"$f":"'Per Folio Rate - \"CR\"'!E42","v":0},{"$f":"'Per Folio Rate - \"CR\"'!F42","v":0},{"$f":"'Per Folio Rate - \"CR\"'!G42","v":0},{"$f":"'Per Folio Rate - \"CR\"'!H42","v":0}]
[{"$f":"'Per Folio Rate - \"CR\"'!A43","v":"00:00:00"},{"$f":"'Per Folio Rate - \"CR\"'!B43","v":0},{"$f":"'Per Folio Rate - \"CR\"'!C43","v":0},{"$f":"'Per Folio Rate - \"CR\"'!D43","v":0},"n/a",{"$f":"'Per Folio Rate - \"CR\"'!E43","v":0},{"$f":"'Per Folio Rate - \"CR\"'!F43","v":0},{"$f":"'Per Folio Rate - \"CR\"'!G43","v":0},{"$f":"'Per Folio Rate - \"CR\"'!H43","v":0}]
[{"$f":"'Per Folio Rate - \"CR\"'!A44","v":"00:00:00"},{"$f":"'Per Folio Rate - \"CR\"'!B44","v":0},{"$f":"'Per Folio Rate - \"CR\"'!C44","v":0},{"$f":"'Per Folio Rate - \"CR\"'!D44","v":0},"n/a",{"$f":"'Per Folio Rate - \"CR\"'!E44","v":0},{"$f":"'Per Folio Rate - \"CR\"'!F44","v":0},{"$f":"'Per Folio Rate - \"CR\"'!G44","v":0},{"$f":"'Per Folio Rate - \"CR\"'!H44","v":0}]
[{"$f":"'Per Folio Rate - \"CR\"'!A45","v":"00:00:00"},{"$f":"'Per Folio Rate - \"CR\"'!B45","v":0},{"$f":"'Per Folio Rate - \"CR\"'!C45","v":0},{"$f":"'Per Folio Rate - \"CR\"'!D45","v":0},"n/a",{"$f":"'Per Folio Rate - \"CR\"'!E45","v":0},{"$f":"'Per Folio Rate - \"CR\"'!F45","v":0},{"$f":"'Per Folio Rate - \"CR\"'!G45","v":0},{"$f":"'Per Folio Rate - \"CR\"'!H45","v":0}]
[{"$f":"'Per Folio Rate - \"CR\"'!A46","v":"00:00:00"},{"$f":"'Per Folio Rate - \"CR\"'!B46","v":0},{"$f":"'Per Folio Rate - \"CR\"'!C46","v":0},{"$f":"'Per Folio Rate - \"CR\"'!D46","v":0},"n/a",{"$f":"'Per Folio Rate - \"CR\"'!E46","v":0},{"$f":"'Per Folio Rate - \"CR\"'!F46","v":0},{"$f":"'Per Folio Rate - \"CR\"'!G46","v":0},{"$f":"'Per Folio Rate - \"CR\"'!H46","v":0}]
[{"$f":"'Per Folio Rate - \"CR\"'!A47","v":"00:00:00"},{"$f":"'Per Folio Rate - \"CR\"'!B47","v":0},{"$f":"'Per Folio Rate - \"CR\"'!C47","v":0},{"$f":"'Per Folio Rate - \"CR\"'!D47","v":0},"n/a",{"$f":"'Per Folio Rate - \"CR\"'!E47","v":0},{"$f":"'Per Folio Rate - \"CR\"'!F47","v":0},{"$f":"'Per Folio Rate - \"CR\"'!G47","v":0},{"$f":"'Per Folio Rate - \"CR\"'!H47","v":0}]
[{"$f":"'Per Folio Rate - \"CR\"'!A48","v":"00:00:00"},{"$f":"'Per Folio Rate - \"CR\"'!B48","v":0},{"$f":"'Per Folio Rate - \"CR\"'!C48","v":0},{"$f":"'Per Folio Rate - \"CR\"'!D48","v":0},"n/a",{"$f":"'Per Folio Rate - \"CR\"'!E48","v":0},{"$f":"'Per Folio Rate - \"CR\"'!F48","v":0},{"$f":"'Per Folio Rate - \"CR\"'!G48","v":0},{"$f":"'Per Folio Rate - \"CR\"'!H48","v":0}]
[{"$f":"'Per Folio Rate - \"CR\"'!A49","v":"00:00:00"},{"$f":"'Per Folio Rate - \"CR\"'!B49","v":0},{"$f":"'Per Folio Rate - \"CR\"'!C49","v":0},{"$f":"'Per Folio Rate - \"CR\"'!D49","v":0},"n/a",{"$f":"'Per Folio Rate - \"CR\"'!E49","v":0},{"$f":"'Per Folio Rate - \"CR\"'!F49","v":0},{"$f":"'Per Folio Rate - \"CR\"'!G49","v":0},{"$f":"'Per Folio Rate - \"CR\"'!H49","v":0}]
[{"$f":"'QC + Hourly Rate'!A7","v":"00:00:00"},{"$f":"'QC + Hourly Rate'!B7","v":0},"n/a","n/a",{"$f":"'QC + Hourly Rate'!C7","v":0},"n/a",{"$f":"'QC + Hourly Rate'!D7","v":0},"n/a",{"$f":"'QC + Hourly Rate'!E7","v":0}]
[{"$f":"'QC + Hourly Rate'!A8","v":"00:00:00"},{"$f":"'QC + Hourly Rate'!B8","v":0},"n/a","n/a",{"$f":"'QC + Hourly Rate'!C8","v":0},"n/a",{"$f":"'QC + Hourly Rate'!D8","v":0},"n/a",{"$f":"'QC + Hourly Rate'!E8","v":0}]
[{"$f":"'QC + Hourly Rate'!A9","v":"00:00:00"},{"$f":"'QC + Hourly Rate'!B9","v":0},"n/a","n/a",{"$f":"'QC + Hourly Rate'!C9","v":0},"n/a",{"$f":"'QC + Hourly Rate'!D9","v":0},"n/a",{"$f":"'QC + Hourly Rate'!E9","v":0}]
[{"$f":"'QC + Hourly Rate'!A10","v":"00:00:00"},{"$f":"'QC + Hourly Rate'!B10","v":0},"n/a","n/a",{"$f":"'QC + Hourly Rate'!C10","v":0},"n/a",{"$f":"'QC + Hourly Rate'!D10","v":0},"n/a",{"$f":"'QC + Hourly Rate'!E10","v":0}]
[{"$f":"'QC + Hourly Rate'!A11","v":"00:00:00"},{"$f":"'QC + Hourly Rate'!B11","v":0},"n/a","n/a",{"$f":"'QC + Hourly Rate'!C11","v":0},"n/a",{"$f":"'QC + Hourly Rate'!D11","v":0},"n/a",{"$f":"'QC + Hourly Rate'!E11","v":0}]
[{"$f":"'QC + Hourly Rate'!A12","v":"00:00:00"},{"$f":"'QC + Hourly Rate'!B12","v":0},"n/a","n/a",{"$f":"'QC + Hourly Rate'!C12","v":0},"n/a",{"$f":"'QC + Hourly Rate'!D12","v":0},"n/a",{"$f":"'QC + Hourly Rate'!E12","v":0}]
[{"$f":"'QC + Hourly Rate'!A13","v":"00:00:00"},{"$f":"'QC + Hourly Rate'!B13","v":0},"n/a","n/a",{"$f":"'QC + Hourly Rate'!C13","v":0},"n/a",{"$f":"'QC + Hourly Rate'!D13","v":0},"n/a",{"$f":"'QC + Hourly Rate'!E13","v":0}]
[{"$f":"'QC + Hourly Rate'!A14","v":"00:00:00"},{"$f":"'QC + Hourly Rate'!B14","v":0},"n/a","n/a",{"$f":"'QC + Hourly Rate'!C14","v":0},"n/a",{"$f":"'QC + Hourly Rate'!D14","v":0},"n/a",{"$f":"'QC + Hourly Rate'!E14","v":0}]
[{"$f":"'QC + Hourly Rate'!A15","v":"00:00:00"},{"$f":"'QC + Hourly Rate'!B15","v":0},"n/a","n/a",{"$f":"'QC + Hourly Rate'!C15","v":0},"n/a",{"$f":"'QC + Hourly Rate'!D15","v":0},"n/a",{"$f":"'QC + Hourly Rate'!E15","v":0}]
[{"$f":"'QC + Hourly Rate'!A16","v":"00:00:00"},{"$f":"'QC + Hourly Rate'!B16","v":0},"n/a","n/a",{"$f":"'QC + Hourly Rate'!C16","v":0},"n/a",{"$f":"'QC + Hourly Rate'!D16","v":0},"n/a",{"$f":"'QC + Hourly Rate'!E16","v":0}]
[{"$f":"'QC + Hourly Rate'!A17","v":"00:00:00"},{"$f":"'QC + Hourly Rate'!B17","v":0},"n/a","n/a",{"$f":"'QC + Hourly Rate'!C17","v":0},"n/a",{"$f":"'QC + Hourly Rate'!D17","v":0},"n/a",{"$f":"'QC + Hourly Rate'!E17","v":0}]
[{"$f":"'QC + Hourly Rate'!A18","v":"00:00:00"},{"$f":"'QC + Hourly Rate'!B18","v":0},"n/a","n/a",{"$f":"'QC + Hourly Rate'!C18","v":0},"n/a",{"$f":"'QC + Hourly Rate'!D18","v":0},"n/a",{"$f":"'QC + Hourly Rate'!E18","v":0}]
[{"$f":"'QC + Hourly Rate'!A19","v":"00:00:00"},{"$f":"'QC + Hourly Rate'!B19","v":0},"n/a","n/a",{"$f":"'QC + Hourly Rate'!C19","v":0},"n/a",{"$f":"'QC + Hourly Rate'!D19","v":0},"n/a",{"$f":"'QC + Hourly Rate'!E19","v":0}]
[{"$f":"'QC + Hourly Rate'!A20","v":"00:00:00"},{"$f":"'QC + Hourly Rate'!B20","v":0},"n/a","n/a",{"$f":"'QC + Hourly Rate'!C20","v":0},"n/a",{"$f":"'QC + Hourly Rate'!D20","v":0},"n/a",{"$f":"'QC + Hourly Rate'!E20","v":0}]
[{"$f":"'QC + Hourly Rate'!A21","v":"00:00:00"},{"$f":"'QC + Hourly Rate'!B21","v":0},"n/a","n/a",{"$f":"'QC + Hourly Rate'!C21","v":0},"n/a",{"$f":"'QC + Hourly Rate'!D21","v":0},"n/a",{"$f":"'QC + Hourly Rate'!E21","v":0}]
[{"$f":"'QC + Hourly Rate'!A22","v":"00:00:00"},{"$f":"'QC + Hourly Rate'!B22","v":0},"n/a","n/a",{"$f":"'QC + Hourly Rate'!C22","v":0},"n/a",{"$f":"'QC + Hourly Rate'!D22","v":0},"n/a",{"$f":"'QC + Hourly Rate'!E22","v":0}]
[{"$f":"'QC + Hourly Rate'!A23","v":"00:00:00"},{"$f":"'QC + Hourly Rate'!B23","v":0},"n/a","n/a",{"$f":"'QC + Hourly Rate'!C23","v":0},"n/a",{"$f":"'QC + Hourly Rate'!D23","v":0},"n/a",{"$f":"'QC + Hourly Rate'!E23","v":0}]
[{"$f":"'QC + Hourly Rate'!A24","v":"00:00:00"},{"$f":"'QC + Hourly Rate'!B24","v":0},"n/a","n/a",{"$f":"'QC + Hourly Rate'!C24","v":0},"n/a",{"$f":"'QC + Hourly Rate'!D24","v":0},"n/a",{"$f":"'QC + Hourly Rate'!E24","v":0}]
[{"$f":"'QC + Hourly Rate'!A25","v":"00:00:00"},{"$f":"'QC + Hourly Rate'!B25","v":0},"n/a","n/a",{"$f":"'QC + Hourly Rate'!C25","v":0},"n/a",{"$f":"'QC + Hourly Rate'!D25","v":0},"n/a",{"$f":"'QC + Hourly Rate'!E25","v":0}]
[{"$f":"'QC + Hourly Rate'!A26","v":"00:00:00"},{"$f":"'QC + Hourly Rate'!B26","v":0},"n/a","n/a",{"$f":"'QC + Hourly Rate'!C26","v":0},"n/a",{"$f":"'QC + Hourly Rate'!D26","v":0},"n/a",{"$f":"'QC + Hourly Rate'!E26","v":0}]
[{"$f":"'QC + Hourly Rate'!A27","v":"00:00:00"},{"$f":"'QC + Hourly Rate'!B27","v":0},"n/a","n/a",{"$f":"'QC + Hourly Rate'!C27","v":0},"n/a",{"$f":"'QC + Hourly Rate'!D27","v":0},"n/a",{"$f":"'QC + Hourly Rate'!E27","v":0}]
[{"$f":"'QC + Hourly Rate'!A28","v":"00:00:00"},{"$f":"'QC + Hourly Rate'!B28","v":0},"n/a","n/a",{"$f":"'QC + Hourly Rate'!C28","v":0},"n/a",{"$f":"'QC + Hourly Rate'!D28","v":0},"n/a",{"$f":"'QC + Hourly Rate'!E28","v":0}]
[{"$f":"'QC + Hourly Rate'!A29","v":"00:00:00"},{"$f":"'QC + Hourly Rate'!B29","v":0},"n/a","n/a",{"$f":"'QC + Hourly Rate'!C29","v":0},"n/a",{"$f":"'QC + Hourly Rate'!D29","v":0},"n/a",{"$f":"'QC + Hourly Rate'!E29","v":0}]
[{"$f":"'QC + Hourly Rate'!A30","v":"00:00:00"},{"$f":"'QC + Hourly Rate'!B30","v":0},"n/a","n/a",{"$f":"'QC + Hourly Rate'!C30","v":0},"n/a",{"$f":"'QC + Hourly Rate'!D30","v":0},"n/a",{"$f":"'QC + Hourly Rate'!E30","v":0}]
[{"$f":"'QC + Hourly Rate'!A31","v":"00:00:00"},{"$f":"'QC + Hourly Rate'!B31","v":0},"n/a","n/a",{"$f":"'QC + Hourly Rate'!C31","v":0},"n/a",{"$f":"'QC + Hourly Rate'!D31","v":0},"n/a",{"$f":"'QC + Hourly Rate'!E31","v":0}]
[{"$f":"'QC + Hourly Rate'!A32","v":"00:00:00"},{"$f":"'QC + Hourly Rate'!B32","v":0},"n/a","n/a",{"$f":"'QC + Hourly Rate'!C32","v":0},"n/a",{"$f":"'QC + Hourly Rate'!D32","v":0},"n/a",{"$f":"'QC + Hourly Rate'!E32","v":0}]
[{"$f":"'QC + Hourly Rate'!A33","v":"00:00:00"},{"$f":"'QC + Hourly Rate'!B33","v":0},"n/a","n/a",{"$f":"'QC + Hourly Rate'!C33","v":0},"n/a",{"$f":"'QC + Hourly Rate'!D33","v":0},"n/a",{"$f":"'QC + Hourly Rate'!E33","v":0}]
[{"$f":"'QC + Hourly Rate'!A34","v":"00:00:00"},{"$f":"'QC + Hourly Rate'!B34","v":0},"n/a","n/a",{"$f":"'QC + Hourly Rate'!C34","v":0},"n/a",{"$f":"'QC + Hourly Rate'!D34","v":0},"n/a",{"$f":"'QC + Hourly Rate'!E34","v":0}]
[{"$f":"'QC + Hourly Rate'!A35","v":"00:00:00"},{"$f":"'QC + Hourly Rate'!B35","v":0},"n/a","n/a",{"$f":"'QC + Hourly Rate'!C35","v":0},"n/a",{"$f":"'QC + Hourly Rate'!D35","v":0},"n/a",{"$f":"'QC + Hourly Rate'!E35","v":0}]
[{"$f":"'QC + Hourly Rate'!A36","v":"00:00:00"},{"$f":"'QC + Hourly Rate'!B36","v":0},"n/a","n/a",{"$f":"'QC + Hourly Rate'!C36","v":0},"n/a",{"$f":"'QC + Hourly Rate'!D36","v":0},"n/a",{"$f":"'QC + Hourly Rate'!E36","v":0}]
[{"$f":"'QC + Hourly Rate'!A37","v":"00:00:00"},{"$f":"'QC + Hourly Rate'!B37","v":0},"n/a","n/a",{"$f":"'QC + Hourly Rate'!C37","v":0},"n/a",{"$f":"'QC + Hourly Rate'!D37","v":0},"n/a",{"$f":"'QC + Hourly Rate'!E37","v":0}]
[{"$f":"'QC + Hourly Rate'!A38","v":"00:00:00"},{"$f":"'QC + Hourly Rate'!B38","v":0},"n/a","n/a",{"$f":"'QC + Hourly Rate'!C38","v":0},"n/a",{"$f":"'QC + Hourly Rate'!D38","v":0},"n/a",{"$f":"'QC + Hourly Rate'!E38","v":0}]
[{"$f":"'QC + Hourly Rate'!A39","v":"00:00:00"},{"$f":"'QC + Hourly Rate'!B39","v":0},"n/a","n/a",{"$f":"'QC + Hourly Rate'!C39","v":0},"n/a",{"$f":"'QC + Hourly Rate'!D39","v":0},"n/a",{"$f":"'QC + Hourly Rate'!E39","v":0}]
[{"$f":"'QC + Hourly Rate'!A40","v":"00:00:00"},{"$f":"'QC + Hourly Rate'!B40","v":0},"n/a","n/a",{"$f":"'QC + Hourly Rate'!C40","v":0},"n/a",{"$f":"'QC + Hourly Rate'!D40","v":0},"n/a",{"$f":"'QC + Hourly Rate'!E40","v":0}]
[{"$f":"'QC + Hourly Rate'!A41","v":"00:00:00"},{"$f":"'QC + Hourly Rate'!B41","v":0},"n/a","n/a",{"$f":"'QC + Hourly Rate'!C41","v":0},"n/a",{"$f":"'QC + Hourly Rate'!D41","v":0},"n/a",{"$f":"'QC + Hourly Rate'!E41","v":0}]
[{"$f":"'QC + Hourly Rate'!A42","v":"00:00:00"},{"$f":"'QC + Hourly Rate'!B42","v":0},"n/a","n/a",{"$f":"'QC + Hourly Rate'!C42","v":0},"n/a",{"$f":"'QC + Hourly Rate'!D42","v":0},"n/a",{"$f":"'QC + Hourly Rate'!E42","v":0}]
[{"$f":"'QC + Hourly Rate'!A43","v":"00:00:00"},{"$f":"'QC + Hourly Rate'!B43","v":0},"n/a","n/a",{"$f":"'QC + Hourly Rate'!C43","v":0},"n/a",{"$f":"'QC + Hourly Rate'!D43","v":0},"n/a",{"$f":"'QC + Hourly Rate'!E43","v":0}]
[{"$f":"'QC + Hourly Rate'!A44","v":"00:00:00"},{"$f":"'QC + Hourly Rate'!B44","v":0},"n/a","n/a",{"$f":"'QC + Hourly Rate'!C44","v":0},"n/a",{"$f":"'QC + Hourly Rate'!D44","v":0},"n/a",{"$f":"'QC + Hourly Rate'!E44","v":0}]
[{"$f":"'QC + Hourly Rate'!A45","v":"00:00:00"},{"$f":"'QC + Hourly Rate'!B45","v":0},"n/a","n/a",{"$f":"'QC + Hourly Rate'!C45","v":0},"n/a",{"$f":"'QC + Hourly Rate'!D45","v":0},"n/a",{"$f":"'QC + Hourly Rate'!E45","v":0}]
[{"$f":"'QC + Hourly Rate'!A46","v":"00:00:00"},{"$f":"'QC + Hourly Rate'!B46","v":0},"n/a","n/a",{"$f":"'QC + Hourly Rate'!C46","v":0},"n/a",{"$f":"'QC + Hourly Rate'!D46","v":0},"n/a",{"$f":"'QC + Hourly Rate'!E46","v":0}]
[{"$f":"'QC + Hourly Rate'!A47","v":"00:00:00"},{"$f":"'QC + Hourly Rate'!B47","v":0},"n/a","n/a",{"$f":"'QC + Hourly Rate'!C47","v":0},"n/a",{"$f":"'QC + Hourly Rate'!D47","v":0},"n/a",{"$f":"'QC + Hourly Rate'!E47","v":0}]
[{"$f":"'QC + Hourly Rate'!A48","v":"00:00:00"},{"$f":"'QC + Hourly Rate'!B48","v":0},"n/a","n/a",{"$f":"'QC + Hourly Rate'!C48","v":0},"n/a",{"$f":"'QC + Hourly Rate'!D48","v":0},"n/a",{"$f":"'QC + Hourly Rate'!E48","v":0}]
[{"$f":"'QC + Hourly Rate'!A49","v":"00:00:00"},{"$f":"'QC + Hourly Rate'!B49","v":0},"n/a","n/a",{"$f":"'QC + Hourly Rate'!C49","v":0},"n/a",{"$f":"'QC + Hourly Rate'!D49","v":0},"n/a",{"$f":"'QC + Hourly Rate'!E49","v":0}]
[{"$f":"'QC + Hourly Rate'!A50","v":"00:00:00"},{"$f":"'QC + Hourly Rate'!B50","v":0},"n/a","n/a",{"$f":"'QC + Hourly Rate'!C50","v":0},"n/a",{"$f":"'QC + Hourly Rate'!D50","v":0},"n/a",{"$f":"'QC + Hourly Rate'!E50","v":0}]
[{"$f":"'QC + Hourly Rate'!A51","v":"00:00:00"},{"$f":"'QC + Hourly Rate'!B51","v":0},"n/a","n/a",{"$f":"'QC + Hourly Rate'!C51","v":0},"n/a",{"$f":"'QC + Hourly Rate'!D51","v":0},"n/a",{"$f":"'QC + Hourly Rate'!E51","v":0}]
[{"$f":"'HoP Editor Rate'!A18","v":"00:00:00"},{"$f":"'HoP Editor Rate'!B18","v":0},{"$f":"'HoP Editor Rate'!C18","v":0},{"$f":"'HoP Editor Rate'!D18","v":false},"n/a",{"$f":"'HoP Editor Rate'!E18","v":0},{"$f":"'HoP Editor Rate'!F18","v":0},"n/a",{"$f":"'HoP Editor Rate'!I18","v":0}]
[{"$f":"'HoP Editor Rate'!A19","v":"00:00:00"},{"$f":"'HoP Editor Rate'!B19","v":0},{"$f":"'HoP Editor Rate'!C19","v":0},{"$f":"'HoP Editor Rate'!D19","v":false},"n/a",{"$f":"'HoP Editor Rate'!E19","v":0},{"$f":"'HoP Editor Rate'!F19","v":0},"n/a",{"$f":"'HoP Editor Rate'!I19","v":0}]
[{"$f":"'HoP Editor Rate'!A20","v":"00:00:00"},{"$f":"'HoP Editor Rate'!B20","v":0},{"$f":"'HoP Editor Rate'!C20","v":0},{"$f":"'HoP Editor Rate'!D20","v":false},"n/a",{"$f":"'HoP Editor Rate'!E20","v":0},{"$f":"'HoP Editor Rate'!F20","v":0},"n/a",{"$f":"'HoP Editor Rate'!I20","v":0}]
[{"$f":"'HoP Editor Rate'!A21","v":"00:00:00"},{"$f":"'HoP Editor Rate'!B21","v":0},{"$f":"'HoP Editor Rate'!C21","v":0},{"$f":"'HoP Editor Rate'!D21","v":false},"n/a",{"$f":"'HoP Editor Rate'!E21","v":0},{"$f":"'HoP Editor Rate'!F21","v":0},"n/a",{"$f":"'HoP Editor Rate'!I21","v":0}]
[{"$f":"'HoP Editor Rate'!A22","v":"00:00:00"},{"$f":"'HoP Editor Rate'!B22","v":0},{"$f":"'HoP Editor Rate'!C22","v":0},{"$f":"'HoP Editor Rate'!D22","v":false},"n/a",{"$f":"'HoP Editor Rate'!E22","v":0},{"$f":"'HoP Editor Rate'!F22","v":0},"n/a",{"$f":"'HoP Editor Rate'!I22","v":0}]
[{"$f":"'HoP Editor Rate'!A23","v":"00:00:00"},{"$f":"'HoP Editor Rate'!B23","v":0},{"$f":"'HoP Editor Rate'!C23","v":0},{"$f":"'HoP Editor Rate'!D23","v":false},"n/a",{"$f":"'HoP Editor Rate'!E23","v":0},{"$f":"'HoP Editor Rate'!F23","v":0},"n/a",{"$f":"'HoP Editor Rate'!I23","v":0}]
[{"$f":"'HoP Editor Rate'!A24","v":"00:00:00"},{"$f":"'HoP Editor Rate'!B24","v":0},{"$f":"'HoP Editor Rate'!C24","v":0},{"$f":"'HoP Editor Rate'!D24","v":false},"n/a",{"$f":"'HoP Editor Rate'!E24","v":0},{"$f":"'HoP Editor Rate'!F24","v":0},"n/a",{"$f":"'HoP Editor Rate'!I24","v":0}]
[{"$f":"'HoP Editor Rate'!A25","v":"00:00:00"},{"$f":"'HoP Editor Rate'!B25","v":0},{"$f":"'HoP Editor Rate'!C25","v":0},{"$f":"'HoP Editor Rate'!D25","v":false},"n/a",{"$f":"'HoP Editor Rate'!E25","v":0},{"$f":"'HoP Editor Rate'!F25","v":0},"n/a",{"$f":"'HoP Editor Rate'!I25","v":0}]
[{"$f":"'HoP Editor Rate'!A26","v":"00:00:00"},{"$f":"'HoP Editor Rate'!B26","v":0},{"$f":"'HoP Editor Rate'!C26","v":0},{"$f":"'HoP Editor Rate'!D26","v":false},"n/a",{"$f":"'HoP Editor Rate'!E26","v":0},{"$f":"'HoP Editor Rate'!F26","v":0},"n/a",{"$f":"'HoP Editor Rate'!I26","v":0}]
[{"$f":"'HoP Editor Rate'!A27","v":"00:00:00"},{"$f":"'HoP Editor Rate'!B27","v":0},{"$f":"'HoP Editor Rate'!C27","v":0},{"$f":"'HoP Editor Rate'!D27","v":false},"n/a",{"$f":"'HoP Editor Rate'!E27","v":0},{"$f":"'HoP Editor Rate'!F27","v":0},"n/a",{"$f":"'HoP Editor Rate'!I27","v":0}]
[{"$f":"'HoP Editor Rate'!A28","v":"00:00:00"},{"$f":"'HoP Editor Rate'!B28","v":0},{"$f":"'HoP Editor Rate'!C28","v":0},{"$f":"'HoP Editor Rate'!D28","v":false},"n/a",{"$f":"'HoP Editor Rate'!E28","v":0},{"$f":"'HoP Editor Rate'!F28","v":0},"n/a",{"$f":"'HoP Editor Rate'!I28","v":0}]
[{"$f":"'HoP Editor Rate'!A29","v":"00:00:00"},{"$f":"'HoP Editor Rate'!B29","v":0},{"$f":"'HoP Editor Rate'!C29","v":0},{"$f":"'HoP Editor Rate'!D29","v":false},"n/a",{"$f":"'HoP Editor Rate'!E29","v":0},{"$f":"'HoP Editor Rate'!F29","v":0},"n/a",{"$f":"'HoP Editor Rate'!I29","v":0}]
[{"$f":"'HoP Editor Rate'!A30","v":"00:00:00"},{"$f":"'HoP Editor Rate'!B30","v":0},{"$f":"'HoP Editor Rate'!C30","v":0},{"$f":"'HoP Editor Rate'!D30","v":false},"n/a",{"$f":"'HoP Editor Rate'!E30","v":0},{"$f":"'HoP Editor Rate'!F30","v":0},"n/a",{"$f":"'HoP Editor Rate'!I30","v":0}]
[{"$f":"'HoP Editor Rate'!A31","v":"00:00:00"},{"$f":"'HoP Editor Rate'!B31","v":0},{"$f":"'HoP Editor Rate'!C31","v":0},{"$f":"'HoP Editor Rate'!D31","v":false},"n/a",{"$f":"'HoP Editor Rate'!E31","v":0},{"$f":"'HoP Editor Rate'!F31","v":0},"n/a",{"$f":"'HoP Editor Rate'!I31","v":0}]
[{"$f":"'HoP Editor Rate'!A32","v":"00:00:00"},{"$f":"'HoP Editor Rate'!B32","v":0},{"$f":"'HoP Editor Rate'!C32","v":0},{"$f":"'HoP Editor Rate'!D32","v":false},"n/a",{"$f":"'HoP Editor Rate'!E32","v":0},{"$f":"'HoP Editor Rate'!F32","v":0},"n/a",{"$f":"'HoP Editor Rate'!I32","v":0}]
[{"$f":"'HoP Editor Rate'!A33","v":"00:00:00"},{"$f":"'HoP Editor Rate'!B33","v":0},{"$f":"'HoP Editor Rate'!C33","v":0},{"$f":"'HoP Editor Rate'!D33","v":false},"n/a",{"$f":"'HoP Editor Rate'!E33","v":0},{"$f":"'HoP Editor Rate'!F33","v":0},"n/a",{"$f":"'HoP Editor Rate'!I33","v":0}]
[{"$f":"'HoP Editor Rate'!A34","v":"00:00:00"},{"$f":"'HoP Editor Rate'!B34","v":0},{"$f":"'HoP Editor Rate'!C34","v":0},{"$f":"'HoP Editor Rate'!D34","v":false},"n/a",{"$f":"'HoP Editor Rate'!E34","v":0},{"$f":"'HoP Editor Rate'!F34","v":0},"n/a",{"$f":"'HoP Editor Rate'!I34","v":0}]
[{"$f":"'HoP Editor Rate'!A35","v":"00:00:00"},{"$f":"'HoP Editor Rate'!B35","v":0},{"$f":"'HoP Editor Rate'!C35","v":0},{"$f":"'HoP Editor Rate'!D35","v":false},"n/a",{"$f":"'HoP Editor Rate'!E35","v":0},{"$f":"'HoP Editor Rate'!F35","v":0},"n/a",{"$f":"'HoP Editor Rate'!I35","v":0}]
[{"$f":"'HoP Editor Rate'!A36","v":"00:00:00"},{"$f":"'HoP Editor Rate'!B36","v":0},{"$f":"'HoP Editor Rate'!C36","v":0},{"$f":"'HoP Editor Rate'!D36","v":false},"n/a",{"$f":"'HoP Editor Rate'!E36","v":0},{"$f":"'HoP Editor Rate'!F36","v":0},"n/a",{"$f":"'HoP Editor Rate'!I36","v":0}]
[{"$f":"'HoP Editor Rate'!A37","v":"00:00:00"},{"$f":"'HoP Editor Rate'!B37","v":0},{"$f":"'HoP Editor Rate'!C37","v":0},{"$f":"'HoP Editor Rate'!D37","v":false},"n/a",{"$f":"'HoP Editor Rate'!E37","v":0},{"$f":"'HoP Editor Rate'!F37","v":0},"n/a",{"$f":"'HoP Editor Rate'!I37","v":0}]
[{"$f":"'HoP Editor Rate'!A38","v":"00:00:00"},{"$f":"'HoP Editor Rate'!B38","v":0},{"$f":"'HoP Editor Rate'!C38","v":0},{"$f":"'HoP Editor Rate'!D38","v":false},"n/a",{"$f":"'HoP Editor Rate'!E38","v":0},{"$f":"'HoP Editor Rate'!F38","v":0},"n/a",{"$f":"'HoP Editor Rate'!I38","v":0}]
[{"$f":"'HoP Editor Rate'!A39","v":"00:00:00"},{"$f":"'HoP Editor Rate'!B39","v":0},{"$f":"'HoP Editor Rate'!C39","v":0},{"$f":"'HoP Editor Rate'!D39","v":false},"n/a",{"$f":"'HoP Editor Rate'!E39","v":0},{"$f":"'HoP Editor Rate'!F39","v":0},"n/a",{"$f":"'HoP Editor Rate'!I39","v":0}]
[{"$f":"'HoP Editor Rate'!A40","v":"00:00:00"},{"$f":"'HoP Editor Rate'!B40","v":0},{"$f":"'HoP Editor Rate'!C40","v":0},{"$f":"'HoP Editor Rate'!D40","v":false},"n/a",{"$f":"'HoP Editor Rate'!E40","v":0},{"$f":"'HoP Editor Rate'!F40","v":0},"n/a",{"$f":"'HoP Editor Rate'!I40","v":0}]
[{"$f":"'HoP Editor Rate'!A41","v":"00:00:00"},{"$f":"'HoP Editor Rate'!B41","v":0},{"$f":"'HoP Editor Rate'!C41","v":0},{"$f":"'HoP Editor Rate'!D41","v":false},"n/a",{"$f":"'HoP Editor Rate'!E41","v":0},{"$f":"'HoP Editor Rate'!F41","v":0},"n/a",{"$f":"'HoP Editor Rate'!I41","v":0}]
[{"$f":"'HoP Editor Rate'!A42","v":"00:00:00"},{"$f":"'HoP Editor Rate'!B42","v":0},{"$f":"'HoP Editor Rate'!C42","v":0},{"$f":"'HoP Editor Rate'!D42","v":false},"n/a",{"$f":"'HoP Editor Rate'!E42","v":0},{"$f":"'HoP Editor Rate'!F42","v":0},"n/a",{"$f":"'HoP Editor Rate'!I42","v":0}]
[{"$f":"'HoP Editor Rate'!A43","v":"00:00:00"},{"$f":"'HoP Editor Rate'!B43","v":0},{"$f":"'HoP Editor Rate'!C43","v":0},{"$f":"'HoP Editor Rate'!D43","v":false},"n/a",{"$f":"'HoP Editor Rate'!E43","v":0},{"$f":"'HoP Editor Rate'!F43","v":0},"n/a",{"$f":"'HoP Editor Rate'!I43","v":0}]
[{"$f":"'HoP Editor Rate'!A44","v":"00:00:00"},{"$f":"'HoP Editor Rate'!B44","v":0},{"$f":"'HoP Editor Rate'!C44","v":0},{"$f":"'HoP Editor Rate'!D44","v":false},"n/a",{"$f":"'HoP Editor Rate'!E44","v":0},{"$f":"'HoP Editor Rate'!F44","v":0},"n/a",{"$f":"'HoP Editor Rate'!I44","v":0}]
[{"$f":"'HoP Editor Rate'!A45","v":"00:00:00"},{"$f":"'HoP Editor Rate'!B45","v":0},{"$f":"'HoP Editor Rate'!C45","v":0},{"$f":"'HoP Editor Rate'!D45","v":false},"n/a",{"$f":"'HoP Editor Rate'!E45","v":0},{"$f":"'HoP Editor Rate'!F45","v":0},"n/a",{"$f":"'HoP Editor Rate'!I45","v":0}]
[{"$f":"'HoP Editor Rate'!A46","v":"00:00:00"},{"$f":"'HoP Editor Rate'!B46","v":0},{"$f":"'HoP Editor Rate'!C46","v":0},{"$f":"'HoP Editor Rate'!D46","v":false},"n/a",{"$f":"'HoP Editor Rate'!E46","v":0},{"$f":"'HoP Editor Rate'!F46","v":0},"n/a",{"$f":"'HoP Editor Rate'!I46","v":0}]
[{"$f":"'HoP Editor Rate'!A47","v":"00:00:00"},{"$f":"'HoP Editor Rate'!B47","v":0},{"$f":"'HoP Editor Rate'!C47","v":0},{"$f":"'HoP Editor Rate'!D47","v":false},"n/a",{"$f":"'HoP Editor Rate'!E47","v":0},{"$f":"'HoP Editor Rate'!F47","v":0},"n/a",{"$f":"'HoP Editor Rate'!I47","v":0}]
[{"$f":"'HoP Editor Rate'!A48","v":"00:00:00"},{"$f":"'HoP Editor Rate'!B48","v":0},{"$f":"'HoP Editor Rate'!C48","v":0},{"$f":"'HoP Editor Rate'!D48","v":false},"n/a",{"$f":"'HoP Editor Rate'!E48","v":0},{"$f":"'HoP Editor Rate'!F48","v":0},"n/a",{"$f":"'HoP Editor Rate'!I48","v":0}]
[{"$f":"'HoP Editor Rate'!A49","v":"00:00:00"},{"$f":"'HoP Editor Rate'!B49","v":0},{"$f":"'HoP Editor Rate'!C49","v":0},{"$f":"'HoP Editor Rate'!D49","v":false},"n/a",{"$f":"'HoP Editor Rate'!E49","v":0},{"$f":"'HoP Editor Rate'!F49","v":0},"n/a",{"$f":"'HoP Editor Rate'!I49","v":0}]
[{"$f":"'HoP Editor Rate'!A50","v":"00:00:00"},{"$f":"'HoP Editor Rate'!B50","v":0},{"$f":"'HoP Editor Rate'!C50","v":0},{"$f":"'HoP Editor Rate'!D50","v":false},"n/a",{"$f":"'HoP Editor Rate'!E50","v":0},{"$f":"'HoP Editor Rate'!F50","v":0},"n/a",{"$f":"'HoP Editor Rate'!I50","v":0}]
[{"$f":"'HoP Editor Rate'!A51","v":"00:00:00"},{"$f":"'HoP Editor Rate'!B51","v":0},{"$f":"'HoP Editor Rate'!C51","v":0},{"$f":"'HoP Editor Rate'!D51","v":false},"n/a",{"$f":"'HoP Editor Rate'!E51","v":0},{"$f":"'HoP Editor Rate'!F51","v":0},"n/a",{"$f":"'HoP Editor Rate'!I51","v":0}]
[{"$f":"'HoP Editor Rate'!A52","v":"00:00:00"},{"$f":"'HoP Editor Rate'!B52","v":0},{"$f":"'HoP Editor Rate'!C52","v":0},{"$f":"'HoP Editor Rate'!D52","v":false},"n/a",{"$f":"'HoP Editor Rate'!E52","v":0},{"$f":"'HoP Editor Rate'!F52","v":0},"n/a",{"$f":"'HoP Editor Rate'!I52","v":0}]
[{"$f":"'HoP Editor Rate'!A53","v":"00:00:00"},{"$f":"'HoP Editor Rate'!B53","v":0},{"$f":"'HoP Editor Rate'!C53","v":0},{"$f":"'HoP Editor Rate'!D53","v":false},"n/a",{"$f":"'HoP Editor Rate'!E53","v":0},{"$f":"'HoP Editor Rate'!F53","v":0},"n/a",{"$f":"'HoP Editor Rate'!I53","v":0}]
[{"$f":"'HoP Editor Rate'!A54","v":"00:00:00"},{"$f":"'HoP Editor Rate'!B54","v":0},{"$f":"'HoP Editor Rate'!C54","v":0},{"$f":"'HoP Editor Rate'!D54","v":false},"n/a",{"$f":"'HoP Editor Rate'!E54","v":0},{"$f":"'HoP Editor Rate'!F54","v":0},"n/a",{"$f":"'HoP Editor Rate'!I54","v":0}]
[{"$f":"'HoP Editor Rate'!A55","v":"00:00:00"},{"$f":"'HoP Editor Rate'!B55","v":0},{"$f":"'HoP Editor Rate'!C55","v":0},{"$f":"'HoP Editor Rate'!D55","v":false},"n/a",{"$f":"'HoP Editor Rate'!E55","v":0},{"$f":"'HoP Editor Rate'!F55","v":0},"n/a",{"$f":"'HoP Editor Rate'!I55","v":0}]
[{"$f":"'HoP Editor Rate'!A56","v":"00:00:00"},{"$f":"'HoP Editor Rate'!B56","v":0},{"$f":"'HoP Editor Rate'!C56","v":0},{"$f":"'HoP Editor Rate'!D56","v":false},"n/a",{"$f":"'HoP Editor Rate'!E56","v":0},{"$f":"'HoP Editor Rate'!F56","v":0},"n/a",{"$f":"'HoP Editor Rate'!I56","v":0}]
[{"$f":"'HoP Editor Rate'!A57","v":"00:00:00"},{"$f":"'HoP Editor Rate'!B57","v":0},{"$f":"'HoP Editor Rate'!C57","v":0},{"$f":"'HoP Editor Rate'!D57","v":false},"n/a",{"$f":"'HoP Editor Rate'!E57","v":0},{"$f":"'HoP Editor Rate'!F57","v":0},"n/a",{"$f":"'HoP Editor Rate'!I57","v":0}]
[{"$f":"'HoP Editor Rate'!A58","v":"00:00:00"},{"$f":"'HoP Editor Rate'!B58","v":0},{"$f":"'HoP Editor Rate'!C58","v":0},{"$f":"'HoP Editor Rate'!D58","v":false},"n/a",{"$f":"'HoP Editor Rate'!E58","v":0},{"$f":"'HoP Editor Rate'!F58","v":0},"n/a",{"$f":"'HoP Editor Rate'!I58","v":0}]
[{"$f":"'HoP Editor Rate'!A59","v":"00:00:00"},{"$f":"'HoP Editor Rate'!B59","v":0},{"$f":"'HoP Editor Rate'!C59","v":0},{"$f":"'HoP Editor Rate'!D59","v":false},"n/a",{"$f":"'HoP Editor Rate'!E59","v":0},{"$f":"'HoP Editor Rate'!F59","v":0},"n/a",{"$f":"'HoP Editor Rate'!I59","v":0}]
[{"$f":"'HoP Editor Rate'!A60","v":"00:00:00"},{"$f":"'HoP Editor Rate'!B60","v":0},{"$f":"'HoP Editor Rate'!C60","v":0},{"$f":"'HoP Editor Rate'!D60","v":false},"n/a",{"$f":"'HoP Editor Rate'!E60","v":0},{"$f":"'HoP Editor Rate'!F60","v":0},"n/a",{"$f":"'HoP Editor Rate'!I60","v":0}]
[{"$f":"'HoP Editor Rate'!A61","v":"00:00:00"},{"$f":"'HoP Editor Rate'!B61","v":0},{"$f":"'HoP Editor Rate'!C61","v":0},{"$f":"'HoP Editor Rate'!D61","v":false},"n/a",{"$f":"'HoP Editor Rate'!E61","v":0},{"$f":"'HoP Editor Rate'!F61","v":0},"n/a",{"$f":"'HoP Editor Rate'!I61","v":0}]
[{"$f":"'HoP Editor Rate'!A62","v":"00:00:00"},{"$f":"'HoP Editor Rate'!B62","v":0},{"$f":"'HoP Editor Rate'!C62","v":0},{"$f":"'HoP Editor Rate'!D62","v":false},"n/a",{"$f":"'HoP Editor Rate'!E62","v":0},{"$f":"'HoP Editor Rate'!F62","v":0},"n/a",{"$f":"'HoP Editor Rate'!I62","v":0}]
[]
[null,null,null,null,null,null,null,"Sub total Per Minute (NCW)",{"$f":"SUM(I18:I62)","v":0},null,{"$f":"'Per Minute Rate (NCW)'!K64/'Per Minute Rate (NCW)'!G64/24","v":{"$error":"#DIV/0!"}}]
[null,null,null,null,null,null,null,"Sub total Per Folio OT ",{"$f":"SUM(I63:I107)","v":0},null,{"$f":"'Per Folio Rate - \"OT\"'!H51/'Per Folio Rate - \"OT\"'!F51/24","v":{"$error":"#DIV/0!"}}]
[null,null,null,null,null,null,null,"Sub total Per Folio CR ",{"$f":"SUM(I108:I152)","v":0},null,{"$f":"'Per Folio Rate - \"CR\"'!H51/'Per Folio Rate - \"CR\"'!F51/24","v":{"$error":"#DIV/0!"}}]
[null,null,null,null,null,null,null,null,null,null,{"$f":"'QC + Hourly Rate'!B3","v":0}]
[null,null,null,null,null,null,null,"Bonus awarded"]
[null,null,null,null,null,null,null,"Sub total p/m (HoP Editor)",{"$f":"SUM(I198:I242)","v":0}]
[null,null,null,null,null,null,null,"Sub total Hourly Rate  ",{"$f":"SUM(I153:I197)","v":0}]
[null,null,null,null,"TOTAL",null,null,null,{"$f":"SUM(I244:I250)","v":0},null,{"$f":"SUM(K244:K247)/4","v":{"$error":"#DIV/0!"}}]

{"sheet":"Sheet1","index":7,"n_rows":40,"n_cols":1,"rows_kept":40,"cut":false,"hidden":true,"merged":[]}
["Poor quality"]
["Accent"]
["Referencing"]
["Other"]
[]
["Yes"]
["No"]
[]
["NCW QC"]
["CR QQ"]
["OT QC"]
["Proofreading"]
["Copy typing"]
["Other"]
[]
["1 to 2/3+ at length"]
["3+ "]
[]
[0.35]
[0.43]
[0.23]
[0.28999999999999998]
[]
[0.75]
[1]
[0.65]
[0.85]
[]
[]
[]
[]
["Level 1"]
["Level 2"]
["Level 3"]
["n/a - document fee"]
[]
[1.2]
[1.26]
[1.37]
[15]