{"text_format":"1","workbook":"xlsx","n_sheets":9,"sheets":["Completion instructions","Training","Standard","Legal","Client A","Client B","Hourly rate","VIQ UK USE ONLY Pay Advice","Sheet1"],"not_rendered":{"charts":0,"images":0,"macros":1,"external_links":0,"defined_names":18,"comments":0,"pivot_tables":0},"unopened":[],"bounds":{"document_bytes":16777216,"sheet_cells":100000,"rows_first":2000,"rows_last":500,"rows_between":2000,"halvings":0,"cell_chars":16384,"cell_head_chars":4096},"cells_cut":0,"cells_raw":0,"read":"whole","date_system":"1900"}

{"sheet":"Completion instructions","index":0,"n_rows":0,"n_cols":0,"rows_kept":0,"cut":false,"hidden":false,"merged":[]}

{"sheet":"Training","index":1,"n_rows":51,"n_cols":54,"rows_kept":51,"cut":false,"hidden":false,"merged":[[2,5,3,5],[2,0,3,0],[2,1,3,1],[2,2,3,2],[2,3,3,3],[2,4,3,4],[2,6,3,6],[2,7,3,7],[2,8,3,8],[2,9,3,9],[2,10,3,10]]}
[]
[null,null,null,null,null,null,null,null,null,null,null,null,null,null,null,null,null,null,null,null,null,null,null,null,null,null,null,null,null,null,null,null,null,null,null,null,null,null,null,null,null,null,null,null,null,null,null,null,null,null,null,null,null,"G"]
["Date TC Ret'd (DD/MM/YY)"," Full Transcript Saving Code","Number of voices","Rate claimed","Additional Claim","Duration (Minute format only)","Time taken (HH:MM)","QC score","Base amount","Additional claim","Total",null,null,null,null,null,null,null,null,null,null,null,null,null,null,null,null,null,null,null,null,null,null,null,null,null,null,null,null,null,null,null,null,null,null,null,null,null,null,null,null,null,null,"Editing - D, PD"]
[null,null,null,null,null,null,null,null,null,null,null,null,null,null,null,null,null,null,null,null,null,null,null,null,null,null,null,null,null,null,null,null,null,null,null,null,null,null,null,null,null,null,null,null,null,null,null,null,null,null,null,null,null,"Editing - G"]
[null,null,null,{"$f":"IF(C5=\"1 to 3\",\"£0.80\",IF(C5=\"4+\",\"£0.80\"))","v":false},null,null,null,null,{"$f":"D5*F5","v":0},{"$f":"IF((OR(E5=\"Poor quality\", E5=\"Accent\", E5=\"Referencing\", E5=\"Other\")), I5*10%,I5*0)","v":0},{"$f":"SUM(I5:J5)","v":0}]
[null,null,null,false,null,null,null,null,{"$f":"D6*F6","v":0},0,{"$f":"SUM(I6:J6)","v":0}]
[null,null,null,false,null,null,null,null,0,0,0]
[null,null,null,false,null,null,null,null,0,0,0]
[null,null,null,false,null,null,null,null,0,0,0]
[null,null,null,false,null,null,null,null,0,0,0]
[null,null,null,false,null,null,null,null,0,0,0]
[null,null,null,false,null,null,null,null,0,0,0]
[null,null,null,false,null,null,null,null,0,0,0]
[null,null,null,false,null,null,null,null,0,0,0]
[null,null,null,false,null,null,null,null,0,0,0]
[null,null,null,false,null,null,null,null,0,0,0]
[null,null,null,false,null,null,null,null,0,0,0]
[null,null,null,false,null,null,null,null,0,0,0]
[null,null,null,false,null,null,null,null,0,0,0]
[null,null,null,false,null,null,null,null,0,0,0]
[null,null,null,false,null,null,null,null,0,0,0]
[null,null,null,false,null,null,null,null,0,0,0]
[null,null,null,false,null,null,null,null,0,0,0]
[null,null,null,false,null,null,null,null,0,0,0]
[null,null,null,false,null,null,null,null,0,0,0]
[null,null,null,false,null,null,null,null,0,0,0]
[null,null,null,false,null,null,null,null,0,0,0]
[null,null,null,false,null,null,null,null,0,0,0]
[null,null,null,false,null,null,null,null,0,0,0]
[null,null,null,false,null,null,null,null,0,0,0]
[null,null,null,false,null,null,null,null,0,0,0]
[null,null,null,false,null,null,null,null,0,0,0]
[null,null,null,false,null,null,null,null,0,0,0]
[null,null,null,false,null,null,null,null,0,0,0]
[null,null,null,false,null,null,null,null,0,0,0]
[null,null,null,false,null,null,null,null,0,0,0]
[null,null,null,false,null,null,null,null,0,0,0]
[null,null,null,false,null,null,null,null,0,0,0]
[null,null,null,false,null,null,null,null,0,0,0]
[null,null,null,false,null,null,null,null,0,0,0]
[null,null,null,false,null,null,null,null,0,0,0]
[null,null,null,false,null,null,null,null,0,0,0]
[null,null,null,false,null,null,null,null,0,0,0]
[null,null,null,false,null,null,null,null,0,0,0]
[null,null,null,false,null,null,null,null,0,0,0]
[null,null,null,false,null,null,null,null,0,0,0]
[null,null,null,false,null,null,null,null,0,0,0]
[null,null,null,false,null,null,null,null,0,0,0]
[null,null,null,false,null,null,null,null,0,0,0]
[]
[null,null,null,null,null,{"$f":"SUM(F5:F49)","v":0},{"$f":"SUM(G5:G49)","v":0},null,null,null,{"$f":"SUM(K5:K49)","v":0}]

{"sheet":"Standard","index":2,"n_rows":119,"n_cols":54,"rows_kept":119,"cut":false,"hidden":false,"merged":[[15,0,16,0],[15,1,16,1],[15,6,16,6],[15,10,16,10],[11,0,11,1],[12,0,12,1],[13,0,13,1],[15,8,16,8],[15,9,16,9],[15,3,16,3],[9,2,9,5],[11,2,11,7],[12,2,12,7],[13,2,13,7],[15,2,16,2],[15,4,16,4],[15,5,16,5],[15,7,16,7]]}
[]
["NAME"]
["ADDRESS"]
["ADDRESS"]
["ADDRESS"]
["POST CODE"]
["EMAIL ADDRESS:"]
["PHONE NUMBER:"]
[]
["PAYMENT OF INVOICES FOR WORK CARRIED OUT IN",null,"MONTH",null,null,null,"YEAR"]
[]
["Bank Account Name (if different from last pay)"]
["Sort Code (if different from last pay)"]
["Account Number (if different from last pay)",null,null,null,null,null,null,null,null,null,null,null,null,null,null,null,null,null,null,null,null,null,null,null,null,null,null,null,null,null,null,null,null,null,null,null,null,null,null,null,null,null,null,null,null,null,null,null,null,null,null,null,null,"D, PD"]
[null,null,null,null,null,null,null,null,null,null,null,null,null,null,null,null,null,null,null,null,null,null,null,null,null,null,null,null,null,null,null,null,null,null,null,null,null,null,null,null,null,null,null,null,null,null,null,null,null,null,null,null,null,"G"]
["Date TC Ret'd (DD/MM/YY)"," Full Transcript Saving Code","Number of voices","Rate claimed","Additional Claim","Duration (Minute format only)","Time taken (HH:MM)","QC score","Base amount","Additional claim","Total",null,null,null,null,null,null,null,null,null,null,null,null,null,null,null,null,null,null,null,null,null,null,null,null,null,null,null,null,null,null,null,null,null,null,null,null,null,null,null,null,null,null,"Editing - D, PD"]
[null,null,null,null,null,null,null,null,null,null,null,null,null,null,null,null,null,null,null,null,null,null,null,null,null,null,null,null,null,null,null,null,null,null,null,null,null,null,null,null,null,null,null,null,null,null,null,null,null,null,null,null,null,"Editing - G"]
[null,null,null,{"$f":"IF(C18=\"1 to 3\",\"£0.80\",IF(C18=\"4+\",\"£1.04\"))","v":false},null,null,null,null,{"$f":"D18*F18","v":0},{"$f":"IF((OR(E18=\"Poor quality\", E18=\"Accent\", E18=\"Referencing\", E18=\"Other\")), I18*10%,I18*0)","v":0},{"$f":"SUM(I18:J18)","v":0}]
[null,null,null,false,null,null,null,null,0,0,0]
[null,null,null,false,null,null,null,null,0,0,0]
[null,null,null,false,null,null,null,null,0,0,0]
[null,null,null,false,null,null,null,null,0,0,0]
[null,null,null,false,null,null,null,null,0,0,0]
[null,null,null,false,null,null,null,null,0,0,0]
[null,null,null,false,null,null,null,null,0,0,0]
[null,null,null,false,null,null,null,null,0,0,0]
[null,null,null,false,null,null,null,null,0,0,0]
[null,null,null,false,null,null,null,null,0,0,0]
[null,null,null,false,null,null,null,null,0,0,0]
[null,null,null,false,null,null,null,null,0,0,0]
[null,null,null,false,null,null,null,null,0,0,0]
[null,null,null,false,null,null,null,null,0,0,0]
[null,null,null,false,null,null,null,null,0,0,0]
[null,null,null,false,null,null,null,null,0,0,0]
[null,null,null,false,null,null,null,null,0,0,0]
[null,null,null,false,null,null,null,null,0,0,0]
[null,null,null,false,null,null,null,null,0,0,0]
[null,null,null,false,null,null,null,null,0,0,0]
[null,null,null,false,null,null,null,null,0,0,0]
[null,null,null,false,null,null,null,null,0,0,0]
[null,null,null,false,null,null,null,null,0,0,0]
[null,null,null,false,null,null,null,null,0,0,0]
[null,null,null,false,null,null,null,null,0,0,0]
[null,null,null,false,null,null,null,null,0,0,0]
[null,null,null,false,null,null,null,null,0,0,0]
[null,null,null,false,null,null,null,null,0,0,0]
[null,null,null,false,null,null,null,null,0,0,0]
[null,null,null,false,null,null,null,null,0,0,0]
[null,null,null,false,null,null,null,null,0,0,0]
[null,null,null,false,null,null,null,null,0,0,0]
[null,null,null,false,null,null,null,null,0,0,0]
[null,null,null,false,null,null,null,null,0,0,0]
[null,null,null,false,null,null,null,null,0,0,0]
[null,null,null,false,null,null,null,null,{"$f":"D54*F54","v":0},{"$f":"IF((OR(E54=\"Poor quality\", E54=\"Accent\", E54=\"Referencing\", E54=\"Other\")), I54*10%,I54*0)","v":0},{"$f":"SUM(I54:J54)","v":0}]
[null,null,null,false,null,null,null,null,0,0,0]
[null,null,null,false,null,null,null,null,0,0,0]
[null,null,null,false,null,null,null,null,0,0,0]
[null,null,null,false,null,null,null,null,0,0,0]
[null,null,null,false,null,null,null,null,0,0,0]
[null,null,null,false,null,null,null,null,0,0,0]
[null,null,null,false,null,null,null,null,0,0,0]
[null,null,null,false,null,null,null,null,0,0,0]
[null,null,null,false,null,null,null,null,0,0,0]
[null,null,null,false,null,null,null,null,0,0,0]
[null,null,null,false,null,null,null,null,0,0,0]
[null,null,null,false,null,null,null,null,0,0,0]
[null,null,null,false,null,null,null,null,0,0,0]
[null,null,null,false,null,null,null,null,0,0,0]
[null,null,null,false,null,null,null,null,0,0,0]
[null,null,null,false,null,null,null,null,0,0,0]
[null,null,null,false,null,null,null,null,0,0,0]
[null,null,null,false,null,null,null,null,0,0,0]
[null,null,null,false,null,null,null,null,0,0,0]
[null,null,null,false,null,null,null,null,0,0,0]
[null,null,null,false,null,null,null,null,0,0,0]
[null,null,null,false,null,null,null,null,0,0,0]
[null,null,null,false,null,null,null,null,0,0,0]
[null,null,null,false,null,null,null,null,0,0,0]
[null,null,null,false,null,null,null,null,0,0,0]
[null,null,null,false,null,null,null,null,0,0,0]
[null,null,null,false,null,null,null,null,0,0,0]
[null,null,null,false,null,null,null,null,0,0,0]
[null,null,null,false,null,null,null,null,0,0,0]
[null,null,null,false,null,null,null,null,0,0,0]
[null,null,null,false,null,null,null,null,0,0,0]
[null,null,null,false,null,null,null,null,0,0,0]
[null,null,null,false,null,null,null,null,0,0,0]
[null,null,null,false,null,null,null,null,0,0,0]
[null,null,null,false,null,null,null,null,0,0,0]
[null,null,null,false,null,null,null,null,0,0,0]
[null,null,null,false,null,null,null,null,{"$f":"D91*F91","v":0},{"$f":"IF((OR(E91=\"Poor quality\", E91=\"Accent\", E91=\"Referencing\", E91=\"Other\")), I91*10%,I91*0)","v":0},{"$f":"SUM(I91:J91)","v":0}]
[null,null,null,false,null,null,null,null,{"$f":"D92*F92","v":0},{"$f":"IF((OR(E92=\"Poor quality\", E92=\"Accent\", E92=\"Referencing\", E92=\"Other\")), I92*10%,I92*0)","v":0},{"$f":"SUM(I92:J92)","v":0}]
[null,null,null,false,null,null,null,null,0,0,0]
[null,null,null,false,null,null,null,null,0,0,0]
[null,null,null,false,null,null,null,null,0,0,0]
[null,null,null,false,null,null,null,null,0,0,0]
[null,null,null,false,null,null,null,null,0,0,0]
[null,null,null,false,null,null,null,null,0,0,0]
[null,null,null,false,null,null,null,null,0,0,0]
[null,null,null,false,null,null,null,null,0,0,0]
[null,null,null,false,null,null,null,null,0,0,0]
[null,null,null,false,null,null,null,null,0,0,0]
[null,null,null,false,null,null,null,null,0,0,0]
[null,null,null,false,null,null,null,null,0,0,0]
[null,null,null,false,null,null,null,null,0,0,0]
[null,null,null,false,null,null,null,null,0,0,0]
[null,null,null,false,null,null,null,null,0,0,0]
[null,null,null,false,null,null,null,null,0,0,0]
[null,null,null,false,null,null,null,null,0,0,0]
[null,null,null,false,null,null,null,null,0,0,0]
[null,null,null,false,null,null,null,null,0,0,0]
[null,null,null,false,null,null,null,null,0,0,0]
[null,null,null,false,null,null,null,null,0,0,0]
[null,null,null,false,null,null,null,null,0,0,0]
[null,null,null,false,null,null,null,null,0,0,0]
[null,null,null,false,null,null,null,null,0,0,0]
[null,null,null,false,null,null,null,null,0,0,0]
[]
[null,null,null,null,null,{"$f":"SUM(F18:F117)","v":0},{"$f":"SUM(G18:G117)","v":0},null,null,null,{"$f":"SUM(K18:K117)","v":0}]

{"sheet":"Legal","index":3,"n_rows":106,"n_cols":54,"rows_kept":106,"cut":false,"hidden":false,"merged":[[2,5,3,5],[2,0,3,0],[2,1,3,1],[2,2,3,2],[2,3,3,3],[2,4,3,4],[2,6,3,6],[2,7,3,7],[2,8,3,8],[2,9,3,9],[2,10,3,10]]}
[]
[null,null,null,null,null,null,null,null,null,null,null,null,null,null,null,null,null,null,null,null,null,null,null,null,null,null,null,null,null,null,null,null,null,null,null,null,null,null,null,null,null,null,null,null,null,null,null,null,null,null,null,null,null,"G"]
["Date TC Ret'd (DD/MM/YY)"," Full Transcript Saving Code","Number of voices","Rate claimed","Additional Claim","Duration (Minute format only)","Time taken (HH:MM)","QC score","Base amount","Additional claim","Total",null,null,null,null,null,null,null,null,null,null,null,null,null,null,null,null,null,null,null,null,null,null,null,null,null,null,null,null,null,null,null,null,null,null,null,null,null,null,null,null,null,null,"Editing - D, PD"]
[null,null,null,null,null,null,null,null,null,null,null,null,null,null,null,null,null,null,null,null,null,null,null,null,null,null,null,null,null,null,null,null,null,null,null,null,null,null,null,null,null,null,null,null,null,null,null,null,null,null,null,null,null,"Editing - G"]
[null,null,null,{"$f":"IF(C5=\"1 to 3\",\"£0.90\",IF(C5=\"4+\",\"£0.98\"))","v":false},null,null,null,null,{"$f":"D5*F5","v":0},{"$f":"IF((OR(E5=\"Poor quality\", E5=\"Accent\", E5=\"Referencing\", E5=\"Other\")), I5*10%,I5*0)","v":0},{"$f":"SUM(I5:J5)","v":0}]
[null,null,null,{"$f":"IF(C6=\"1 to 3\",\"£0.90\",IF(C6=\"4+\",\"£0.98\"))","v":false},null,null,null,null,0,0,0]
[null,null,null,false,null,null,null,null,0,0,0]
[null,null,null,false,null,null,null,null,0,0,0]
[null,null,null,false,null,null,null,null,0,0,0]
[null,null,null,false,null,null,null,null,0,0,0]
[null,null,null,false,null,null,null,null,0,0,0]
[null,null,null,false,null,null,null,null,0,0,0]
[null,null,null,false,null,null,null,null,0,0,0]
[null,null,null,false,null,null,null,null,0,0,0]
[null,null,null,false,null,null,null,null,0,0,0]
[null,null,null,false,null,null,null,null,0,0,0]
[null,null,null,false,null,null,null,null,0,0,0]
[null,null,null,false,null,null,null,null,0,0,0]
[null,null,null,false,null,null,null,null,0,0,0]
[null,null,null,false,null,null,null,null,0,0,0]
[null,null,null,false,null,null,null,null,0,0,0]
[null,null,null,false,null,null,null,null,0,0,0]
[null,null,null,false,null,null,null,null,0,0,0]
[null,null,null,false,null,null,null,null,0,0,0]
[null,null,null,false,null,null,null,null,{"$f":"D25*F25","v":0},{"$f":"IF((OR(E25=\"Poor quality\", E25=\"Accent\", E25=\"Referencing\", E25=\"Other\")), I25*10%,I25*0)","v":0},{"$f":"SUM(I25:J25)","v":0}]
[null,null,null,false,null,null,null,null,0,0,0]
[null,null,null,false,null,null,null,null,0,0,0]
[null,null,null,false,null,null,null,null,0,0,0]
[null,null,null,false,null,null,null,null,0,0,0]
[null,null,null,false,null,null,null,null,0,0,0]
[null,null,null,false,null,null,null,null,0,0,0]
[null,null,null,false,null,null,null,null,0,0,0]
[null,null,null,false,null,null,null,null,0,0,0]
[null,null,null,false,null,null,null,null,0,0,0]
[null,null,null,false,null,null,null,null,0,0,0]
[null,null,null,false,null,null,null,null,0,0,0]
[null,null,null,false,null,null,null,null,0,0,0]
[null,null,null,false,null,null,null,null,0,0,0]
[null,null,null,false,null,null,null,null,0,0,0]
[null,null,null,false,null,null,null,null,0,0,0]
[null,null,null,false,null,null,null,null,0,0,0]
[null,null,null,false,null,null,null,null,0,0,0]
[null,null,null,false,null,null,null,null,0,0,0]
[null,null,null,false,null,null,null,null,0,0,0]
[null,null,null,false,null,null,null,null,0,0,0]
[null,null,null,false,null,null,null,null,0,0,0]
[null,null,null,false,null,null,null,null,0,0,0]
[null,null,null,false,null,null,null,null,0,0,0]
[null,null,null,false,null,null,null,null,0,0,0]
[null,null,null,false,null,null,null,null,0,0,0]
[null,null,null,false,null,null,null,null,0,0,0]
[null,null,null,false,null,null,null,null,0,0,0]
[null,null,null,false,null,null,null,null,0,0,0]
[null,null,null,false,null,null,null,null,0,0,0]
[null,null,null,false,null,null,null,null,0,0,0]
[null,null,null,false,null,null,null,null,0,0,0]
[null,null,null,false,null,null,null,null,0,0,0]
[null,null,null,false,null,null,null,null,0,0,0]
[null,null,null,false,null,null,null,null,0,0,0]
[null,null,null,false,null,null,null,null,0,0,0]
[null,null,null,false,null,null,null,null,0,0,0]
[null,null,null,false,null,null,null,null,0,0,0]
[null,null,null,false,null,null,null,null,0,0,0]
[null,null,null,false,null,null,null,null,0,0,0]
[null,null,null,false,null,null,null,null,0,0,0]
[null,null,null,false,null,null,null,null,0,0,0]
[null,null,null,false,null,null,null,null,0,0,0]
[null,null,null,false,null,null,null,null,0,0,0]
[null,null,null,false,null,null,null,null,0,0,0]
[null,null,null,{"$f":"IF(C70=\"1 to 3\",\"£0.90\",IF(C70=\"4+\",\"£0.98\"))","v":false},null,null,null,null,0,0,0]
[null,null,null,false,null,null,null,null,0,0,0]
[null,null,null,false,null,null,null,null,0,0,0]
[null,null,null,false,null,null,null,null,0,0,0]
[null,null,null,false,null,null,null,null,0,0,0]
[null,null,null,false,null,null,null,null,0,0,0]
[null,null,null,false,null,null,null,null,0,0,0]
[null,null,null,false,null,null,null,null,0,0,0]
[null,null,null,false,null,null,null,null,0,0,0]
[null,null,null,false,null,null,null,null,0,0,0]
[null,null,null,false,null,null,null,null,0,0,0]
[null,null,null,false,null,null,null,null,0,0,0]
[null,null,null,false,null,null,null,null,0,0,0]
[null,null,null,false,null,null,null,null,0,0,0]
[null,null,null,false,null,null,null,null,0,0,0]
[null,null,null,false,null,null,null,null,0,0,0]
[null,null,null,false,null,null,null,null,0,0,0]
[null,null,null,false,null,null,null,null,0,0,0]
[null,null,null,false,null,null,null,null,0,0,0]
[null,null,null,false,null,null,null,null,{"$f":"D89*F89","v":0},{"$f":"IF((OR(E89=\"Poor quality\", E89=\"Accent\", E89=\"Referencing\", E89=\"Other\")), I89*10%,I89*0)","v":0},{"$f":"SUM(I89:J89)","v":0}]
[null,null,null,false,null,null,null,null,0,0,0]
[null,null,null,false,null,null,null,null,0,0,0]
[null,null,null,false,null,null,null,null,0,0,0]
[null,null,null,false,null,null,null,null,0,0,0]
[null,null,null,false,null,null,null,null,0,0,0]
[null,null,null,false,null,null,null,null,0,0,0]
[null,null,null,false,null,null,null,null,0,0,0]
[null,null,null,false,null,null,null,null,0,0,0]
[null,null,null,false,null,null,null,null,0,0,0]
[null,null,null,false,null,null,null,null,0,0,0]
[null,null,null,false,null,null,null,null,0,0,0]
[null,null,null,false,null,null,null,null,0,0,0]
[null,null,null,false,null,null,null,null,0,0,0]
[null,null,null,false,null,null,null,null,0,0,0]
[null,null,null,false,null,null,null,null,0,0,0]
[]
[null,null,null,null,null,{"$f":"SUM(F5:F104)","v":0},{"$f":"SUM(G5:G104)","v":0},null,null,null,{"$f":"SUM(K5:K104)","v":0}]

{"sheet":"Client A","index":4,"n_rows":156,"n_cols":54,"rows_kept":156,"cut":false,"hidden":false,"merged":[[2,5,3,5],[2,0,3,0],[2,1,3,1],[2,2,3,2],[2,3,3,3],[2,4,3,4],[2,6,3,6],[2,7,3,7],[2,8,3,8],[2,9,3,9],[2,10,3,10]]}
[]
[null,null,null,null,null,null,null,null,null,null,null,null,null,null,null,null,null,null,null,null,null,null,null,null,null,null,null,null,null,null,null,null,null,null,null,null,null,null,null,null,null,null,null,null,null,null,null,null,null,null,null,null,null,"G"]
["Date TC Ret'd (DD/MM/YY)"," Full Transcript Saving Code","Number of voices","Rate claimed","Additional Claim","Duration (Minute format only)","Time taken (HH:MM)","QC score","Base amount","Additional claim","Total",null,null,null,null,null,null,null,null,null,null,null,null,null,null,null,null,null,null,null,null,null,null,null,null,null,null,null,null,null,null,null,null,null,null,null,null,null,null,null,null,null,null,"Editing - D, PD"]
[null,null,null,null,null,null,null,null,null,null,null,null,null,null,null,null,null,null,null,null,null,null,null,null,null,null,null,null,null,null,null,null,null,null,null,null,null,null,null,null,null,null,null,null,null,null,null,null,null,null,null,null,null,"Editing - G"]
[null,null,null,{"$f":"IF(C5=\"1 to 3\",\"£0.84\",IF(C5=\"4+\",\"£0.84\"))","v":false},null,null,null,null,{"$f":"D5*F5","v":0},{"$f":"IF((OR(E5=\"Poor quality\", E5=\"Accent\", E5=\"Referencing\", E5=\"Other\")), I5*10%,I5*0)","v":0},{"$f":"SUM(I5:J5)","v":0}]
[null,null,null,{"$f":"IF(C6=\"1 to 3\",\"£0.84\",IF(C6=\"4+\",\"£0.84\"))","v":false},null,null,null,null,0,0,0]
[null,null,null,false,null,null,null,null,0,0,0]
[null,null,null,false,null,null,null,null,0,0,0]
[null,null,null,false,null,null,null,null,0,0,0]
[null,null,null,false,null,null,null,null,0,0,0]
[null,null,null,false,null,null,null,null,0,0,0]
[null,null,null,false,null,null,null,null,0,0,0]
[null,null,null,false,null,null,null,null,0,0,0]
[null,null,null,false,null,null,null,null,0,0,0]
[null,null,null,false,null,null,null,null,0,0,0]
[null,null,null,false,null,null,null,null,0,0,0]
[null,null,null,false,null,null,null,null,0,0,0]
[null,null,null,false,null,null,null,null,0,0,0]
[null,null,null,false,null,null,null,null,0,0,0]
[null,null,null,false,null,null,null,null,0,0,0]
[null,null,null,false,null,null,null,null,0,0,0]
[null,null,null,false,null,null,null,null,0,0,0]
[null,null,null,false,null,null,null,null,0,0,0]
[null,null,null,false,null,null,null,null,0,0,0]
[null,null,null,false,null,null,null,null,0,0,0]
[null,null,null,false,null,null,null,null,0,0,0]
[null,null,null,false,null,null,null,null,0,0,0]
[null,null,null,false,null,null,null,null,0,0,0]
[null,null,null,false,null,null,null,null,0,0,0]
[null,null,null,false,null,null,null,null,0,0,0]
[null,null,null,false,null,null,null,null,0,0,0]
[null,null,null,false,null,null,null,null,0,0,0]
[null,null,null,false,null,null,null,null,0,0,0]
[null,null,null,false,null,null,null,null,0,0,0]
[null,null,null,false,null,null,null,null,0,0,0]
[null,null,null,false,null,null,null,null,0,0,0]
[null,null,null,false,null,null,null,null,0,0,0]
[null,null,null,false,null,null,null,null,0,0,0]
[null,null,null,false,null,null,null,null,0,0,0]
[null,null,null,false,null,null,null,null,0,0,0]
[null,null,null,false,null,null,null,null,0,0,0]
[null,null,null,false,null,null,null,null,0,0,0]
[null,null,null,false,null,null,null,null,0,0,0]
[null,null,null,false,null,null,null,null,0,0,0]
[null,null,null,false,null,null,null,null,0,0,0]
[null,null,null,false,null,null,null,null,0,0,0]
[null,null,null,false,null,null,null,null,0,0,0]
[null,null,null,false,null,null,null,null,0,0,0]
[null,null,null,false,null,null,null,null,0,0,0]
[null,null,null,false,null,null,null,null,0,0,0]
[null,null,null,false,null,null,null,null,0,0,0]
[null,null,null,false,null,null,null,null,0,0,0]
[null,null,null,false,null,null,null,null,0,0,0]
[null,null,null,false,null,null,null,null,0,0,0]
[null,null,null,false,null,null,null,null,0,0,0]
[null,null,null,false,null,null,null,null,0,0,0]
[null,null,null,false,null,null,null,null,0,0,0]
[null,null,null,false,null,null,null,null,0,0,0]
[null,null,null,false,null,null,null,null,0,0,0]
[null,null,null,false,null,null,null,null,0,0,0]
[null,null,null,false,null,null,null,null,0,0,0]
[null,null,null,false,null,null,null,null,0,0,0]
[null,null,null,false,null,null,null,null,0,0,0]
[null,null,null,false,null,null,null,null,0,0,0]
[null,null,null,false,null,null,null,null,0,0,0]
[null,null,null,false,null,null,null,null,0,0,0]
[null,null,null,false,null,null,null,null,0,0,0]
[null,null,null,false,null,null,null,null,0,0,0]
[null,null,null,false,null,null,null,null,{"$f":"D69*F69","v":0},{"$f":"IF((OR(E69=\"Poor quality\", E69=\"Accent\", E69=\"Referencing\", E69=\"Other\")), I69*10%,I69*0)","v":0},{"$f":"SUM(I69:J69)","v":0}]
[null,null,null,{"$f":"IF(C70=\"1 to 3\",\"£0.84\",IF(C70=\"4+\",\"£0.84\"))","v":false},null,null,null,null,0,0,0]
[null,null,null,false,null,null,null,null,0,0,0]
[null,null,null,false,null,null,null,null,0,0,0]
[null,null,null,false,null,null,null,null,0,0,0]
[null,null,null,false,null,null,null,null,0,0,0]
[null,null,null,false,null,null,null,null,0,0,0]
[null,null,null,false,null,null,null,null,0,0,0]
[null,null,null,false,null,null,null,null,0,0,0]
[null,null,null,false,null,null,null,null,0,0,0]
[null,null,null,false,null,null,null,null,0,0,0]
[null,null,null,false,null,null,null,null,0,0,0]
[null,null,null,false,null,null,null,null,0,0,0]
[null,null,null,false,null,null,null,null,0,0,0]
[null,null,null,false,null,null,null,null,0,0,0]
[null,null,null,false,null,null,null,null,0,0,0]
[null,null,null,false,null,null,null,null,0,0,0]
[null,null,null,false,null,null,null,null,0,0,0]
[null,null,null,false,null,null,null,null,0,0,0]
[null,null,null,false,null,null,null,null,0,0,0]
[null,null,null,false,null,null,null,null,0,0,0]
[null,null,null,false,null,null,null,null,0,0,0]
[null,null,null,false,null,null,null,null,0,0,0]
[null,null,null,false,null,null,null,null,0,0,0]
[null,null,null,false,null,null,null,null,0,0,0]
[null,null,null,false,null,null,null,null,0,0,0]
[null,null,null,false,null,null,null,null,0,0,0]
[null,null,null,false,null,null,null,null,0,0,0]
[null,null,null,false,null,null,null,null,0,0,0]
[null,null,null,false,null,null,null,null,0,0,0]
[null,null,null,false,null,null,null,null,0,0,0]
[null,null,null,false,null,null,null,null,0,0,0]
[null,null,null,false,null,null,null,null,0,0,0]
[null,null,null,false,null,null,null,null,0,0,0]
[null,null,null,false,null,null,null,null,{"$f":"D103*F103","v":0},{"$f":"IF((OR(E103=\"Poor quality\", E103=\"Accent\", E103=\"Referencing\", E103=\"Other\")), I103*10%,I103*0)","v":0},{"$f":"SUM(I103:J103)","v":0}]
[null,null,null,false,null,null,null,null,0,0,0]
[null,null,null,false,null,null,null,null,0,0,0]
[null,null,null,false,null,null,null,null,0,0,0]
[null,null,null,false,null,null,null,null,0,0,0]
[null,null,null,false,null,null,null,null,0,0,0]
[null,null,null,false,null,null,null,null,0,0,0]
[null,null,null,false,null,null,null,null,0,0,0]
[null,null,null,false,null,null,null,null,0,0,0]
[null,null,null,false,null,null,null,null,0,0,0]
[null,null,null,false,null,null,null,null,0,0,0]
[null,null,null,false,null,null,null,null,0,0,0]
[null,null,null,false,null,null,null,null,0,0,0]
[null,null,null,false,null,null,null,null,0,0,0]
[null,null,null,false,null,null,null,null,0,0,0]
[null,null,null,false,null,null,null,null,0,0,0]
[null,null,null,false,null,null,null,null,0,0,0]
[null,null,null,false,null,null,null,null,0,0,0]
[null,null,null,false,null,null,null,null,0,0,0]
[null,null,null,false,null,null,null,null,0,0,0]
[null,null,null,false,null,null,null,null,0,0,0]
[null,null,null,false,null,null,null,null,0,0,0]
[null,null,null,false,null,null,null,null,0,0,0]
[null,null,null,false,null,null,null,null,0,0,0]
[null,null,null,false,null,null,null,null,0,0,0]
[null,null,null,false,null,null,null,null,0,0,0]
[null,null,null,false,null,null,null,null,0,0,0]
[null,null,null,false,null,null,null,null,0,0,0]
[null,null,null,false,null,null,null,null,0,0,0]
[null,null,null,false,null,null,null,null,0,0,0]
[null,null,null,false,null,null,null,null,0,0,0]
[null,null,null,false,null,null,null,null,0,0,0]
[null,null,null,false,null,null,null,null,0,0,0]
[null,null,null,false,null,null,null,null,0,0,0]
[null,null,null,false,null,null,null,null,0,0,0]
[null,null,null,false,null,null,null,null,0,0,0]
[null,null,null,false,null,null,null,null,0,0,0]
[null,null,null,false,null,null,null,null,0,0,0]
[null,null,null,false,null,null,null,null,0,0,0]
[null,null,null,false,null,null,null,null,0,0,0]
[null,null,null,false,null,null,null,null,0,0,0]
[null,null,null,false,null,null,null,null,0,0,0]
[null,null,null,false,null,null,null,null,0,0,0]
[null,null,null,false,null,null,null,null,0,0,0]
[null,null,null,false,null,null,null,null,0,0,0]
[null,null,null,false,null,null,null,null,0,0,0]
[null,null,null,false,null,null,null,null,0,0,0]
[null,null,null,false,null,null,null,null,0,0,0]
[null,null,null,false,null,null,null,null,0,0,0]
[null,null,null,false,null,null,null,null,{"$f":"D152*F152","v":0},{"$f":"IF((OR(E152=\"Poor quality\", E152=\"Accent\", E152=\"Referencing\", E152=\"Other\")), I152*10%,I152*0)","v":0},{"$f":"SUM(I152:J152)","v":0}]
[null,null,null,false,null,null,null,null,0,0,0]
[null,null,null,{"$f":"IF(C154=\"1 to 3\",\"£0.84\",IF(C154=\"4+\",\"£0.84\"))","v":false},null,null,null,null,0,0,0]
[]
[null,null,null,null,null,{"$f":"SUM(F5:F154)","v":0},{"$f":"SUM(G5:G154)","v":0},null,null,null,{"$f":"SUM(K5:K154)","v":0}]

{"sheet":"Client B","index":5,"n_rows":156,"n_cols":54,"rows_kept":156,"cut":false,"hidden":false,"merged":[[2,5,3,5],[2,0,3,0],[2,1,3,1],[2,2,3,2],[2,3,3,3],[2,4,3,4],[2,6,3,6],[2,7,3,7],[2,8,3,8],[2,9,3,9],[2,10,3,10]]}
[]
[null,null,null,null,null,null,null,null,null,null,null,null,null,null,null,null,null,null,null,null,null,null,null,null,null,null,null,null,null,null,null,null,null,null,null,null,null,null,null,null,null,null,null,null,null,null,null,null,null,null,null,null,null,"G"]
["Date TC Ret'd (DD/MM/YY)"," Full Transcript Saving Code","Number of voices","Rate claimed","Additional Claim","Duration (Minute format only)","Time taken (HH:MM)","QC score","Base amount","Additional claim","Total",null,null,null,null,null,null,null,null,null,null,null,null,null,null,null,null,null,null,null,null,null,null,null,null,null,null,null,null,null,null,null,null,null,null,null,null,null,null,null,null,null,null,"Editing - D, PD"]
[null,null,null,null,null,null,null,null,null,null,null,null,null,null,null,null,null,null,null,null,null,null,null,null,null,null,null,null,null,null,null,null,null,null,null,null,null,null,null,null,null,null,null,null,null,null,null,null,null,null,null,null,null,"Editing - G"]
[null,null,null,{"$f":"IF(C5=\"1 to 3\",\"£0.84\",IF(C5=\"4+\",\"£0.84\"))","v":false},null,null,null,null,{"$f":"D5*F5","v":0},{"$f":"IF((OR(E5=\"Poor quality\", E5=\"Accent\", E5=\"Referencing\", E5=\"Other\")), I5*10%,I5*0)","v":0},{"$f":"SUM(I5:J5)","v":0}]
[null,null,null,{"$f":"IF(C6=\"1 to 3\",\"£0.84\",IF(C6=\"4+\",\"£0.84\"))","v":false},null,null,null,null,0,0,0]
[null,null,null,false,null,null,null,null,0,0,0]
[null,null,null,false,null,null,null,null,0,0,0]
[null,null,null,false,null,null,null,null,0,0,0]
[null,null,null,false,null,null,null,null,0,0,0]
[null,null,null,false,null,null,null,null,0,0,0]
[null,null,null,false,null,null,null,null,0,0,0]
[null,null,null,false,null,null,null,null,0,0,0]
[null,null,null,false,null,null,null,null,0,0,0]
[null,null,null,false,null,null,null,null,0,0,0]
[null,null,null,false,null,null,null,null,0,0,0]
[null,null,null,false,null,null,null,null,0,0,0]
[null,null,null,false,null,null,null,null,0,0,0]
[null,null,null,false,null,null,null,null,0,0,0]
[null,null,null,false,null,null,null,null,0,0,0]
[null,null,null,false,null,null,null,null,0,0,0]
[null,null,null,false,null,null,null,null,0,0,0]
[null,null,null,false,null,null,null,null,0,0,0]
[null,null,null,false,null,null,null,null,0,0,0]
[null,null,null,false,null,null,null,null,0,0,0]
[null,null,null,false,null,null,null,null,0,0,0]
[null,null,null,false,null,null,null,null,0,0,0]
[null,null,null,false,null,null,null,null,0,0,0]
[null,null,null,false,null,null,null,null,0,0,0]
[null,null,null,false,null,null,null,null,0,0,0]
[null,null,null,false,null,null,null,null,0,0,0]
[null,null,null,false,null,null,null,null,0,0,0]
[null,null,null,false,null,null,null,null,0,0,0]
[null,null,null,false,null,null,null,null,0,0,0]
[null,null,null,false,null,null,null,null,0,0,0]
[null,null,null,false,null,null,null,null,0,0,0]
[null,null,null,false,null,null,null,null,0,0,0]
[null,null,null,false,null,null,null,null,0,0,0]
[null,null,null,false,null,null,null,null,0,0,0]
[null,null,null,false,null,null,null,null,0,0,0]
[null,null,null,false,null,null,null,null,0,0,0]
[null,null,null,false,null,null,null,null,0,0,0]
[null,null,null,false,null,null,null,null,0,0,0]
[null,null,null,false,null,null,null,null,0,0,0]
[null,null,null,false,null,null,null,null,0,0,0]
[null,null,null,false,null,null,null,null,0,0,0]
[null,null,null,false,null,null,null,null,0,0,0]
[null,null,null,false,null,null,null,null,0,0,0]
[null,null,null,false,null,null,null,null,0,0,0]
[null,null,null,false,null,null,null,null,0,0,0]
[null,null,null,false,null,null,null,null,0,0,0]
[null,null,null,false,null,null,null,null,0,0,0]
[null,null,null,false,null,null,null,null,0,0,0]
[null,null,null,false,null,null,null,null,0,0,0]
[null,null,null,false,null,null,null,null,0,0,0]
[null,null,null,false,null,null,null,null,0,0,0]
[null,null,null,false,null,null,null,null,0,0,0]
[null,null,null,false,null,null,null,null,0,0,0]
[null,null,null,false,null,null,null,null,0,0,0]
[null,null,null,false,null,null,null,null,0,0,0]
[null,null,null,false,null,null,null,null,0,0,0]
[null,null,null,false,null,null,null,null,0,0,0]
[null,null,null,false,null,null,null,null,0,0,0]
[null,null,null,false,null,null,null,null,0,0,0]
[null,null,null,false,null,null,null,null,0,0,0]
[null,null,null,false,null,null,null,null,0,0,0]
[null,null,null,false,null,null,null,null,0,0,0]
[null,null,null,false,null,null,null,null,0,0,0]
[null,null,null,false,null,null,null,null,{"$f":"D69*F69","v":0},{"$f":"IF((OR(E69=\"Poor quality\", E69=\"Accent\", E69=\"Referencing\", E69=\"Other\")), I69*10%,I69*0)","v":0},{"$f":"SUM(I69:J69)","v":0}]
[null,null,null,{"$f":"IF(C70=\"1 to 3\",\"£0.84\",IF(C70=\"4+\",\"£0.84\"))","v":false},null,null,null,null,0,0,0]
[null,null,null,false,null,null,null,null,0,0,0]
[null,null,null,false,null,null,null,null,0,0,0]
[null,null,null,false,null,null,null,null,0,0,0]
[null,null,null,false,null,null,null,null,0,0,0]
[null,null,null,false,null,null,null,null,0,0,0]
[null,null,null,false,null,null,null,null,0,0,0]
[null,null,null,false,null,null,null,null,0,0,0]
[null,null,null,false,null,null,null,null,0,0,0]
[null,null,null,false,null,null,null,null,0,0,0]
[null,null,null,false,null,null,null,null,0,0,0]
[null,null,null,false,null,null,null,null,0,0,0]
[null,null,null,false,null,null,null,null,0,0,0]
[null,null,null,false,null,null,null,null,0,0,0]
[null,null,null,false,null,null,null,null,0,0,0]
[null,null,null,false,null,null,null,null,0,0,0]
[null,null,null,false,null,null,null,null,0,0,0]
[null,null,null,false,null,null,null,null,0,0,0]
[null,null,null,false,null,null,null,null,0,0,0]
[null,null,null,false,null,null,null,null,0,0,0]
[null,null,null,false,null,null,null,null,0,0,0]
[null,null,null,false,null,null,null,null,0,0,0]
[null,null,null,false,null,null,null,null,0,0,0]
[null,null,null,false,null,null,null,null,0,0,0]
[null,null,null,false,null,null,null,null,0,0,0]
[null,null,null,false,null,null,null,null,0,0,0]
[null,null,null,false,null,null,null,null,0,0,0]
[null,null,null,false,null,null,null,null,0,0,0]
[null,null,null,false,null,null,null,null,0,0,0]
[null,null,null,false,null,null,null,null,0,0,0]
[null,null,null,false,null,null,null,null,0,0,0]
[null,null,null,false,null,null,null,null,0,0,0]
[null,null,null,false,null,null,null,null,0,0,0]
[null,null,null,false,null,null,null,null,0,0,0]
[null,null,null,false,null,null,null,null,0,0,0]
[null,null,null,false,null,null,null,null,0,0,0]
[null,null,null,false,null,null,null,null,0,0,0]
[null,null,null,false,null,null,null,null,0,0,0]
[null,null,null,false,null,null,null,null,0,0,0]
[null,null,null,false,null,null,null,null,0,0,0]
[null,null,null,false,null,null,null,null,0,0,0]
[null,null,null,false,null,null,null,null,0,0,0]
[null,null,null,false,null,null,null,null,0,0,0]
[null,null,null,false,null,null,null,null,0,0,0]
[null,null,null,false,null,null,null,null,0,0,0]
[null,null,null,false,null,null,null,null,0,0,0]
[null,null,null,false,null,null,null,null,0,0,0]
[null,null,null,false,null,null,null,null,0,0,0]
[null,null,null,false,null,null,null,null,0,0,0]
[null,null,null,false,null,null,null,null,0,0,0]
[null,null,null,false,null,null,null,null,0,0,0]
[null,null,null,false,null,null,null,null,0,0,0]
[null,null,null,false,null,null,null,null,0,0,0]
[null,null,null,false,null,null,null,null,0,0,0]
[null,null,null,false,null,null,null,null,0,0,0]
[null,null,null,false,null,null,null,null,0,0,0]
[null,null,null,false,null,null,null,null,0,0,0]
[null,null,null,false,null,null,null,null,0,0,0]
[null,null,null,false,null,null,null,null,0,0,0]
[null,null,null,false,null,null,null,null,0,0,0]
[null,null,null,false,null,null,null,null,0,0,0]
[null,null,null,false,null,null,null,null,0,0,0]
[null,null,null,false,null,null,null,null,0,0,0]
[null,null,null,false,null,null,null,null,0,0,0]
[null,null,null,{"$f":"IF(C134=\"1 to 3\",\"£0.84\",IF(C134=\"4+\",\"£0.84\"))","v":false},null,null,null,null,0,0,0]
[null,null,null,false,null,null,null,null,0,0,0]
[null,null,null,false,null,null,null,null,0,0,0]
[null,null,null,false,null,null,null,null,0,0,0]
[null,null,null,false,null,null,null,null,0,0,0]
[null,null,null,false,null,null,null,null,0,0,0]
[null,null,null,false,null,null,null,null,0,0,0]
[null,null,null,false,null,null,null,null,0,0,0]
[null,null,null,false,null,null,null,null,0,0,0]
[null,null,null,false,null,null,null,null,0,0,0]
[null,null,null,false,null,null,null,null,0,0,0]
[null,null,null,false,null,null,null,null,0,0,0]
[null,null,null,false,null,null,null,null,0,0,0]
[null,null,null,false,null,null,null,null,0,0,0]
[null,null,null,false,null,null,null,null,0,0,0]
[null,null,null,false,null,null,null,null,0,0,0]
[null,null,null,false,null,null,null,null,0,0,0]
[null,null,null,false,null,null,null,null,0,0,0]
[null,null,null,false,null,null,null,null,0,0,0]
[null,null,null,false,null,null,null,null,0,0,0]
[null,null,null,{"$f":"IF(C154=\"1 to 3\",\"£0.84\",IF(C154=\"4+\",\"£0.84\"))","v":false},null,null,null,null,0,0,0]
[]
[null,null,null,null,null,{"$f":"SUM(F5:F154)","v":0},{"$f":"SUM(G5:G154)","v":0},null,null,null,{"$f":"SUM(K5:K154)","v":0}]

{"sheet":"Hourly rate","index":6,"n_rows":158,"n_cols":5,"rows_kept":158,"cut":false,"hidden":false,"merged":[[0,0,0,4],[4,0,5,0],[4,1,5,1],[4,2,5,2],[4,3,5,3],[4,4,5,4]]}
["ONLY TRANSCRIPTS QUALITY CONTROLLED FOR VIQ SOLUTIONS (UK) SHOULD BE NOTED ON THIS PAGE OR WORK WHICH HAS BEEN ADVISED AS BEING PAID ON AN HOURLY RATE"]
[]
["Hourly rate:"]
[]
["Date TC Ret'd (DD/MM/YY)"," Full Transcript Saving Code","Type of work","Time taken (HH:MM)","Amount"]
[]
[null,null,null,null,{"$f":"D7*24*$B$3","v":0}]
[null,null,null,null,{"$f":"D8*24*$B$3","v":0}]
[null,null,null,null,0]
[null,null,null,null,0]
[null,null,null,null,0]
[null,null,null,null,0]
[null,null,null,null,0]
[null,null,null,null,0]
[null,null,null,null,0]
[null,null,null,null,0]
[null,null,null,null,0]
[null,null,null,null,0]
[null,null,null,null,0]
[null,null,null,null,0]
[null,null,null,null,0]
[null,null,null,null,0]
[null,null,null,null,0]
[null,null,null,null,0]
[null,null,null,null,0]
[null,null,null,null,0]
[null,null,null,null,0]
[null,null,null,null,0]
[null,null,null,null,0]
[null,null,null,null,0]
[null,null,null,null,0]
[null,null,null,null,0]
[null,null,null,null,0]
[null,null,null,null,0]
[null,null,null,null,0]
[null,null,null,null,0]
[null,null,null,null,0]
[null,null,null,null,0]
[null,null,null,null,0]
[null,null,null,null,0]
[null,null,null,null,0]
[null,null,null,null,0]
[null,null,null,null,0]
[null,null,null,null,0]
[null,null,null,null,0]
[null,null,null,null,0]
[null,null,null,null,0]
[null,null,null,null,0]
[null,null,null,null,0]
[null,null,null,null,0]
[null,null,null,null,0]
[null,null,null,null,0]
[null,null,null,null,0]
[null,null,null,null,0]
[null,null,null,null,0]
[null,null,null,null,0]
[null,null,null,null,0]
[null,null,null,null,0]
[null,null,null,null,0]
[null,null,null,null,0]
[null,null,null,null,0]
[null,null,null,null,0]
[null,null,null,null,0]
[null,null,null,null,0]
[null,null,null,null,0]
[null,null,null,null,0]
[null,null,null,null,0]
[null,null,null,null,0]
[null,null,null,null,0]
[null,null,null,null,0]
[null,null,null,null,0]
[null,null,null,null,{"$f":"D72*24*$B$3","v":0}]
[null,null,null,null,0]
[null,null,null,null,0]
[null,null,null,null,0]
[null,null,null,null,0]
[null,null,null,null,0]
[null,null,null,null,0]
[null,null,null,null,0]
[null,null,null,null,0]
[null,null,null,null,0]
[null,null,null,null,0]
[null,null,null,null,0]
[null,null,null,null,0]
[null,null,null,null,0]
[null,null,null,null,0]
[null,null,null,null,0]
[null,null,null,null,0]
[null,null,null,null,0]
[null,null,null,null,0]
[null,null,null,null,0]
[null,null,null,null,0]
[null,null,null,null,0]
[null,null,null,null,0]
[null,null,null,null,0]
[null,null,null,null,0]
[null,null,null,null,0]
[null,null,null,null,0]
[null,null,null,null,0]
[null,null,null,null,0]
[null,null,null,null,0]
[null,null,null,null,0]
[null,null,null,null,0]
[null,null,null,null,0]
[null,null,null,null,0]
[null,null,null,null,0]
[null,null,null,null,0]
[null,null,null,null,0]
[null,null,null,null,0]
[null,null,null,null,0]
[null,null,null,null,0]
[null,null,null,null,0]
[null,null,null,null,0]
[null,null,null,null,0]
[null,null,null,null,0]
[null,null,null,null,0]
[null,null,null,null,0]
[null,null,null,null,0]
[null,null,null,null,0]
[null,null,null,null,0]
[null,null,null,null,0]
[null,null,null,null,0]
[null,null,null,null,0]
[null,null,null,null,0]
[null,null,null,null,0]
[null,null,null,null,0]
[null,null,null,null,0]
[null,null,null,null,0]
[null,null,null,null,0]
[null,null,null,null,0]
[null,null,null,null,0]
[null,null,null,null,0]
[null,null,null,null,0]
[null,null,null,null,0]
[null,null,null,null,0]
[null,null,null,null,{"$f":"D136*24*$B$3","v":0}]
[null,null,null,null,0]
[null,null,null,null,0]
[null,null,null,null,0]
[null,null,null,null,0]
[null,null,null,null,0]
[null,null,null,null,0]
[null,null,null,null,0]
[null,null,null,null,0]
[null,null,null,null,0]
[null,null,null,null,0]
[null,null,null,null,0]
[null,null,null,null,0]
[null,null,null,null,0]
[null,null,null,null,0]
[null,null,null,null,0]
[null,null,null,null,0]
[null,null,null,null,0]
[null,null,null,null,0]
[null,null,null,null,0]
[null,null,null,null,0]
[]
[null,null,null,{"$f":"SUM(D7:D156)","v":0},{"$f":"SUM(E7:E156)","v":0}]

{"sheet":"VIQ UK USE ONLY Pay Advice","index":7,"n_rows":722,"n_cols":13,"rows_kept":722,"cut":false,"hidden":false,"merged":[[15,6,16,6],[15,7,16,7],[15,8,16,8],[9,2,9,5],[15,0,16,0],[15,1,16,1],[15,2,16,2],[15,4,16,4],[15,5,16,5],[15,3,16,3]]}
[]
[{"$f":"Standard!A2","v":"NAME"}]
[{"$f":"Standard!A3","v":"ADDRESS"}]
[{"$f":"Standard!A4","v":"ADDRESS"}]
[{"$f":"Standard!A5","v":"ADDRESS"}]
[{"$f":"Standard!A6","v":"POST CODE"}]
[{"$f":"Standard!A7","v":"EMAIL ADDRESS:"}]
[{"$f":"Standard!A8","v":"PHONE NUMBER:"}]
[]
["PAYMENT OF INVOICES FOR WORK CARRIED OUT IN",null,{"$f":"Standard!C10","v":"MONTH"},null,null,null,{"$f":"Standard!G10","v":"YEAR"}]
[]
[{"$f":"Standard!A12","v":"Bank Account Name (if different from last pay)"},null,{"$f":"Standard!C12","v":0}]
[{"$f":"Standard!A13","v":"Sort Code (if different from last pay)"},null,{"$f":"Standard!C13","v":0}]
[{"$f":"Standard!A14","v":"Account Number (if different from last pay)"},null,{"$f":"Standard!C14","v":0}]
[]
["Date TC Ret'd","Transcript Name (as in subject box)","Number of voices","Rate claimed","PQ/AC claim/Hourly rate type","No of Mins / Folios","Time taken (apprx)","QC score","Amount"]
[]
[{"$f":"Training!A5","v":"00:00:00"},{"$f":"Training!B5","v":0},{"$f":"Training!C5","v":0},{"$f":"Training!D5","v":false},{"$f":"Training!E5","v":0},{"$f":"Training!F5","v":0},{"$f":"Training!G5","v":0},{"$f":"Training!H5","v":0},{"$f":"Training!K5","v":0}]
[{"$f":"Training!A6","v":"00:00:00"},{"$f":"Training!B6","v":0},{"$f":"Training!C6","v":0},{"$f":"Training!D6","v":false},{"$f":"Training!E6","v":0},{"$f":"Training!F6","v":0},{"$f":"Training!G6","v":0},{"$f":"Training!H6","v":0},{"$f":"Training!K6","v":0}]
[{"$f":"Training!A7","v":"00:00:00"},{"$f":"Training!B7","v":0},{"$f":"Training!C7","v":0},{"$f":"Training!D7","v":false},{"$f":"Training!E7","v":0},{"$f":"Training!F7","v":0},{"$f":"Training!G7","v":0},{"$f":"Training!H7","v":0},{"$f":"Training!K7","v":0}]
[{"$f":"Training!A8","v":"00:00:00"},{"$f":"Training!B8","v":0},{"$f":"Training!C8","v":0},{"$f":"Training!D8","v":false},{"$f":"Training!E8","v":0},{"$f":"Training!F8","v":0},{"$f":"Training!G8","v":0},{"$f":"Training!H8","v":0},{"$f":"Training!K8","v":0}]
[{"$f":"Training!A9","v":"00:00:00"},{"$f":"Training!B9","v":0},{"$f":"Training!C9","v":0},{"$f":"Training!D9","v":false},{"$f":"Training!E9","v":0},{"$f":"Training!F9","v":0},{"$f":"Training!G9","v":0},{"$f":"Training!H9","v":0},{"$f":"Training!K9","v":0}]
[{"$f":"Training!A10","v":"00:00:00"},{"$f":"Training!B10","v":0},{"$f":"Training!C10","v":0},{"$f":"Training!D10","v":false},{"$f":"Training!E10","v":0},{"$f":"Training!F10","v":0},{"$f":"Training!G10","v":0},{"$f":"Training!H10","v":0},{"$f":"Training!K10","v":0}]
[{"$f":"Training!A11","v":"00:00:00"},{"$f":"Training!B11","v":0},{"$f":"Training!C11","v":0},{"$f":"Training!D11","v":false},{"$f":"Training!E11","v":0},{"$f":"Training!F11","v":0},{"$f":"Training!G11","v":0},{"$f":"Training!H11","v":0},{"$f":"Training!K11","v":0}]
[{"$f":"Training!A12","v":"00:00:00"},{"$f":"Training!B12","v":0},{"$f":"Training!C12","v":0},{"$f":"Training!D12","v":false},{"$f":"Training!E12","v":0},{"$f":"Training!F12","v":0},{"$f":"Training!G12","v":0},{"$f":"Training!H12","v":0},{"$f":"Training!K12","v":0}]
[{"$f":"Training!A13","v":"00:00:00"},{"$f":"Training!B13","v":0},{"$f":"Training!C13","v":0},{"$f":"Training!D13","v":false},{"$f":"Training!E13","v":0},{"$f":"Training!F13","v":0},{"$f":"Training!G13","v":0},{"$f":"Training!H13","v":0},{"$f":"Training!K13","v":0}]
[{"$f":"Training!A14","v":"00:00:00"},{"$f":"Training!B14","v":0},{"$f":"Training!C14","v":0},{"$f":"Training!D14","v":false},{"$f":"Training!E14","v":0},{"$f":"Training!F14","v":0},{"$f":"Training!G14","v":0},{"$f":"Training!H14","v":0},{"$f":"Training!K14","v":0}]
[{"$f":"Training!A15","v":"00:00:00"},{"$f":"Training!B15","v":0},{"$f":"Training!C15","v":0},{"$f":"Training!D15","v":false},{"$f":"Training!E15","v":0},{"$f":"Training!F15","v":0},{"$f":"Training!G15","v":0},{"$f":"Training!H15","v":0},{"$f":"Training!K15","v":0}]
[{"$f":"Training!A16","v":"00:00:00"},{"$f":"Training!B16","v":0},{"$f":"Training!C16","v":0},{"$f":"Training!D16","v":false},{"$f":"Training!E16","v":0},{"$f":"Training!F16","v":0},{"$f":"Training!G16","v":0},{"$f":"Training!H16","v":0},{"$f":"Training!K16","v":0}]
[{"$f":"Training!A17","v":"00:00:00"},{"$f":"Training!B17","v":0},{"$f":"Training!C17","v":0},{"$f":"Training!D17","v":false},{"$f":"Training!E17","v":0},{"$f":"Training!F17","v":0},{"$f":"Training!G17","v":0},{"$f":"Training!H17","v":0},{"$f":"Training!K17","v":0}]
[{"$f":"Training!A18","v":"00:00:00"},{"$f":"Training!B18","v":0},{"$f":"Training!C18","v":0},{"$f":"Training!D18","v":false},{"$f":"Training!E18","v":0},{"$f":"Training!F18","v":0},{"$f":"Training!G18","v":0},{"$f":"Training!H18","v":0},{"$f":"Training!K18","v":0}]
[{"$f":"Training!A19","v":"00:00:00"},{"$f":"Training!B19","v":0},{"$f":"Training!C19","v":0},{"$f":"Training!D19","v":false},{"$f":"Training!E19","v":0},{"$f":"Training!F19","v":0},{"$f":"Training!G19","v":0},{"$f":"Training!H19","v":0},{"$f":"Training!K19","v":0}]
[{"$f":"Training!A20","v":"00:00:00"},{"$f":"Training!B20","v":0},{"$f":"Training!C20","v":0},{"$f":"Training!D20","v":false},{"$f":"Training!E20","v":0},{"$f":"Training!F20","v":0},{"$f":"Training!G20","v":0},{"$f":"Training!H20","v":0},{"$f":"Training!K20","v":0}]
[{"$f":"Training!A21","v":"00:00:00"},{"$f":"Training!B21","v":0},{"$f":"Training!C21","v":0},{"$f":"Training!D21","v":false},{"$f":"Training!E21","v":0},{"$f":"Training!F21","v":0},{"$f":"Training!G21","v":0},{"$f":"Training!H21","v":0},{"$f":"Training!K21","v":0}]
[{"$f":"Training!A22","v":"00:00:00"},{"$f":"Training!B22","v":0},{"$f":"Training!C22","v":0},{"$f":"Training!D22","v":false},{"$f":"Training!E22","v":0},{"$f":"Training!F22","v":0},{"$f":"Training!G22","v":0},{"$f":"Training!H22","v":0},{"$f":"Training!K22","v":0}]
[{"$f":"Training!A23","v":"00:00:00"},{"$f":"Training!B23","v":0},{"$f":"Training!C23","v":0},{"$f":"Training!D23","v":false},{"$f":"Training!E23","v":0},{"$f":"Training!F23","v":0},{"$f":"Training!G23","v":0},{"$f":"Training!H23","v":0},{"$f":"Training!K23","v":0}]
[{"$f":"Training!A24","v":"00:00:00"},{"$f":"Training!B24","v":0},{"$f":"Training!C24","v":0},{"$f":"Training!D24","v":false},{"$f":"Training!E24","v":0},{"$f":"Training!F24","v":0},{"$f":"Training!G24","v":0},{"$f":"Training!H24","v":0},{"$f":"Training!K24","v":0}]
[{"$f":"Training!A25","v":"00:00:00"},{"$f":"Training!B25","v":0},{"$f":"Training!C25","v":0},{"$f":"Training!D25","v":false},{"$f":"Training!E25","v":0},{"$f":"Training!F25","v":0},{"$f":"Training!G25","v":0},{"$f":"Training!H25","v":0},{"$f":"Training!K25","v":0}]
[{"$f":"Training!A26","v":"00:00:00"},{"$f":"Training!B26","v":0},{"$f":"Training!C26","v":0},{"$f":"Training!D26","v":false},{"$f":"Training!E26","v":0},{"$f":"Training!F26","v":0},{"$f":"Training!G26","v":0},{"$f":"Training!H26","v":0},{"$f":"Training!K26","v":0}]
[{"$f":"Training!A27","v":"00:00:00"},{"$f":"Training!B27","v":0},{"$f":"Training!C27","v":0},{"$f":"Training!D27","v":false},{"$f":"Training!E27","v":0},{"$f":"Training!F27","v":0},{"$f":"Training!G27","v":0},{"$f":"Training!H27","v":0},{"$f":"Training!K27","v":0}]
[{"$f":"Training!A28","v":"00:00:00"},{"$f":"Training!B28","v":0},{"$f":"Training!C28","v":0},{"$f":"Training!D28","v":false},{"$f":"Training!E28","v":0},{"$f":"Training!F28","v":0},{"$f":"Training!G28","v":0},{"$f":"Training!H28","v":0},{"$f":"Training!K28","v":0}]
[{"$f":"Training!A29","v":"00:00:00"},{"$f":"Training!B29","v":0},{"$f":"Training!C29","v":0},{"$f":"Training!D29","v":false},{"$f":"Training!E29","v":0},{"$f":"Training!F29","v":0},{"$f":"Training!G29","v":0},{"$f":"Training!H29","v":0},{"$f":"Training!K29","v":0}]
[{"$f":"Training!A30","v":"00:00:00"},{"$f":"Training!B30","v":0},{"$f":"Training!C30","v":0},{"$f":"Training!D30","v":false},{"$f":"Training!E30","v":0},{"$f":"Training!F30","v":0},{"$f":"Training!G30","v":0},{"$f":"Training!H30","v":0},{"$f":"Training!K30","v":0}]
[{"$f":"Training!A31","v":"00:00:00"},{"$f":"Training!B31","v":0},{"$f":"Training!C31","v":0},{"$f":"Training!D31","v":false},{"$f":"Training!E31","v":0},{"$f":"Training!F31","v":0},{"$f":"Training!G31","v":0},{"$f":"Training!H31","v":0},{"$f":"Training!K31","v":0}]
[{"$f":"Training!A32","v":"00:00:00"},{"$f":"Training!B32","v":0},{"$f":"Training!C32","v":0},{"$f":"Training!D32","v":false},{"$f":"Training!E32","v":0},{"$f":"Training!F32","v":0},{"$f":"Training!G32","v":0},{"$f":"Training!H32","v":0},{"$f":"Training!K32","v":0}]
[{"$f":"Training!A33","v":"00:00:00"},{"$f":"Training!B33","v":0},{"$f":"Training!C33","v":0},{"$f":"Training!D33","v":false},{"$f":"Training!E33","v":0},{"$f":"Training!F33","v":0},{"$f":"Training!G33","v":0},{"$f":"Training!H33","v":0},{"$f":"Training!K33","v":0}]
[{"$f":"Training!A34","v":"00:00:00"},{"$f":"Training!B34","v":0},{"$f":"Training!C34","v":0},{"$f":"Training!D34","v":false},{"$f":"Training!E34","v":0},{"$f":"Training!F34","v":0},{"$f":"Training!G34","v":0},{"$f":"Training!H34","v":0},{"$f":"Training!K34","v":0}]
[{"$f":"Training!A35","v":"00:00:00"},{"$f":"Training!B35","v":0},{"$f":"Training!C35","v":0},{"$f":"Training!D35","v":false},{"$f":"Training!E35","v":0},{"$f":"Training!F35","v":0},{"$f":"Training!G35","v":0},{"$f":"Training!H35","v":0},{"$f":"Training!K35","v":0}]
[{"$f":"Training!A36","v":"00:00:00"},{"$f":"Training!B36","v":0},{"$f":"Training!C36","v":0},{"$f":"Training!D36","v":false},{"$f":"Training!E36","v":0},{"$f":"Training!F36","v":0},{"$f":"Training!G36","v":0},{"$f":"Training!H36","v":0},{"$f":"Training!K36","v":0}]
[{"$f":"Training!A37","v":"00:00:00"},{"$f":"Training!B37","v":0},{"$f":"Training!C37","v":0},{"$f":"Training!D37","v":false},{"$f":"Training!E37","v":0},{"$f":"Training!F37","v":0},{"$f":"Training!G37","v":0},{"$f":"Training!H37","v":0},{"$f":"Training!K37","v":0}]
[{"$f":"Training!A38","v":"00:00:00"},{"$f":"Training!B38","v":0},{"$f":"Training!C38","v":0},{"$f":"Training!D38","v":false},{"$f":"Training!E38","v":0},{"$f":"Training!F38","v":0},{"$f":"Training!G38","v":0},{"$f":"Training!H38","v":0},{"$f":"Training!K38","v":0}]
[{"$f":"Training!A39","v":"00:00:00"},{"$f":"Training!B39","v":0},{"$f":"Training!C39","v":0},{"$f":"Training!D39","v":false},{"$f":"Training!E39","v":0},{"$f":"Training!F39","v":0},{"$f":"Training!G39","v":0},{"$f":"Training!H39","v":0},{"$f":"Training!K39","v":0}]
[{"$f":"Training!A40","v":"00:00:00"},{"$f":"Training!B40","v":0},{"$f":"Training!C40","v":0},{"$f":"Training!D40","v":false},{"$f":"Training!E40","v":0},{"$f":"Training!F40","v":0},{"$f":"Training!G40","v":0},{"$f":"Training!H40","v":0},{"$f":"Training!K40","v":0}]
[{"$f":"Training!A41","v":"00:00:00"},{"$f":"Training!B41","v":0},{"$f":"Training!C41","v":0},{"$f":"Training!D41","v":false},{"$f":"Training!E41","v":0},{"$f":"Training!F41","v":0},{"$f":"Training!G41","v":0},{"$f":"Training!H41","v":0},{"$f":"Training!K41","v":0}]
[{"$f":"Training!A42","v":"00:00:00"},{"$f":"Training!B42","v":0},{"$f":"Training!C42","v":0},{"$f":"Training!D42","v":false},{"$f":"Training!E42","v":0},{"$f":"Training!F42","v":0},{"$f":"Training!G42","v":0},{"$f":"Training!H42","v":0},{"$f":"Training!K42","v":0}]
[{"$f":"Training!A43","v":"00:00:00"},{"$f":"Training!B43","v":0},{"$f":"Training!C43","v":0},{"$f":"Training!D43","v":false},{"$f":"Training!E43","v":0},{"$f":"Training!F43","v":0},{"$f":"Training!G43","v":0},{"$f":"Training!H43","v":0},{"$f":"Training!K43","v":0}]
[{"$f":"Training!A44","v":"00:00:00"},{"$f":"Training!B44","v":0},{"$f":"Training!C44","v":0},{"$f":"Training!D44","v":false},{"$f":"Training!E44","v":0},{"$f":"Training!F44","v":0},{"$f":"Training!G44","v":0},{"$f":"Training!H44","v":0},{"$f":"Training!K44","v":0}]
[{"$f":"Training!A45","v":"00:00:00"},{"$f":"Training!B45","v":0},{"$f":"Training!C45","v":0},{"$f":"Training!D45","v":false},{"$f":"Training!E45","v":0},{"$f":"Training!F45","v":0},{"$f":"Training!G45","v":0},{"$f":"Training!H45","v":0},{"$f":"Training!K45","v":0}]
[{"$f":"Training!A46","v":"00:00:00"},{"$f":"Training!B46","v":0},{"$f":"Training!C46","v":0},{"$f":"Training!D46","v":false},{"$f":"Training!E46","v":0},{"$f":"Training!F46","v":0},{"$f":"Training!G46","v":0},{"$f":"Training!H46","v":0},{"$f":"Training!K46","v":0}]
[{"$f":"Training!A47","v":"00:00:00"},{"$f":"Training!B47","v":0},{"$f":"Training!C47","v":0},{"$f":"Training!D47","v":false},{"$f":"Training!E47","v":0},{"$f":"Training!F47","v":0},{"$f":"Training!G47","v":0},{"$f":"Training!H47","v":0},{"$f":"Training!K47","v":0}]
[{"$f":"Training!A48","v":"00:00:00"},{"$f":"Training!B48","v":0},{"$f":"Training!C48","v":0},{"$f":"Training!D48","v":false},{"$f":"Training!E48","v":0},{"$f":"Training!F48","v":0},{"$f":"Training!G48","v":0},{"$f":"Training!H48","v":0},{"$f":"Training!K48","v":0}]
[{"$f":"Training!A49","v":"00:00:00"},{"$f":"Training!B49","v":0},{"$f":"Training!C49","v":0},{"$f":"Training!D49","v":false},{"$f":"Training!E49","v":0},{"$f":"Training!F49","v":0},{"$f":"Training!G49","v":0},{"$f":"Training!H49","v":0},{"$f":"Training!K49","v":0}]
[{"$f":"Standard!A18","v":"00:00:00"},{"$f":"Standard!B18","v":0},{"$f":"Standard!C18","v":0},{"$f":"Standard!D18","v":false},{"$f":"Standard!E18","v":0},{"$f":"Standard!F18","v":0},{"$f":"Standard!G18","v":0},{"$f":"Standard!H18","v":0},{"$f":"Standard!K18","v":0}]
[{"$f":"Standard!A19","v":"00:00:00"},{"$f":"Standard!B19","v":0},{"$f":"Standard!C19","v":0},{"$f":"Standard!D19","v":false},{"$f":"Standard!E19","v":0},{"$f":"Standard!F19","v":0},{"$f":"Standard!G19","v":0},{"$f":"Standard!H19","v":0},{"$f":"Standard!K19","v":0}]
[{"$f":"Standard!A20","v":"00:00:00"},{"$f":"Standard!B20","v":0},{"$f":"Standard!C20","v":0},{"$f":"Standard!D20","v":false},{"$f":"Standard!E20","v":0},{"$f":"Standard!F20","v":0},{"$f":"Standard!G20","v":0},{"$f":"Standard!H20","v":0},{"$f":"Standard!K20","v":0}]
[{"$f":"Standard!A21","v":"00:00:00"},{"$f":"Standard!B21","v":0},{"$f":"Standard!C21","v":0},{"$f":"Standard!D21","v":false},{"$f":"Standard!E21","v":0},{"$f":"Standard!F21","v":0},{"$f":"Standard!G21","v":0},{"$f":"Standard!H21","v":0},{"$f":"Standard!K21","v":0}]
[{"$f":"Standard!A22","v":"00:00:00"},{"$f":"Standard!B22","v":0},{"$f":"Standard!C22","v":0},{"$f":"Standard!D22","v":false},{"$f":"Standard!E22","v":0},{"$f":"Standard!F22","v":0},{"$f":"Standard!G22","v":0},{"$f":"Standard!H22","v":0},{"$f":"Standard!K22","v":0}]
[{"$f":"Standard!A23","v":"00:00:00"},{"$f":"Standard!B23","v":0},{"$f":"Standard!C23","v":0},{"$f":"Standard!D23","v":false},{"$f":"Standard!E23","v":0},{"$f":"Standard!F23","v":0},{"$f":"Standard!G23","v":0},{"$f":"Standard!H23","v":0},{"$f":"Standard!K23","v":0}]
[{"$f":"Standard!A24","v":"00:00:00"},{"$f":"Standard!B24","v":0},{"$f":"Standard!C24","v":0},{"$f":"Standard!D24","v":false},{"$f":"Standard!E24","v":0},{"$f":"Standard!F24","v":0},{"$f":"Standard!G24","v":0},{"$f":"Standard!H24","v":0},{"$f":"Standard!K24","v":0}]
[{"$f":"Standard!A25","v":"00:00:00"},{"$f":"Standard!B25","v":0},{"$f":"Standard!C25","v":0},{"$f":"Standard!D25","v":false},{"$f":"Standard!E25","v":0},{"$f":"Standard!F25","v":0},{"$f":"Standard!G25","v":0},{"$f":"Standard!H25","v":0},{"$f":"Standard!K25","v":0}]
[{"$f":"Standard!A26","v":"00:00:00"},{"$f":"Standard!B26","v":0},{"$f":"Standard!C26","v":0},{"$f":"Standard!D26","v":false},{"$f":"Standard!E26","v":0},{"$f":"Standard!F26","v":0},{"$f":"Standard!G26","v":0},{"$f":"Standard!H26","v":0},{"$f":"Standard!K26","v":0}]
[{"$f":"Standard!A27","v":"00:00:00"},{"$f":"Standard!B27","v":0},{"$f":"Standard!C27","v":0},{"$f":"Standard!D27","v":false},{"$f":"Standard!E27","v":0},{"$f":"Standard!F27","v":0},{"$f":"Standard!G27","v":0},{"$f":"Standard!H27","v":0},{"$f":"Standard!K27","v":0}]
[{"$f":"Standard!A28","v":"00:00:00"},{"$f":"Standard!B28","v":0},{"$f":"Standard!C28","v":0},{"$f":"Standard!D28","v":false},{"$f":"Standard!E28","v":0},{"$f":"Standard!F28","v":0},{"$f":"Standard!G28","v":0},{"$f":"Standard!H28","v":0},{"$f":"Standard!K28","v":0}]
[{"$f":"Standard!A29","v":"00:00:00"},{"$f":"Standard!B29","v":0},{"$f":"Standard!C29","v":0},{"$f":"Standard!D29","v":false},{"$f":"Standard!E29","v":0},{"$f":"Standard!F29","v":0},{"$f":"Standard!G29","v":0},{"$f":"Standard!H29","v":0},{"$f":"Standard!K29","v":0}]
[{"$f":"Standard!A30","v":"00:00:00"},{"$f":"Standard!B30","v":0},{"$f":"Standard!C30","v":0},{"$f":"Standard!D30","v":false},{"$f":"Standard!E30","v":0},{"$f":"Standard!F30","v":0},{"$f":"Standard!G30","v":0},{"$f":"Standard!H30","v":0},{"$f":"Standard!K30","v":0}]
[{"$f":"Standard!A31","v":"00:00:00"},{"$f":"Standard!B31","v":0},{"$f":"Standard!C31","v":0},{"$f":"Standard!D31","v":false},{"$f":"Standard!E31","v":0},{"$f":"Standard!F31","v":0},{"$f":"Standard!G31","v":0},{"$f":"Standard!H31","v":0},{"$f":"Standard!K31","v":0}]
[{"$f":"Standard!A32","v":"00:00:00"},{"$f":"Standard!B32","v":0},{"$f":"Standard!C32","v":0},{"$f":"Standard!D32","v":false},{"$f":"Standard!E32","v":0},{"$f":"Standard!F32","v":0},{"$f":"Standard!G32","v":0},{"$f":"Standard!H32","v":0},{"$f":"Standard!K32","v":0}]
[{"$f":"Standard!A33","v":"00:00:00"},{"$f":"Standard!B33","v":0},{"$f":"Standard!C33","v":0},{"$f":"Standard!D33","v":false},{"$f":"Standard!E33","v":0},{"$f":"Standard!F33","v":0},{"$f":"Standard!G33","v":0},{"$f":"Standard!H33","v":0},{"$f":"Standard!K33","v":0}]
[{"$f":"Standard!A34","v":"00:00:00"},{"$f":"Standard!B34","v":0},{"$f":"Standard!C34","v":0},{"$f":"Standard!D34","v":false},{"$f":"Standard!E34","v":0},{"$f":"Standard!F34","v":0},{"$f":"Standard!G34","v":0},{"$f":"Standard!H34","v":0},{"$f":"Standard!K34","v":0}]
[{"$f":"Standard!A35","v":"00:00:00"},{"$f":"Standard!B35","v":0},{"$f":"Standard!C35","v":0},{"$f":"Standard!D35","v":false},{"$f":"Standard!E35","v":0},{"$f":"Standard!F35","v":0},{"$f":"Standard!G35","v":0},{"$f":"Standard!H35","v":0},{"$f":"Standard!K35","v":0}]
[{"$f":"Standard!A36","v":"00:00:00"},{"$f":"Standard!B36","v":0},{"$f":"Standard!C36","v":0},{"$f":"Standard!D36","v":false},{"$f":"Standard!E36","v":0},{"$f":"Standard!F36","v":0},{"$f":"Standard!G36","v":0},{"$f":"Standard!H36","v":0},{"$f":"Standard!K36","v":0}]
[{"$f":"Standard!A37","v":"00:00:00"},{"$f":"Standard!B37","v":0},{"$f":"Standard!C37","v":0},{"$f":"Standard!D37","v":false},{"$f":"Standard!E37","v":0},{"$f":"Standard!F37","v":0},{"$f":"Standard!G37","v":0},{"$f":"Standard!H37","v":0},{"$f":"Standard!K37","v":0}]
[{"$f":"Standard!A38","v":"00:00:00"},{"$f":"Standard!B38","v":0},{"$f":"Standard!C38","v":0},{"$f":"Standard!D38","v":false},{"$f":"Standard!E38","v":0},{"$f":"Standard!F38","v":0},{"$f":"Standard!G38","v":0},{"$f":"Standard!H38","v":0},{"$f":"Standard!K38","v":0}]
[{"$f":"Standard!A39","v":"00:00:00"},{"$f":"Standard!B39","v":0},{"$f":"Standard!C39","v":0},{"$f":"Standard!D39","v":false},{"$f":"Standard!E39","v":0},{"$f":"Standard!F39","v":0},{"$f":"Standard!G39","v":0},{"$f":"Standard!H39","v":0},{"$f":"Standard!K39","v":0}]
[{"$f":"Standard!A40","v":"00:00:00"},{"$f":"Standard!B40","v":0},{"$f":"Standard!C40","v":0},{"$f":"Standard!D40","v":false},{"$f":"Standard!E40","v":0},{"$f":"Standard!F40","v":0},{"$f":"Standard!G40","v":0},{"$f":"Standard!H40","v":0},{"$f":"Standard!K40","v":0}]
[{"$f":"Standard!A41","v":"00:00:00"},{"$f":"Standard!B41","v":0},{"$f":"Standard!C41","v":0},{"$f":"Standard!D41","v":false},{"$f":"Standard!E41","v":0},{"$f":"Standard!F41","v":0},{"$f":"Standard!G41","v":0},{"$f":"Standard!H41","v":0},{"$f":"Standard!K41","v":0}]
[{"$f":"Standard!A42","v":"00:00:00"},{"$f":"Standard!B42","v":0},{"$f":"Standard!C42","v":0},{"$f":"Standard!D42","v":false},{"$f":"Standard!E42","v":0},{"$f":"Standard!F42","v":0},{"$f":"Standard!G42","v":0},{"$f":"Standard!H42","v":0},{"$f":"Standard!K42","v":0}]
[{"$f":"Standard!A43","v":"00:00:00"},{"$f":"Standard!B43","v":0},{"$f":"Standard!C43","v":0},{"$f":"Standard!D43","v":false},{"$f":"Standard!E43","v":0},{"$f":"Standard!F43","v":0},{"$f":"Standard!G43","v":0},{"$f":"Standard!H43","v":0},{"$f":"Standard!K43","v":0}]
[{"$f":"Standard!A44","v":"00:00:00"},{"$f":"Standard!B44","v":0},{"$f":"Standard!C44","v":0},{"$f":"Standard!D44","v":false},{"$f":"Standard!E44","v":0},{"$f":"Standard!F44","v":0},{"$f":"Standard!G44","v":0},{"$f":"Standard!H44","v":0},{"$f":"Standard!K44","v":0}]
[{"$f":"Standard!A45","v":"00:00:00"},{"$f":"Standard!B45","v":0},{"$f":"Standard!C45","v":0},{"$f":"Standard!D45","v":false},{"$f":"Standard!E45","v":0},{"$f":"Standard!F45","v":0},{"$f":"Standard!G45","v":0},{"$f":"Standard!H45","v":0},{"$f":"Standard!K45","v":0}]
[{"$f":"Standard!A46","v":"00:00:00"},{"$f":"Standard!B46","v":0},{"$f":"Standard!C46","v":0},{"$f":"Standard!D46","v":false},{"$f":"Standard!E46","v":0},{"$f":"Standard!F46","v":0},{"$f":"Standard!G46","v":0},{"$f":"Standard!H46","v":0},{"$f":"Standard!K46","v":0}]
[{"$f":"Standard!A47","v":"00:00:00"},{"$f":"Standard!B47","v":0},{"$f":"Standard!C47","v":0},{"$f":"Standard!D47","v":false},{"$f":"Standard!E47","v":0},{"$f":"Standard!F47","v":0},{"$f":"Standard!G47","v":0},{"$f":"Standard!H47","v":0},{"$f":"Standard!K47","v":0}]
[{"$f":"Standard!A48","v":"00:00:00"},{"$f":"Standard!B48","v":0},{"$f":"Standard!C48","v":0},{"$f":"Standard!D48","v":false},{"$f":"Standard!E48","v":0},{"$f":"Standard!F48","v":0},{"$f":"Standard!G48","v":0},{"$f":"Standard!H48","v":0},{"$f":"Standard!K48","v":0}]
[{"$f":"Standard!A49","v":"00:00:00"},{"$f":"Standard!B49","v":0},{"$f":"Standard!C49","v":0},{"$f":"Standard!D49","v":false},{"$f":"Standard!E49","v":0},{"$f":"Standard!F49","v":0},{"$f":"Standard!G49","v":0},{"$f":"Standard!H49","v":0},{"$f":"Standard!K49","v":0}]
[{"$f":"Standard!A50","v":"00:00:00"},{"$f":"Standard!B50","v":0},{"$f":"Standard!C50","v":0},{"$f":"Standard!D50","v":false},{"$f":"Standard!E50","v":0},{"$f":"Standard!F50","v":0},{"$f":"Standard!G50","v":0},{"$f":"Standard!H50","v":0},{"$f":"Standard!K50","v":0}]
[{"$f":"Standard!A51","v":"00:00:00"},{"$f":"Standard!B51","v":0},{"$f":"Standard!C51","v":0},{"$f":"Standard!D51","v":false},{"$f":"Standard!E51","v":0},{"$f":"Standard!F51","v":0},{"$f":"Standard!G51","v":0},{"$f":"Standard!H51","v":0},{"$f":"Standard!K51","v":0}]
[{"$f":"Standard!A52","v":"00:00:00"},{"$f":"Standard!B52","v":0},{"$f":"Standard!C52","v":0},{"$f":"Standard!D52","v":false},{"$f":"Standard!E52","v":0},{"$f":"Standard!F52","v":0},{"$f":"Standard!G52","v":0},{"$f":"Standard!H52","v":0},{"$f":"Standard!K52","v":0}]
[{"$f":"Standard!A53","v":"00:00:00"},{"$f":"Standard!B53","v":0},{"$f":"Standard!C53","v":0},{"$f":"Standard!D53","v":false},{"$f":"Standard!E53","v":0},{"$f":"Standard!F53","v":0},{"$f":"Standard!G53","v":0},{"$f":"Standard!H53","v":0},{"$f":"Standard!K53","v":0}]
[{"$f":"Standard!A54","v":"00:00:00"},{"$f":"Standard!B54","v":0},{"$f":"Standard!C54","v":0},{"$f":"Standard!D54","v":false},{"$f":"Standard!E54","v":0},{"$f":"Standard!F54","v":0},{"$f":"Standard!G54","v":0},{"$f":"Standard!H54","v":0},{"$f":"Standard!K54","v":0}]
[{"$f":"Standard!A55","v":"00:00:00"},{"$f":"Standard!B55","v":0},{"$f":"Standard!C55","v":0},{"$f":"Standard!D55","v":false},{"$f":"Standard!E55","v":0},{"$f":"Standard!F55","v":0},{"$f":"Standard!G55","v":0},{"$f":"Standard!H55","v":0},{"$f":"Standard!K55","v":0}]
[{"$f":"Standard!A56","v":"00:00:00"},{"$f":"Standard!B56","v":0},{"$f":"Standard!C56","v":0},{"$f":"Standard!D56","v":false},{"$f":"Standard!E56","v":0},{"$f":"Standard!F56","v":0},{"$f":"Standard!G56","v":0},{"$f":"Standard!H56","v":0},{"$f":"Standard!K56","v":0}]
[{"$f":"Standard!A57","v":"00:00:00"},{"$f":"Standard!B57","v":0},{"$f":"Standard!C57","v":0},{"$f":"Standard!D57","v":false},{"$f":"Standard!E57","v":0},{"$f":"Standard!F57","v":0},{"$f":"Standard!G57","v":0},{"$f":"Standard!H57","v":0},{"$f":"Standard!K57","v":0}]
[{"$f":"Standard!A58","v":"00:00:00"},{"$f":"Standard!B58","v":0},{"$f":"Standard!C58","v":0},{"$f":"Standard!D58","v":false},{"$f":"Standard!E58","v":0},{"$f":"Standard!F58","v":0},{"$f":"Standard!G58","v":0},{"$f":"Standard!H58","v":0},{"$f":"Standard!K58","v":0}]
[{"$f":"Standard!A59","v":"00:00:00"},{"$f":"Standard!B59","v":0},{"$f":"Standard!C59","v":0},{"$f":"Standard!D59","v":false},{"$f":"Standard!E59","v":0},{"$f":"Standard!F59","v":0},{"$f":"Standard!G59","v":0},{"$f":"Standard!H59","v":0},{"$f":"Standard!K59","v":0}]
[{"$f":"Standard!A60","v":"00:00:00"},{"$f":"Standard!B60","v":0},{"$f":"Standard!C60","v":0},{"$f":"Standard!D60","v":false},{"$f":"Standard!E60","v":0},{"$f":"Standard!F60","v":0},{"$f":"Standard!G60","v":0},{"$f":"Standard!H60","v":0},{"$f":"Standard!K60","v":0}]
[{"$f":"Standard!A61","v":"00:00:00"},{"$f":"Standard!B61","v":0},{"$f":"Standard!C61","v":0},{"$f":"Standard!D61","v":false},{"$f":"Standard!E61","v":0},{"$f":"Standard!F61","v":0},{"$f":"Standard!G61","v":0},{"$f":"Standard!H61","v":0},{"$f":"Standard!K61","v":0}]
[{"$f":"Standard!A62","v":"00:00:00"},{"$f":"Standard!B62","v":0},{"$f":"Standard!C62","v":0},{"$f":"Standard!D62","v":false},{"$f":"Standard!E62","v":0},{"$f":"Standard!F62","v":0},{"$f":"Standard!G62","v":0},{"$f":"Standard!H62","v":0},{"$f":"Standard!K62","v":0}]
[{"$f":"Standard!A63","v":"00:00:00"},{"$f":"Standard!B63","v":0},{"$f":"Standard!C63","v":0},{"$f":"Standard!D63","v":false},{"$f":"Standard!E63","v":0},{"$f":"Standard!F63","v":0},{"$f":"Standard!G63","v":0},{"$f":"Standard!H63","v":0},{"$f":"Standard!K63","v":0}]
[{"$f":"Standard!A64","v":"00:00:00"},{"$f":"Standard!B64","v":0},{"$f":"Standard!C64","v":0},{"$f":"Standard!D64","v":false},{"$f":"Standard!E64","v":0},{"$f":"Standard!F64","v":0},{"$f":"Standard!G64","v":0},{"$f":"Standard!H64","v":0},{"$f":"Standard!K64","v":0}]
[{"$f":"Standard!A65","v":"00:00:00"},{"$f":"Standard!B65","v":0},{"$f":"Standard!C65","v":0},{"$f":"Standard!D65","v":false},{"$f":"Standard!E65","v":0},{"$f":"Standard!F65","v":0},{"$f":"Standard!G65","v":0},{"$f":"Standard!H65","v":0},{"$f":"Standard!K65","v":0}]
[{"$f":"Standard!A66","v":"00:00:00"},{"$f":"Standard!B66","v":0},{"$f":"Standard!C66","v":0},{"$f":"Standard!D66","v":false},{"$f":"Standard!E66","v":0},{"$f":"Standard!F66","v":0},{"$f":"Standard!G66","v":0},{"$f":"Standard!H66","v":0},{"$f":"Standard!K66","v":0}]
[{"$f":"Standard!A67","v":"00:00:00"},{"$f":"Standard!B67","v":0},{"$f":"Standard!C67","v":0},{"$f":"Standard!D67","v":false},{"$f":"Standard!E67","v":0},{"$f":"Standard!F67","v":0},{"$f":"Standard!G67","v":0},{"$f":"Standard!H67","v":0},{"$f":"Standard!K67","v":0}]
[{"$f":"Standard!A68","v":"00:00:00"},{"$f":"Standard!B68","v":0},{"$f":"Standard!C68","v":0},{"$f":"Standard!D68","v":false},{"$f":"Standard!E68","v":0},{"$f":"Standard!F68","v":0},{"$f":"Standard!G68","v":0},{"$f":"Standard!H68","v":0},{"$f":"Standard!K68","v":0}]
[{"$f":"Standard!A69","v":"00:00:00"},{"$f":"Standard!B69","v":0},{"$f":"Standard!C69","v":0},{"$f":"Standard!D69","v":false},{"$f":"Standard!E69","v":0},{"$f":"Standard!F69","v":0},{"$f":"Standard!G69","v":0},{"$f":"Standard!H69","v":0},{"$f":"Standard!K69","v":0}]
[{"$f":"Standard!A70","v":"00:00:00"},{"$f":"Standard!B70","v":0},{"$f":"Standard!C70","v":0},{"$f":"Standard!D70","v":false},{"$f":"Standard!E70","v":0},{"$f":"Standard!F70","v":0},{"$f":"Standard!G70","v":0},{"$f":"Standard!H70","v":0},{"$f":"Standard!K70","v":0}]
[{"$f":"Standard!A71","v":"00:00:00"},{"$f":"Standard!B71","v":0},{"$f":"Standard!C71","v":0},{"$f":"Standard!D71","v":false},{"$f":"Standard!E71","v":0},{"$f":"Standard!F71","v":0},{"$f":"Standard!G71","v":0},{"$f":"Standard!H71","v":0},{"$f":"Standard!K71","v":0}]
[{"$f":"Standard!A72","v":"00:00:00"},{"$f":"Standard!B72","v":0},{"$f":"Standard!C72","v":0},{"$f":"Standard!D72","v":false},{"$f":"Standard!E72","v":0},{"$f":"Standard!F72","v":0},{"$f":"Standard!G72","v":0},{"$f":"Standard!H72","v":0},{"$f":"Standard!K72","v":0}]
[{"$f":"Standard!A73","v":"00:00:00"},{"$f":"Standard!B73","v":0},{"$f":"Standard!C73","v":0},{"$f":"Standard!D73","v":false},{"$f":"Standard!E73","v":0},{"$f":"Standard!F73","v":0},{"$f":"Standard!G73","v":0},{"$f":"Standard!H73","v":0},{"$f":"Standard!K73","v":0}]
[{"$f":"Standard!A74","v":"00:00:00"},{"$f":"Standard!B74","v":0},{"$f":"Standard!C74","v":0},{"$f":"Standard!D74","v":false},{"$f":"Standard!E74","v":0},{"$f":"Standard!F74","v":0},{"$f":"Standard!G74","v":0},{"$f":"Standard!H74","v":0},{"$f":"Standard!K74","v":0}]
[{"$f":"Standard!A75","v":"00:00:00"},{"$f":"Standard!B75","v":0},{"$f":"Standard!C75","v":0},{"$f":"Standard!D75","v":false},{"$f":"Standard!E75","v":0},{"$f":"Standard!F75","v":0},{"$f":"Standard!G75","v":0},{"$f":"Standard!H75","v":0},{"$f":"Standard!K75","v":0}]
[{"$f":"Standard!A76","v":"00:00:00"},{"$f":"Standard!B76","v":0},{"$f":"Standard!C76","v":0},{"$f":"Standard!D76","v":false},{"$f":"Standard!E76","v":0},{"$f":"Standard!F76","v":0},{"$f":"Standard!G76","v":0},{"$f":"Standard!H76","v":0},{"$f":"Standard!K76","v":0}]
[{"$f":"Standard!A77","v":"00:00:00"},{"$f":"Standard!B77","v":0},{"$f":"Standard!C77","v":0},{"$f":"Standard!D77","v":false},{"$f":"Standard!E77","v":0},{"$f":"Standard!F77","v":0},{"$f":"Standard!G77","v":0},{"$f":"Standard!H77","v":0},{"$f":"Standard!K77","v":0}]
[{"$f":"Standard!A78","v":"00:00:00"},{"$f":"Standard!B78","v":0},{"$f":"Standard!C78","v":0},{"$f":"Standard!D78","v":false},{"$f":"Standard!E78","v":0},{"$f":"Standard!F78","v":0},{"$f":"Standard!G78","v":0},{"$f":"Standard!H78","v":0},{"$f":"Standard!K78","v":0}]
[{"$f":"Standard!A79","v":"00:00:00"},{"$f":"Standard!B79","v":0},{"$f":"Standard!C79","v":0},{"$f":"Standard!D79","v":false},{"$f":"Standard!E79","v":0},{"$f":"Standard!F79","v":0},{"$f":"Standard!G79","v":0},{"$f":"Standard!H79","v":0},{"$f":"Standard!K79","v":0}]
[{"$f":"Standard!A80","v":"00:00:00"},{"$f":"Standard!B80","v":0},{"$f":"Standard!C80","v":0},{"$f":"Standard!D80","v":false},{"$f":"Standard!E80","v":0},{"$f":"Standard!F80","v":0},{"$f":"Standard!G80","v":0},{"$f":"Standard!H80","v":0},{"$f":"Standard!K80","v":0}]
[{"$f":"Standard!A81","v":"00:00:00"},{"$f":"Standard!B81","v":0},{"$f":"Standard!C81","v":0},{"$f":"Standard!D81","v":false},{"$f":"Standard!E81","v":0},{"$f":"Standard!F81","v":0},{"$f":"Standard!G81","v":0},{"$f":"Standard!H81","v":0},{"$f":"Standard!K81","v":0}]
[{"$f":"Standard!A82","v":"00:00:00"},{"$f":"Standard!B82","v":0},{"$f":"Standard!C82","v":0},{"$f":"Standard!D82","v":false},{"$f":"Standard!E82","v":0},{"$f":"Standard!F82","v":0},{"$f":"Standard!G82","v":0},{"$f":"Standard!H82","v":0},{"$f":"Standard!K82","v":0}]
[{"$f":"Standard!A83","v":"00:00:00"},{"$f":"Standard!B83","v":0},{"$f":"Standard!C83","v":0},{"$f":"Standard!D83","v":false},{"$f":"Standard!E83","v":0},{"$f":"Standard!F83","v":0},{"$f":"Standard!G83","v":0},{"$f":"Standard!H83","v":0},{"$f":"Standard!K83","v":0}]
[{"$f":"Standard!A84","v":"00:00:00"},{"$f":"Standard!B84","v":0},{"$f":"Standard!C84","v":0},{"$f":"Standard!D84","v":false},{"$f":"Standard!E84","v":0},{"$f":"Standard!F84","v":0},{"$f":"Standard!G84","v":0},{"$f":"Standard!H84","v":0},{"$f":"Standard!K84","v":0}]
[{"$f":"Standard!A85","v":"00:00:00"},{"$f":"Standard!B85","v":0},{"$f":"Standard!C85","v":0},{"$f":"Standard!D85","v":false},{"$f":"Standard!E85","v":0},{"$f":"Standard!F85","v":0},{"$f":"Standard!G85","v":0},{"$f":"Standard!H85","v":0},{"$f":"Standard!K85","v":0}]
[{"$f":"Standard!A86","v":"00:00:00"},{"$f":"Standard!B86","v":0},{"$f":"Standard!C86","v":0},{"$f":"Standard!D86","v":false},{"$f":"Standard!E86","v":0},{"$f":"Standard!F86","v":0},{"$f":"Standard!G86","v":0},{"$f":"Standard!H86","v":0},{"$f":"Standard!K86","v":0}]
[{"$f":"Standard!A87","v":"00:00:00"},{"$f":"Standard!B87","v":0},{"$f":"Standard!C87","v":0},{"$f":"Standard!D87","v":false},{"$f":"Standard!E87","v":0},{"$f":"Standard!F87","v":0},{"$f":"Standard!G87","v":0},{"$f":"Standard!H87","v":0},{"$f":"Standard!K87","v":0}]
[{"$f":"Standard!A88","v":"00:00:00"},{"$f":"Standard!B88","v":0},{"$f":"Standard!C88","v":0},{"$f":"Standard!D88","v":false},{"$f":"Standard!E88","v":0},{"$f":"Standard!F88","v":0},{"$f":"Standard!G88","v":0},{"$f":"Standard!H88","v":0},{"$f":"Standard!K88","v":0}]
[{"$f":"Standard!A89","v":"00:00:00"},{"$f":"Standard!B89","v":0},{"$f":"Standard!C89","v":0},{"$f":"Standard!D89","v":false},{"$f":"Standard!E89","v":0},{"$f":"Standard!F89","v":0},{"$f":"Standard!G89","v":0},{"$f":"Standard!H89","v":0},{"$f":"Standard!K89","v":0}]
[{"$f":"Standard!A90","v":"00:00:00"},{"$f":"Standard!B90","v":0},{"$f":"Standard!C90","v":0},{"$f":"Standard!D90","v":false},{"$f":"Standard!E90","v":0},{"$f":"Standard!F90","v":0},{"$f":"Standard!G90","v":0},{"$f":"Standard!H90","v":0},{"$f":"Standard!K90","v":0}]
[{"$f":"Standard!A91","v":"00:00:00"},{"$f":"Standard!B91","v":0},{"$f":"Standard!C91","v":0},{"$f":"Standard!D91","v":false},{"$f":"Standard!E91","v":0},{"$f":"Standard!F91","v":0},{"$f":"Standard!G91","v":0},{"$f":"Standard!H91","v":0},{"$f":"Standard!K91","v":0}]
[{"$f":"Standard!A92","v":"00:00:00"},{"$f":"Standard!B92","v":0},{"$f":"Standard!C92","v":0},{"$f":"Standard!D92","v":false},{"$f":"Standard!E92","v":0},{"$f":"Standard!F92","v":0},{"$f":"Standard!G92","v":0},{"$f":"Standard!H92","v":0},{"$f":"Standard!K92","v":0}]
[{"$f":"Standard!A93","v":"00:00:00"},{"$f":"Standard!B93","v":0},{"$f":"Standard!C93","v":0},{"$f":"Standard!D93","v":false},{"$f":"Standard!E93","v":0},{"$f":"Standard!F93","v":0},{"$f":"Standard!G93","v":0},{"$f":"Standard!H93","v":0},{"$f":"Standard!K93","v":0}]
[{"$f":"Standard!A94","v":"00:00:00"},{"$f":"Standard!B94","v":0},{"$f":"Standard!C94","v":0},{"$f":"Standard!D94","v":false},{"$f":"Standard!E94","v":0},{"$f":"Standard!F94","v":0},{"$f":"Standard!G94","v":0},{"$f":"Standard!H94","v":0},{"$f":"Standard!K94","v":0}]
[{"$f":"Standard!A95","v":"00:00:00"},{"$f":"Standard!B95","v":0},{"$f":"Standard!C95","v":0},{"$f":"Standard!D95","v":false},{"$f":"Standard!E95","v":0},{"$f":"Standard!F95","v":0},{"$f":"Standard!G95","v":0},{"$f":"Standard!H95","v":0},{"$f":"Standard!K95","v":0}]
[{"$f":"Standard!A96","v":"00:00:00"},{"$f":"Standard!B96","v":0},{"$f":"Standard!C96","v":0},{"$f":"Standard!D96","v":false},{"$f":"Standard!E96","v":0},{"$f":"Standard!F96","v":0},{"$f":"Standard!G96","v":0},{"$f":"Standard!H96","v":0},{"$f":"Standard!K96","v":0}]
[{"$f":"Standard!A97","v":"00:00:00"},{"$f":"Standard!B97","v":0},{"$f":"Standard!C97","v":0},{"$f":"Standard!D97","v":false},{"$f":"Standard!E97","v":0},{"$f":"Standard!F97","v":0},{"$f":"Standard!G97","v":0},{"$f":"Standard!H97","v":0},{"$f":"Standard!K97","v":0}]
[{"$f":"Standard!A98","v":"00:00:00"},{"$f":"Standard!B98","v":0},{"$f":"Standard!C98","v":0},{"$f":"Standard!D98","v":false},{"$f":"Standard!E98","v":0},{"$f":"Standard!F98","v":0},{"$f":"Standard!G98","v":0},{"$f":"Standard!H98","v":0},{"$f":"Standard!K98","v":0}]
[{"$f":"Standard!A99","v":"00:00:00"},{"$f":"Standard!B99","v":0},{"$f":"Standard!C99","v":0},{"$f":"Standard!D99","v":false},{"$f":"Standard!E99","v":0},{"$f":"Standard!F99","v":0},{"$f":"Standard!G99","v":0},{"$f":"Standard!H99","v":0},{"$f":"Standard!K99","v":0}]
[{"$f":"Standard!A100","v":"00:00:00"},{"$f":"Standard!B100","v":0},{"$f":"Standard!C100","v":0},{"$f":"Standard!D100","v":false},{"$f":"Standard!E100","v":0},{"$f":"Standard!F100","v":0},{"$f":"Standard!G100","v":0},{"$f":"Standard!H100","v":0},{"$f":"Standard!K100","v":0}]
[{"$f":"Standard!A101","v":"00:00:00"},{"$f":"Standard!B101","v":0},{"$f":"Standard!C101","v":0},{"$f":"Standard!D101","v":false},{"$f":"Standard!E101","v":0},{"$f":"Standard!F101","v":0},{"$f":"Standard!G101","v":0},{"$f":"Standard!H101","v":0},{"$f":"Standard!K101","v":0}]
[{"$f":"Standard!A102","v":"00:00:00"},{"$f":"Standard!B102","v":0},{"$f":"Standard!C102","v":0},{"$f":"Standard!D102","v":false},{"$f":"Standard!E102","v":0},{"$f":"Standard!F102","v":0},{"$f":"Standard!G102","v":0},{"$f":"Standard!H102","v":0},{"$f":"Standard!K102","v":0}]
[{"$f":"Standard!A103","v":"00:00:00"},{"$f":"Standard!B103","v":0},{"$f":"Standard!C103","v":0},{"$f":"Standard!D103","v":false},{"$f":"Standard!E103","v":0},{"$f":"Standard!F103","v":0},{"$f":"Standard!G103","v":0},{"$f":"Standard!H103","v":0},{"$f":"Standard!K103","v":0}]
[{"$f":"Standard!A104","v":"00:00:00"},{"$f":"Standard!B104","v":0},{"$f":"Standard!C104","v":0},{"$f":"Standard!D104","v":false},{"$f":"Standard!E104","v":0},{"$f":"Standard!F104","v":0},{"$f":"Standard!G104","v":0},{"$f":"Standard!H104","v":0},{"$f":"Standard!K104","v":0}]
[{"$f":"Standard!A105","v":"00:00:00"},{"$f":"Standard!B105","v":0},{"$f":"Standard!C105","v":0},{"$f":"Standard!D105","v":false},{"$f":"Standard!E105","v":0},{"$f":"Standard!F105","v":0},{"$f":"Standard!G105","v":0},{"$f":"Standard!H105","v":0},{"$f":"Standard!K105","v":0}]
[{"$f":"Standard!A106","v":"00:00:00"},{"$f":"Standard!B106","v":0},{"$f":"Standard!C106","v":0},{"$f":"Standard!D106","v":false},{"$f":"Standard!E106","v":0},{"$f":"Standard!F106","v":0},{"$f":"Standard!G106","v":0},{"$f":"Standard!H106","v":0},{"$f":"Standard!K106","v":0}]
[{"$f":"Standard!A107","v":"00:00:00"},{"$f":"Standard!B107","v":0},{"$f":"Standard!C107","v":0},{"$f":"Standard!D107","v":false},{"$f":"Standard!E107","v":0},{"$f":"Standard!F107","v":0},{"$f":"Standard!G107","v":0},{"$f":"Standard!H107","v":0},{"$f":"Standard!K107","v":0}]
[{"$f":"Standard!A108","v":"00:00:00"},{"$f":"Standard!B108","v":0},{"$f":"Standard!C108","v":0},{"$f":"Standard!D108","v":false},{"$f":"Standard!E108","v":0},{"$f":"Standard!F108","v":0},{"$f":"Standard!G108","v":0},{"$f":"Standard!H108","v":0},{"$f":"Standard!K108","v":0}]
[{"$f":"Standard!A109","v":"00:00:00"},{"$f":"Standard!B109","v":0},{"$f":"Standard!C109","v":0},{"$f":"Standard!D109","v":false},{"$f":"Standard!E109","v":0},{"$f":"Standard!F109","v":0},{"$f":"Standard!G109","v":0},{"$f":"Standard!H109","v":0},{"$f":"Standard!K109","v":0}]
[{"$f":"Standard!A110","v":"00:00:00"},{"$f":"Standard!B110","v":0},{"$f":"Standard!C110","v":0},{"$f":"Standard!D110","v":false},{"$f":"Standard!E110","v":0},{"$f":"Standard!F110","v":0},{"$f":"Standard!G110","v":0},{"$f":"Standard!H110","v":0},{"$f":"Standard!K110","v":0}]
[{"$f":"Standard!A111","v":"00:00:00"},{"$f":"Standard!B111","v":0},{"$f":"Standard!C111","v":0},{"$f":"Standard!D111","v":false},{"$f":"Standard!E111","v":0},{"$f":"Standard!F111","v":0},{"$f":"Standard!G111","v":0},{"$f":"Standard!H111","v":0},{"$f":"Standard!K111","v":0}]
[{"$f":"Standard!A112","v":"00:00:00"},{"$f":"Standard!B112","v":0},{"$f":"Standard!C112","v":0},{"$f":"Standard!D112","v":false},{"$f":"Standard!E112","v":0},{"$f":"Standard!F112","v":0},{"$f":"Standard!G112","v":0},{"$f":"Standard!H112","v":0},{"$f":"Standard!K112","v":0}]
[{"$f":"Standard!A113","v":"00:00:00"},{"$f":"Standard!B113","v":0},{"$f":"Standard!C113","v":0},{"$f":"Standard!D113","v":false},{"$f":"Standard!E113","v":0},{"$f":"Standard!F113","v":0},{"$f":"Standard!G113","v":0},{"$f":"Standard!H113","v":0},{"$f":"Standard!K113","v":0}]
[{"$f":"Standard!A114","v":"00:00:00"},{"$f":"Standard!B114","v":0},{"$f":"Standard!C114","v":0},{"$f":"Standard!D114","v":false},{"$f":"Standard!E114","v":0},{"$f":"Standard!F114","v":0},{"$f":"Standard!G114","v":0},{"$f":"Standard!H114","v":0},{"$f":"Standard!K114","v":0}]
[{"$f":"Standard!A115","v":"00:00:00"},{"$f":"Standard!B115","v":0},{"$f":"Standard!C115","v":0},{"$f":"Standard!D115","v":false},{"$f":"Standard!E115","v":0},{"$f":"Standard!F115","v":0},{"$f":"Standard!G115","v":0},{"$f":"Standard!H115","v":0},{"$f":"Standard!K115","v":0}]
[{"$f":"Standard!A116","v":"00:00:00"},{"$f":"Standard!B116","v":0},{"$f":"Standard!C116","v":0},{"$f":"Standard!D116","v":false},{"$f":"Standard!E116","v":0},{"$f":"Standard!F116","v":0},{"$f":"Standard!G116","v":0},{"$f":"Standard!H116","v":0},{"$f":"Standard!K116","v":0}]
[{"$f":"Standard!A117","v":"00:00:00"},{"$f":"Standard!B117","v":0},{"$f":"Standard!C117","v":0},{"$f":"Standard!D117","v":false},{"$f":"Standard!E117","v":0},{"$f":"Standard!F117","v":0},{"$f":"Standard!G117","v":0},{"$f":"Standard!H117","v":0},{"$f":"Standard!K117","v":0}]
[{"$f":"Legal!A5","v":"00:00:00"},{"$f":"Legal!B5","v":0},{"$f":"Legal!C5","v":0},{"$f":"Legal!D5","v":false},{"$f":"Legal!E5","v":0},{"$f":"Legal!F5","v":0},{"$f":"Legal!G5","v":0},{"$f":"Legal!H5","v":0},{"$f":"Legal!K5","v":0}]
[{"$f":"Legal!A6","v":"00:00:00"},{"$f":"Legal!B6","v":0},{"$f":"Legal!C6","v":0},{"$f":"Legal!D6","v":false},{"$f":"Legal!E6","v":0},{"$f":"Legal!F6","v":0},{"$f":"Legal!G6","v":0},{"$f":"Legal!H6","v":0},{"$f":"Legal!K6","v":0}]
[{"$f":"Legal!A7","v":"00:00:00"},{"$f":"Legal!B7","v":0},{"$f":"Legal!C7","v":0},{"$f":"Legal!D7","v":false},{"$f":"Legal!E7","v":0},{"$f":"Legal!F7","v":0},{"$f":"Legal!G7","v":0},{"$f":"Legal!H7","v":0},{"$f":"Legal!K7","v":0}]
[{"$f":"Legal!A8","v":"00:00:00"},{"$f":"Legal!B8","v":0},{"$f":"Legal!C8","v":0},{"$f":"Legal!D8","v":false},{"$f":"Legal!E8","v":0},{"$f":"Legal!F8","v":0},{"$f":"Legal!G8","v":0},{"$f":"Legal!H8","v":0},{"$f":"Legal!K8","v":0}]
[{"$f":"Legal!A9","v":"00:00:00"},{"$f":"Legal!B9","v":0},{"$f":"Legal!C9","v":0},{"$f":"Legal!D9","v":false},{"$f":"Legal!E9","v":0},{"$f":"Legal!F9","v":0},{"$f":"Legal!G9","v":0},{"$f":"Legal!H9","v":0},{"$f":"Legal!K9","v":0}]
[{"$f":"Legal!A10","v":"00:00:00"},{"$f":"Legal!B10","v":0},{"$f":"Legal!C10","v":0},{"$f":"Legal!D10","v":false},{"$f":"Legal!E10","v":0},{"$f":"Legal!F10","v":0},{"$f":"Legal!G10","v":0},{"$f":"Legal!H10","v":0},{"$f":"Legal!K10","v":0}]
[{"$f":"Legal!A11","v":"00:00:00"},{"$f":"Legal!B11","v":0},{"$f":"Legal!C11","v":0},{"$f":"Legal!D11","v":false},{"$f":"Legal!E11","v":0},{"$f":"Legal!F11","v":0},{"$f":"Legal!G11","v":0},{"$f":"Legal!H11","v":0},{"$f":"Legal!K11","v":0}]
[{"$f":"Legal!A12","v":"00:00:00"},{"$f":"Legal!B12","v":0},{"$f":"Legal!C12","v":0},{"$f":"Legal!D12","v":false},{"$f":"Legal!E12","v":0},{"$f":"Legal!F12","v":0},{"$f":"Legal!G12","v":0},{"$f":"Legal!H12","v":0},{"$f":"Legal!K12","v":0}]
[{"$f":"Legal!A13","v":"00:00:00"},{"$f":"Legal!B13","v":0},{"$f":"Legal!C13","v":0},{"$f":"Legal!D13","v":false},{"$f":"Legal!E13","v":0},{"$f":"Legal!F13","v":0},{"$f":"Legal!G13","v":0},{"$f":"Legal!H13","v":0},{"$f":"Legal!K13","v":0}]
[{"$f":"Legal!A14","v":"00:00:00"},{"$f":"Legal!B14","v":0},{"$f":"Legal!C14","v":0},{"$f":"Legal!D14","v":false},{"$f":"Legal!E14","v":0},{"$f":"Legal!F14","v":0},{"$f":"Legal!G14","v":0},{"$f":"Legal!H14","v":0},{"$f":"Legal!K14","v":0}]
[{"$f":"Legal!A15","v":"00:00:00"},{"$f":"Legal!B15","v":0},{"$f":"Legal!C15","v":0},{"$f":"Legal!D15","v":false},{"$f":"Legal!E15","v":0},{"$f":"Legal!F15","v":0},{"$f":"Legal!G15","v":0},{"$f":"Legal!H15","v":0},{"$f":"Legal!K15","v":0}]
[{"$f":"Legal!A16","v":"00:00:00"},{"$f":"Legal!B16","v":0},{"$f":"Legal!C16","v":0},{"$f":"Legal!D16","v":false},{"$f":"Legal!E16","v":0},{"$f":"Legal!F16","v":0},{"$f":"Legal!G16","v":0},{"$f":"Legal!H16","v":0},{"$f":"Legal!K16","v":0}]
[{"$f":"Legal!A17","v":"00:00:00"},{"$f":"Legal!B17","v":0},{"$f":"Legal!C17","v":0},{"$f":"Legal!D17","v":false},{"$f":"Legal!E17","v":0},{"$f":"Legal!F17","v":0},{"$f":"Legal!G17","v":0},{"$f":"Legal!H17","v":0},{"$f":"Legal!K17","v":0}]
[{"$f":"Legal!A18","v":"00:00:00"},{"$f":"Legal!B18","v":0},{"$f":"Legal!C18","v":0},{"$f":"Legal!D18","v":false},{"$f":"Legal!E18","v":0},{"$f":"Legal!F18","v":0},{"$f":"Legal!G18","v":0},{"$f":"Legal!H18","v":0},{"$f":"Legal!K18","v":0}]
[{"$f":"Legal!A19","v":"00:00:00"},{"$f":"Legal!B19","v":0},{"$f":"Legal!C19","v":0},{"$f":"Legal!D19","v":false},{"$f":"Legal!E19","v":0},{"$f":"Legal!F19","v":0},{"$f":"Legal!G19","v":0},{"$f":"Legal!H19","v":0},{"$f":"Legal!K19","v":0}]
[{"$f":"Legal!A20","v":"00:00:00"},{"$f":"Legal!B20","v":0},{"$f":"Legal!C20","v":0},{"$f":"Legal!D20","v":false},{"$f":"Legal!E20","v":0},{"$f":"Legal!F20","v":0},{"$f":"Legal!G20","v":0},{"$f":"Legal!H20","v":0},{"$f":"Legal!K20","v":0}]
[{"$f":"Legal!A21","v":"00:00:00"},{"$f":"Legal!B21","v":0},{"$f":"Legal!C21","v":0},{"$f":"Legal!D21","v":false},{"$f":"Legal!E21","v":0},{"$f":"Legal!F21","v":0},{"$f":"Legal!G21","v":0},{"$f":"Legal!H21","v":0},{"$f":"Legal!K21","v":0}]
[{"$f":"Legal!A22","v":"00:00:00"},{"$f":"Legal!B22","v":0},{"$f":"Legal!C22","v":0},{"$f":"Legal!D22","v":false},{"$f":"Legal!E22","v":0},{"$f":"Legal!F22","v":0},{"$f":"Legal!G22","v":0},{"$f":"Legal!H22","v":0},{"$f":"Legal!K22","v":0}]
[{"$f":"Legal!A23","v":"00:00:00"},{"$f":"Legal!B23","v":0},{"$f":"Legal!C23","v":0},{"$f":"Legal!D23","v":false},{"$f":"Legal!E23","v":0},{"$f":"Legal!F23","v":0},{"$f":"Legal!G23","v":0},{"$f":"Legal!H23","v":0},{"$f":"Legal!K23","v":0}]
[{"$f":"Legal!A24","v":"00:00:00"},{"$f":"Legal!B24","v":0},{"$f":"Legal!C24","v":0},{"$f":"Legal!D24","v":false},{"$f":"Legal!E24","v":0},{"$f":"Legal!F24","v":0},{"$f":"Legal!G24","v":0},{"$f":"Legal!H24","v":0},{"$f":"Legal!K24","v":0}]
[{"$f":"Legal!A25","v":"00:00:00"},{"$f":"Legal!B25","v":0},{"$f":"Legal!C25","v":0},{"$f":"Legal!D25","v":false},{"$f":"Legal!E25","v":0},{"$f":"Legal!F25","v":0},{"$f":"Legal!G25","v":0},{"$f":"Legal!H25","v":0},{"$f":"Legal!K25","v":0}]
[{"$f":"Legal!A26","v":"00:00:00"},{"$f":"Legal!B26","v":0},{"$f":"Legal!C26","v":0},{"$f":"Legal!D26","v":false},{"$f":"Legal!E26","v":0},{"$f":"Legal!F26","v":0},{"$f":"Legal!G26","v":0},{"$f":"Legal!H26","v":0},{"$f":"Legal!K26","v":0}]
[{"$f":"Legal!A27","v":"00:00:00"},{"$f":"Legal!B27","v":0},{"$f":"Legal!C27","v":0},{"$f":"Legal!D27","v":false},{"$f":"Legal!E27","v":0},{"$f":"Legal!F27","v":0},{"$f":"Legal!G27","v":0},{"$f":"Legal!H27","v":0},{"$f":"Legal!K27","v":0}]
[{"$f":"Legal!A28","v":"00:00:00"},{"$f":"Legal!B28","v":0},{"$f":"Legal!C28","v":0},{"$f":"Legal!D28","v":false},{"$f":"Legal!E28","v":0},{"$f":"Legal!F28","v":0},{"$f":"Legal!G28","v":0},{"$f":"Legal!H28","v":0},{"$f":"Legal!K28","v":0}]
[{"$f":"Legal!A29","v":"00:00:00"},{"$f":"Legal!B29","v":0},{"$f":"Legal!C29","v":0},{"$f":"Legal!D29","v":false},{"$f":"Legal!E29","v":0},{"$f":"Legal!F29","v":0},{"$f":"Legal!G29","v":0},{"$f":"Legal!H29","v":0},{"$f":"Legal!K29","v":0}]
[{"$f":"Legal!A30","v":"00:00:00"},{"$f":"Legal!B30","v":0},{"$f":"Legal!C30","v":0},{"$f":"Legal!D30","v":false},{"$f":"Legal!E30","v":0},{"$f":"Legal!F30","v":0},{"$f":"Legal!G30","v":0},{"$f":"Legal!H30","v":0},{"$f":"Legal!K30","v":0}]
[{"$f":"Legal!A31","v":"00:00:00"},{"$f":"Legal!B31","v":0},{"$f":"Legal!C31","v":0},{"$f":"Legal!D31","v":false},{"$f":"Legal!E31","v":0},{"$f":"Legal!F31","v":0},{"$f":"Legal!G31","v":0},{"$f":"Legal!H31","v":0},{"$f":"Legal!K31","v":0}]
[{"$f":"Legal!A32","v":"00:00:00"},{"$f":"Legal!B32","v":0},{"$f":"Legal!C32","v":0},{"$f":"Legal!D32","v":false},{"$f":"Legal!E32","v":0},{"$f":"Legal!F32","v":0},{"$f":"Legal!G32","v":0},{"$f":"Legal!H32","v":0},{"$f":"Legal!K32","v":0}]
[{"$f":"Legal!A33","v":"00:00:00"},{"$f":"Legal!B33","v":0},{"$f":"Legal!C33","v":0},{"$f":"Legal!D33","v":false},{"$f":"Legal!E33","v":0},{"$f":"Legal!F33","v":0},{"$f":"Legal!G33","v":0},{"$f":"Legal!H33","v":0},{"$f":"Legal!K33","v":0}]
[{"$f":"Legal!A34","v":"00:00:00"},{"$f":"Legal!B34","v":0},{"$f":"Legal!C34","v":0},{"$f":"Legal!D34","v":false},{"$f":"Legal!E34","v":0},{"$f":"Legal!F34","v":0},{"$f":"Legal!G34","v":0},{"$f":"Legal!H34","v":0},{"$f":"Legal!K34","v":0}]
[{"$f":"Legal!A35","v":"00:00:00"},{"$f":"Legal!B35","v":0},{"$f":"Legal!C35","v":0},{"$f":"Legal!D35","v":false},{"$f":"Legal!E35","v":0},{"$f":"Legal!F35","v":0},{"$f":"Legal!G35","v":0},{"$f":"Legal!H35","v":0},{"$f":"Legal!K35","v":0}]
[{"$f":"Legal!A36","v":"00:00:00"},{"$f":"Legal!B36","v":0},{"$f":"Legal!C36","v":0},{"$f":"Legal!D36","v":false},{"$f":"Legal!E36","v":0},{"$f":"Legal!F36","v":0},{"$f":"Legal!G36","v":0},{"$f":"Legal!H36","v":0},{"$f":"Legal!K36","v":0}]
[{"$f":"Legal!A37","v":"00:00:00"},{"$f":"Legal!B37","v":0},{"$f":"Legal!C37","v":0},{"$f":"Legal!D37","v":false},{"$f":"Legal!E37","v":0},{"$f":"Legal!F37","v":0},{"$f":"Legal!G37","v":0},{"$f":"Legal!H37","v":0},{"$f":"Legal!K37","v":0}]
[{"$f":"Legal!A38","v":"00:00:00"},{"$f":"Legal!B38","v":0},{"$f":"Legal!C38","v":0},{"$f":"Legal!D38","v":false},{"$f":"Legal!E38","v":0},{"$f":"Legal!F38","v":0},{"$f":"Legal!G38","v":0},{"$f":"Legal!H38","v":0},{"$f":"Legal!K38","v":0}]
[{"$f":"Legal!A39","v":"00:00:00"},{"$f":"Legal!B39","v":0},{"$f":"Legal!C39","v":0},{"$f":"Legal!D39","v":false},{"$f":"Legal!E39","v":0},{"$f":"Legal!F39","v":0},{"$f":"Legal!G39","v":0},{"$f":"Legal!H39","v":0},{"$f":"Legal!K39","v":0}]
[{"$f":"Legal!A40","v":"00:00:00"},{"$f":"Legal!B40","v":0},{"$f":"Legal!C40","v":0},{"$f":"Legal!D40","v":false},{"$f":"Legal!E40","v":0},{"$f":"Legal!F40","v":0},{"$f":"Legal!G40","v":0},{"$f":"Legal!H40","v":0},{"$f":"Legal!K40","v":0}]
[{"$f":"Legal!A41","v":"00:00:00"},{"$f":"Legal!B41","v":0},{"$f":"Legal!C41","v":0},{"$f":"Legal!D41","v":false},{"$f":"Legal!E41","v":0},{"$f":"Legal!F41","v":0},{"$f":"Legal!G41","v":0},{"$f":"Legal!H41","v":0},{"$f":"Legal!K41","v":0}]
[{"$f":"Legal!A42","v":"00:00:00"},{"$f":"Legal!B42","v":0},{"$f":"Legal!C42","v":0},{"$f":"Legal!D42","v":false},{"$f":"Legal!E42","v":0},{"$f":"Legal!F42","v":0},{"$f":"Legal!G42","v":0},{"$f":"Legal!H42","v":0},{"$f":"Legal!K42","v":0}]
[{"$f":"Legal!A43","v":"00:00:00"},{"$f":"Legal!B43","v":0},{"$f":"Legal!C43","v":0},{"$f":"Legal!D43","v":false},{"$f":"Legal!E43","v":0},{"$f":"Legal!F43","v":0},{"$f":"Legal!G43","v":0},{"$f":"Legal!H43","v":0},{"$f":"Legal!K43","v":0}]
[{"$f":"Legal!A44","v":"00:00:00"},{"$f":"Legal!B44","v":0},{"$f":"Legal!C44","v":0},{"$f":"Legal!D44","v":false},{"$f":"Legal!E44","v":0},{"$f":"Legal!F44","v":0},{"$f":"Legal!G44","v":0},{"$f":"Legal!H44","v":0},{"$f":"Legal!K44","v":0}]
[{"$f":"Legal!A45","v":"00:00:00"},{"$f":"Legal!B45","v":0},{"$f":"Legal!C45","v":0},{"$f":"Legal!D45","v":false},{"$f":"Legal!E45","v":0},{"$f":"Legal!F45","v":0},{"$f":"Legal!G45","v":0},{"$f":"Legal!H45","v":0},{"$f":"Legal!K45","v":0}]
[{"$f":"Legal!A46","v":"00:00:00"},{"$f":"Legal!B46","v":0},{"$f":"Legal!C46","v":0},{"$f":"Legal!D46","v":false},{"$f":"Legal!E46","v":0},{"$f":"Legal!F46","v":0},{"$f":"Legal!G46","v":0},{"$f":"Legal!H46","v":0},{"$f":"Legal!K46","v":0}]
[{"$f":"Legal!A47","v":"00:00:00"},{"$f":"Legal!B47","v":0},{"$f":"Legal!C47","v":0},{"$f":"Legal!D47","v":false},{"$f":"Legal!E47","v":0},{"$f":"Legal!F47","v":0},{"$f":"Legal!G47","v":0},{"$f":"Legal!H47","v":0},{"$f":"Legal!K47","v":0}]
[{"$f":"Legal!A48","v":"00:00:00"},{"$f":"Legal!B48","v":0},{"$f":"Legal!C48","v":0},{"$f":"Legal!D48","v":false},{"$f":"Legal!E48","v":0},{"$f":"Legal!F48","v":0},{"$f":"Legal!G48","v":0},{"$f":"Legal!H48","v":0},{"$f":"Legal!K48","v":0}]
[{"$f":"Legal!A49","v":"00:00:00"},{"$f":"Legal!B49","v":0},{"$f":"Legal!C49","v":0},{"$f":"Legal!D49","v":false},{"$f":"Legal!E49","v":0},{"$f":"Legal!F49","v":0},{"$f":"Legal!G49","v":0},{"$f":"Legal!H49","v":0},{"$f":"Legal!K49","v":0}]
[{"$f":"Legal!A50","v":"00:00:00"},{"$f":"Legal!B50","v":0},{"$f":"Legal!C50","v":0},{"$f":"Legal!D50","v":false},{"$f":"Legal!E50","v":0},{"$f":"Legal!F50","v":0},{"$f":"Legal!G50","v":0},{"$f":"Legal!H50","v":0},{"$f":"Legal!K50","v":0}]
[{"$f":"Legal!A51","v":"00:00:00"},{"$f":"Legal!B51","v":0},{"$f":"Legal!C51","v":0},{"$f":"Legal!D51","v":false},{"$f":"Legal!E51","v":0},{"$f":"Legal!F51","v":0},{"$f":"Legal!G51","v":0},{"$f":"Legal!H51","v":0},{"$f":"Legal!K51","v":0}]
[{"$f":"Legal!A52","v":"00:00:00"},{"$f":"Legal!B52","v":0},{"$f":"Legal!C52","v":0},{"$f":"Legal!D52","v":false},{"$f":"Legal!E52","v":0},{"$f":"Legal!F52","v":0},{"$f":"Legal!G52","v":0},{"$f":"Legal!H52","v":0},{"$f":"Legal!K52","v":0}]
[{"$f":"Legal!A53","v":"00:00:00"},{"$f":"Legal!B53","v":0},{"$f":"Legal!C53","v":0},{"$f":"Legal!D53","v":false},{"$f":"Legal!E53","v":0},{"$f":"Legal!F53","v":0},{"$f":"Legal!G53","v":0},{"$f":"Legal!H53","v":0},{"$f":"Legal!K53","v":0}]
[{"$f":"Legal!A54","v":"00:00:00"},{"$f":"Legal!B54","v":0},{"$f":"Legal!C54","v":0},{"$f":"Legal!D54","v":false},{"$f":"Legal!E54","v":0},{"$f":"Legal!F54","v":0},{"$f":"Legal!G54","v":0},{"$f":"Legal!H54","v":0},{"$f":"Legal!K54","v":0}]
[{"$f":"Legal!A55","v":"00:00:00"},{"$f":"Legal!B55","v":0},{"$f":"Legal!C55","v":0},{"$f":"Legal!D55","v":false},{"$f":"Legal!E55","v":0},{"$f":"Legal!F55","v":0},{"$f":"Legal!G55","v":0},{"$f":"Legal!H55","v":0},{"$f":"Legal!K55","v":0}]
[{"$f":"Legal!A56","v":"00:00:00"},{"$f":"Legal!B56","v":0},{"$f":"Legal!C56","v":0},{"$f":"Legal!D56","v":false},{"$f":"Legal!E56","v":0},{"$f":"Legal!F56","v":0},{"$f":"Legal!G56","v":0},{"$f":"Legal!H56","v":0},{"$f":"Legal!K56","v":0}]
[{"$f":"Legal!A57","v":"00:00:00"},{"$f":"Legal!B57","v":0},{"$f":"Legal!C57","v":0},{"$f":"Legal!D57","v":false},{"$f":"Legal!E57","v":0},{"$f":"Legal!F57","v":0},{"$f":"Legal!G57","v":0},{"$f":"Legal!H57","v":0},{"$f":"Legal!K57","v":0}]
[{"$f":"Legal!A58","v":"00:00:00"},{"$f":"Legal!B58","v":0},{"$f":"Legal!C58","v":0},{"$f":"Legal!D58","v":false},{"$f":"Legal!E58","v":0},{"$f":"Legal!F58","v":0},{"$f":"Legal!G58","v":0},{"$f":"Legal!H58","v":0},{"$f":"Legal!K58","v":0}]
[{"$f":"Legal!A59","v":"00:00:00"},{"$f":"Legal!B59","v":0},{"$f":"Legal!C59","v":0},{"$f":"Legal!D59","v":false},{"$f":"Legal!E59","v":0},{"$f":"Legal!F59","v":0},{"$f":"Legal!G59","v":0},{"$f":"Legal!H59","v":0},{"$f":"Legal!K59","v":0}]
[{"$f":"Legal!A60","v":"00:00:00"},{"$f":"Legal!B60","v":0},{"$f":"Legal!C60","v":0},{"$f":"Legal!D60","v":false},{"$f":"Legal!E60","v":0},{"$f":"Legal!F60","v":0},{"$f":"Legal!G60","v":0},{"$f":"Legal!H60","v":0},{"$f":"Legal!K60","v":0}]
[{"$f":"Legal!A61","v":"00:00:00"},{"$f":"Legal!B61","v":0},{"$f":"Legal!C61","v":0},{"$f":"Legal!D61","v":false},{"$f":"Legal!E61","v":0},{"$f":"Legal!F61","v":0},{"$f":"Legal!G61","v":0},{"$f":"Legal!H61","v":0},{"$f":"Legal!K61","v":0}]
[{"$f":"Legal!A62","v":"00:00:00"},{"$f":"Legal!B62","v":0},{"$f":"Legal!C62","v":0},{"$f":"Legal!D62","v":false},{"$f":"Legal!E62","v":0},{"$f":"Legal!F62","v":0},{"$f":"Legal!G62","v":0},{"$f":"Legal!H62","v":0},{"$f":"Legal!K62","v":0}]
[{"$f":"Legal!A63","v":"00:00:00"},{"$f":"Legal!B63","v":0},{"$f":"Legal!C63","v":0},{"$f":"Legal!D63","v":false},{"$f":"Legal!E63","v":0},{"$f":"Legal!F63","v":0},{"$f":"Legal!G63","v":0},{"$f":"Legal!H63","v":0},{"$f":"Legal!K63","v":0}]
[{"$f":"Legal!A64","v":"00:00:00"},{"$f":"Legal!B64","v":0},{"$f":"Legal!C64","v":0},{"$f":"Legal!D64","v":false},{"$f":"Legal!E64","v":0},{"$f":"Legal!F64","v":0},{"$f":"Legal!G64","v":0},{"$f":"Legal!H64","v":0},{"$f":"Legal!K64","v":0}]
[{"$f":"Legal!A65","v":"00:00:00"},{"$f":"Legal!B65","v":0},{"$f":"Legal!C65","v":0},{"$f":"Legal!D65","v":false},{"$f":"Legal!E65","v":0},{"$f":"Legal!F65","v":0},{"$f":"Legal!G65","v":0},{"$f":"Legal!H65","v":0},{"$f":"Legal!K65","v":0}]
[{"$f":"Legal!A66","v":"00:00:00"},{"$f":"Legal!B66","v":0},{"$f":"Legal!C66","v":0},{"$f":"Legal!D66","v":false},{"$f":"Legal!E66","v":0},{"$f":"Legal!F66","v":0},{"$f":"Legal!G66","v":0},{"$f":"Legal!H66","v":0},{"$f":"Legal!K66","v":0}]
[{"$f":"Legal!A67","v":"00:00:00"},{"$f":"Legal!B67","v":0},{"$f":"Legal!C67","v":0},{"$f":"Legal!D67","v":false},{"$f":"Legal!E67","v":0},{"$f":"Legal!F67","v":0},{"$f":"Legal!G67","v":0},{"$f":"Legal!H67","v":0},{"$f":"Legal!K67","v":0}]
[{"$f":"Legal!A68","v":"00:00:00"},{"$f":"Legal!B68","v":0},{"$f":"Legal!C68","v":0},{"$f":"Legal!D68","v":false},{"$f":"Legal!E68","v":0},{"$f":"Legal!F68","v":0},{"$f":"Legal!G68","v":0},{"$f":"Legal!H68","v":0},{"$f":"Legal!K68","v":0}]
[{"$f":"Legal!A69","v":"00:00:00"},{"$f":"Legal!B69","v":0},{"$f":"Legal!C69","v":0},{"$f":"Legal!D69","v":false},{"$f":"Legal!E69","v":0},{"$f":"Legal!F69","v":0},{"$f":"Legal!G69","v":0},{"$f":"Legal!H69","v":0},{"$f":"Legal!K69","v":0}]
[{"$f":"Legal!A70","v":"00:00:00"},{"$f":"Legal!B70","v":0},{"$f":"Legal!C70","v":0},{"$f":"Legal!D70","v":false},{"$f":"Legal!E70","v":0},{"$f":"Legal!F70","v":0},{"$f":"Legal!G70","v":0},{"$f":"Legal!H70","v":0},{"$f":"Legal!K70","v":0}]
[{"$f":"Legal!A71","v":"00:00:00"},{"$f":"Legal!B71","v":0},{"$f":"Legal!C71","v":0},{"$f":"Legal!D71","v":false},{"$f":"Legal!E71","v":0},{"$f":"Legal!F71","v":0},{"$f":"Legal!G71","v":0},{"$f":"Legal!H71","v":0},{"$f":"Legal!K71","v":0}]
[{"$f":"Legal!A72","v":"00:00:00"},{"$f":"Legal!B72","v":0},{"$f":"Legal!C72","v":0},{"$f":"Legal!D72","v":false},{"$f":"Legal!E72","v":0},{"$f":"Legal!F72","v":0},{"$f":"Legal!G72","v":0},{"$f":"Legal!H72","v":0},{"$f":"Legal!K72","v":0}]
[{"$f":"Legal!A73","v":"00:00:00"},{"$f":"Legal!B73","v":0},{"$f":"Legal!C73","v":0},{"$f":"Legal!D73","v":false},{"$f":"Legal!E73","v":0},{"$f":"Legal!F73","v":0},{"$f":"Legal!G73","v":0},{"$f":"Legal!H73","v":0},{"$f":"Legal!K73","v":0}]
[{"$f":"Legal!A74","v":"00:00:00"},{"$f":"Legal!B74","v":0},{"$f":"Legal!C74","v":0},{"$f":"Legal!D74","v":false},{"$f":"Legal!E74","v":0},{"$f":"Legal!F74","v":0},{"$f":"Legal!G74","v":0},{"$f":"Legal!H74","v":0},{"$f":"Legal!K74","v":0}]
[{"$f":"Legal!A75","v":"00:00:00"},{"$f":"Legal!B75","v":0},{"$f":"Legal!C75","v":0},{"$f":"Legal!D75","v":false},{"$f":"Legal!E75","v":0},{"$f":"Legal!F75","v":0},{"$f":"Legal!G75","v":0},{"$f":"Legal!H75","v":0},{"$f":"Legal!K75","v":0}]
[{"$f":"Legal!A76","v":"00:00:00"},{"$f":"Legal!B76","v":0},{"$f":"Legal!C76","v":0},{"$f":"Legal!D76","v":false},{"$f":"Legal!E76","v":0},{"$f":"Legal!F76","v":0},{"$f":"Legal!G76","v":0},{"$f":"Legal!H76","v":0},{"$f":"Legal!K76","v":0}]
[{"$f":"Legal!A77","v":"00:00:00"},{"$f":"Legal!B77","v":0},{"$f":"Legal!C77","v":0},{"$f":"Legal!D77","v":false},{"$f":"Legal!E77","v":0},{"$f":"Legal!F77","v":0},{"$f":"Legal!G77","v":0},{"$f":"Legal!H77","v":0},{"$f":"Legal!K77","v":0}]
[{"$f":"Legal!A78","v":"00:00:00"},{"$f":"Legal!B78","v":0},{"$f":"Legal!C78","v":0},{"$f":"Legal!D78","v":false},{"$f":"Legal!E78","v":0},{"$f":"Legal!F78","v":0},{"$f":"Legal!G78","v":0},{"$f":"Legal!H78","v":0},{"$f":"Legal!K78","v":0}]
[{"$f":"Legal!A79","v":"00:00:00"},{"$f":"Legal!B79","v":0},{"$f":"Legal!C79","v":0},{"$f":"Legal!D79","v":false},{"$f":"Legal!E79","v":0},{"$f":"Legal!F79","v":0},{"$f":"Legal!G79","v":0},{"$f":"Legal!H79","v":0},{"$f":"Legal!K79","v":0}]
[{"$f":"Legal!A80","v":"00:00:00"},{"$f":"Legal!B80","v":0},{"$f":"Legal!C80","v":0},{"$f":"Legal!D80","v":false},{"$f":"Legal!E80","v":0},{"$f":"Legal!F80","v":0},{"$f":"Legal!G80","v":0},{"$f":"Legal!H80","v":0},{"$f":"Legal!K80","v":0}]
[{"$f":"Legal!A81","v":"00:00:00"},{"$f":"Legal!B81","v":0},{"$f":"Legal!C81","v":0},{"$f":"Legal!D81","v":false},{"$f":"Legal!E81","v":0},{"$f":"Legal!F81","v":0},{"$f":"Legal!G81","v":0},{"$f":"Legal!H81","v":0},{"$f":"Legal!K81","v":0}]
[{"$f":"Legal!A82","v":"00:00:00"},{"$f":"Legal!B82","v":0},{"$f":"Legal!C82","v":0},{"$f":"Legal!D82","v":false},{"$f":"Legal!E82","v":0},{"$f":"Legal!F82","v":0},{"$f":"Legal!G82","v":0},{"$f":"Legal!H82","v":0},{"$f":"Legal!K82","v":0}]
[{"$f":"Legal!A83","v":"00:00:00"},{"$f":"Legal!B83","v":0},{"$f":"Legal!C83","v":0},{"$f":"Legal!D83","v":false},{"$f":"Legal!E83","v":0},{"$f":"Legal!F83","v":0},{"$f":"Legal!G83","v":0},{"$f":"Legal!H83","v":0},{"$f":"Legal!K83","v":0}]
[{"$f":"Legal!A84","v":"00:00:00"},{"$f":"Legal!B84","v":0},{"$f":"Legal!C84","v":0},{"$f":"Legal!D84","v":false},{"$f":"Legal!E84","v":0},{"$f":"Legal!F84","v":0},{"$f":"Legal!G84","v":0},{"$f":"Legal!H84","v":0},{"$f":"Legal!K84","v":0}]
[{"$f":"Legal!A85","v":"00:00:00"},{"$f":"Legal!B85","v":0},{"$f":"Legal!C85","v":0},{"$f":"Legal!D85","v":false},{"$f":"Legal!E85","v":0},{"$f":"Legal!F85","v":0},{"$f":"Legal!G85","v":0},{"$f":"Legal!H85","v":0},{"$f":"Legal!K85","v":0}]
[{"$f":"Legal!A86","v":"00:00:00"},{"$f":"Legal!B86","v":0},{"$f":"Legal!C86","v":0},{"$f":"Legal!D86","v":false},{"$f":"Legal!E86","v":0},{"$f":"Legal!F86","v":0},{"$f":"Legal!G86","v":0},{"$f":"Legal!H86","v":0},{"$f":"Legal!K86","v":0}]
[{"$f":"Legal!A87","v":"00:00:00"},{"$f":"Legal!B87","v":0},{"$f":"Legal!C87","v":0},{"$f":"Legal!D87","v":false},{"$f":"Legal!E87","v":0},{"$f":"Legal!F87","v":0},{"$f":"Legal!G87","v":0},{"$f":"Legal!H87","v":0},{"$f":"Legal!K87","v":0}]
[{"$f":"Legal!A88","v":"00:00:00"},{"$f":"Legal!B88","v":0},{"$f":"Legal!C88","v":0},{"$f":"Legal!D88","v":false},{"$f":"Legal!E88","v":0},{"$f":"Legal!F88","v":0},{"$f":"Legal!G88","v":0},{"$f":"Legal!H88","v":0},{"$f":"Legal!K88","v":0}]
[{"$f":"Legal!A89","v":"00:00:00"},{"$f":"Legal!B89","v":0},{"$f":"Legal!C89","v":0},{"$f":"Legal!D89","v":false},{"$f":"Legal!E89","v":0},{"$f":"Legal!F89","v":0},{"$f":"Legal!G89","v":0},{"$f":"Legal!H89","v":0},{"$f":"Legal!K89","v":0}]
[{"$f":"Legal!A90","v":"00:00:00"},{"$f":"Legal!B90","v":0},{"$f":"Legal!C90","v":0},{"$f":"Legal!D90","v":false},{"$f":"Legal!E90","v":0},{"$f":"Legal!F90","v":0},{"$f":"Legal!G90","v":0},{"$f":"Legal!H90","v":0},{"$f":"Legal!K90","v":0}]
[{"$f":"Legal!A91","v":"00:00:00"},{"$f":"Legal!B91","v":0},{"$f":"Legal!C91","v":0},{"$f":"Legal!D91","v":false},{"$f":"Legal!E91","v":0},{"$f":"Legal!F91","v":0},{"$f":"Legal!G91","v":0},{"$f":"Legal!H91","v":0},{"$f":"Legal!K91","v":0}]
[{"$f":"Legal!A92","v":"00:00:00"},{"$f":"Legal!B92","v":0},{"$f":"Legal!C92","v":0},{"$f":"Legal!D92","v":false},{"$f":"Legal!E92","v":0},{"$f":"Legal!F92","v":0},{"$f":"Legal!G92","v":0},{"$f":"Legal!H92","v":0},{"$f":"Legal!K92","v":0}]
[{"$f":"Legal!A93","v":"00:00:00"},{"$f":"Legal!B93","v":0},{"$f":"Legal!C93","v":0},{"$f":"Legal!D93","v":false},{"$f":"Legal!E93","v":0},{"$f":"Legal!F93","v":0},{"$f":"Legal!G93","v":0},{"$f":"Legal!H93","v":0},{"$f":"Legal!K93","v":0}]
[{"$f":"Legal!A94","v":"00:00:00"},{"$f":"Legal!B94","v":0},{"$f":"Legal!C94","v":0},{"$f":"Legal!D94","v":false},{"$f":"Legal!E94","v":0},{"$f":"Legal!F94","v":0},{"$f":"Legal!G94","v":0},{"$f":"Legal!H94","v":0},{"$f":"Legal!K94","v":0}]
[{"$f":"Legal!A95","v":"00:00:00"},{"$f":"Legal!B95","v":0},{"$f":"Legal!C95","v":0},{"$f":"Legal!D95","v":false},{"$f":"Legal!E95","v":0},{"$f":"Legal!F95","v":0},{"$f":"Legal!G95","v":0},{"$f":"Legal!H95","v":0},{"$f":"Legal!K95","v":0}]
[{"$f":"Legal!A96","v":"00:00:00"},{"$f":"Legal!B96","v":0},{"$f":"Legal!C96","v":0},{"$f":"Legal!D96","v":false},{"$f":"Legal!E96","v":0},{"$f":"Legal!F96","v":0},{"$f":"Legal!G96","v":0},{"$f":"Legal!H96","v":0},{"$f":"Legal!K96","v":0}]
[{"$f":"Legal!A97","v":"00:00:00"},{"$f":"Legal!B97","v":0},{"$f":"Legal!C97","v":0},{"$f":"Legal!D97","v":false},{"$f":"Legal!E97","v":0},{"$f":"Legal!F97","v":0},{"$f":"Legal!G97","v":0},{"$f":"Legal!H97","v":0},{"$f":"Legal!K97","v":0}]
[{"$f":"Legal!A98","v":"00:00:00"},{"$f":"Legal!B98","v":0},{"$f":"Legal!C98","v":0},{"$f":"Legal!D98","v":false},{"$f":"Legal!E98","v":0},{"$f":"Legal!F98","v":0},{"$f":"Legal!G98","v":0},{"$f":"Legal!H98","v":0},{"$f":"Legal!K98","v":0}]
[{"$f":"Legal!A99","v":"00:00:00"},{"$f":"Legal!B99","v":0},{"$f":"Legal!C99","v":0},{"$f":"Legal!D99","v":false},{"$f":"Legal!E99","v":0},{"$f":"Legal!F99","v":0},{"$f":"Legal!G99","v":0},{"$f":"Legal!H99","v":0},{"$f":"Legal!K99","v":0}]
[{"$f":"Legal!A100","v":"00:00:00"},{"$f":"Legal!B100","v":0},{"$f":"Legal!C100","v":0},{"$f":"Legal!D100","v":false},{"$f":"Legal!E100","v":0},{"$f":"Legal!F100","v":0},{"$f":"Legal!G100","v":0},{"$f":"Legal!H100","v":0},{"$f":"Legal!K100","v":0}]
[{"$f":"Legal!A101","v":"00:00:00"},{"$f":"Legal!B101","v":0},{"$f":"Legal!C101","v":0},{"$f":"Legal!D101","v":false},{"$f":"Legal!E101","v":0},{"$f":"Legal!F101","v":0},{"$f":"Legal!G101","v":0},{"$f":"Legal!H101","v":0},{"$f":"Legal!K101","v":0}]
[{"$f":"Legal!A102","v":"00:00:00"},{"$f":"Legal!B102","v":0},{"$f":"Legal!C102","v":0},{"$f":"Legal!D102","v":false},{"$f":"Legal!E102","v":0},{"$f":"Legal!F102","v":0},{"$f":"Legal!G102","v":0},{"$f":"Legal!H102","v":0},{"$f":"Legal!K102","v":0}]
[{"$f":"Legal!A103","v":"00:00:00"},{"$f":"Legal!B103","v":0},{"$f":"Legal!C103","v":0},{"$f":"Legal!D103","v":false},{"$f":"Legal!E103","v":0},{"$f":"Legal!F103","v":0},{"$f":"Legal!G103","v":0},{"$f":"Legal!H103","v":0},{"$f":"Legal!K103","v":0}]
[{"$f":"Legal!A104","v":"00:00:00"},{"$f":"Legal!B104","v":0},{"$f":"Legal!C104","v":0},{"$f":"Legal!D104","v":false},{"$f":"Legal!E104","v":0},{"$f":"Legal!F104","v":0},{"$f":"Legal!G104","v":0},{"$f":"Legal!H104","v":0},{"$f":"Legal!K104","v":0}]
[{"$f":"'Client A'!A5","v":"00:00:00"},{"$f":"'Client A'!B5","v":0},{"$f":"'Client A'!C5","v":0},{"$f":"'Client A'!D5","v":false},{"$f":"'Client A'!E5","v":0},{"$f":"'Client A'!F5","v":0},{"$f":"'Client A'!G5","v":0},{"$f":"'Client A'!H5","v":0},{"$f":"'Client A'!K5","v":0}]
[{"$f":"'Client A'!A6","v":"00:00:00"},{"$f":"'Client A'!B6","v":0},{"$f":"'Client A'!C6","v":0},{"$f":"'Client A'!D6","v":false},{"$f":"'Client A'!E6","v":0},{"$f":"'Client A'!F6","v":0},{"$f":"'Client A'!G6","v":0},{"$f":"'Client A'!H6","v":0},{"$f":"'Client A'!K6","v":0}]
[{"$f":"'Client A'!A7","v":"00:00:00"},{"$f":"'Client A'!B7","v":0},{"$f":"'Client A'!C7","v":0},{"$f":"'Client A'!D7","v":false},{"$f":"'Client A'!E7","v":0},{"$f":"'Client A'!F7","v":0},{"$f":"'Client A'!G7","v":0},{"$f":"'Client A'!H7","v":0},{"$f":"'Client A'!K7","v":0}]
[{"$f":"'Client A'!A8","v":"00:00:00"},{"$f":"'Client A'!B8","v":0},{"$f":"'Client A'!C8","v":0},{"$f":"'Client A'!D8","v":false},{"$f":"'Client A'!E8","v":0},{"$f":"'Client A'!F8","v":0},{"$f":"'Client A'!G8","v":0},{"$f":"'Client A'!H8","v":0},{"$f":"'Client A'!K8","v":0}]
[{"$f":"'Client A'!A9","v":"00:00:00"},{"$f":"'Client A'!B9","v":0},{"$f":"'Client A'!C9","v":0},{"$f":"'Client A'!D9","v":false},{"$f":"'Client A'!E9","v":0},{"$f":"'Client A'!F9","v":0},{"$f":"'Client A'!G9","v":0},{"$f":"'Client A'!H9","v":0},{"$f":"'Client A'!K9","v":0}]
[{"$f":"'Client A'!A10","v":"00:00:00"},{"$f":"'Client A'!B10","v":0},{"$f":"'Client A'!C10","v":0},{"$f":"'Client A'!D10","v":false},{"$f":"'Client A'!E10","v":0},{"$f":"'Client A'!F10","v":0},{"$f":"'Client A'!G10","v":0},{"$f":"'Client A'!H10","v":0},{"$f":"'Client A'!K10","v":0}]
[{"$f":"'Client A'!A11","v":"00:00:00"},{"$f":"'Client A'!B11","v":0},{"$f":"'Client A'!C11","v":0},{"$f":"'Client A'!D11","v":false},{"$f":"'Client A'!E11","v":0},{"$f":"'Client A'!F11","v":0},{"$f":"'Client A'!G11","v":0},{"$f":"'Client A'!H11","v":0},{"$f":"'Client A'!K11","v":0}]
[{"$f":"'Client A'!A12","v":"00:00:00"},{"$f":"'Client A'!B12","v":0},{"$f":"'Client A'!C12","v":0},{"$f":"'Client A'!D12","v":false},{"$f":"'Client A'!E12","v":0},{"$f":"'Client A'!F12","v":0},{"$f":"'Client A'!G12","v":0},{"$f":"'Client A'!H12","v":0},{"$f":"'Client A'!K12","v":0}]
[{"$f":"'Client A'!A13","v":"00:00:00"},{"$f":"'Client A'!B13","v":0},{"$f":"'Client A'!C13","v":0},{"$f":"'Client A'!D13","v":false},{"$f":"'Client A'!E13","v":0},{"$f":"'Client A'!F13","v":0},{"$f":"'Client A'!G13","v":0},{"$f":"'Client A'!H13","v":0},{"$f":"'Client A'!K13","v":0}]
[{"$f":"'Client A'!A14","v":"00:00:00"},{"$f":"'Client A'!B14","v":0},{"$f":"'Client A'!C14","v":0},{"$f":"'Client A'!D14","v":false},{"$f":"'Client A'!E14","v":0},{"$f":"'Client A'!F14","v":0},{"$f":"'Client A'!G14","v":0},{"$f":"'Client A'!H14","v":0},{"$f":"'Client A'!K14","v":0}]
[{"$f":"'Client A'!A15","v":"00:00:00"},{"$f":"'Client A'!B15","v":0},{"$f":"'Client A'!C15","v":0},{"$f":"'Client A'!D15","v":false},{"$f":"'Client A'!E15","v":0},{"$f":"'Client A'!F15","v":0},{"$f":"'Client A'!G15","v":0},{"$f":"'Client A'!H15","v":0},{"$f":"'Client A'!K15","v":0}]
[{"$f":"'Client A'!A16","v":"00:00:00"},{"$f":"'Client A'!B16","v":0},{"$f":"'Client A'!C16","v":0},{"$f":"'Client A'!D16","v":false},{"$f":"'Client A'!E16","v":0},{"$f":"'Client A'!F16","v":0},{"$f":"'Client A'!G16","v":0},{"$f":"'Client A'!H16","v":0},{"$f":"'Client A'!K16","v":0}]
[{"$f":"'Client A'!A17","v":"00:00:00"},{"$f":"'Client A'!B17","v":0},{"$f":"'Client A'!C17","v":0},{"$f":"'Client A'!D17","v":false},{"$f":"'Client A'!E17","v":0},{"$f":"'Client A'!F17","v":0},{"$f":"'Client A'!G17","v":0},{"$f":"'Client A'!H17","v":0},{"$f":"'Client A'!K17","v":0}]
[{"$f":"'Client A'!A18","v":"00:00:00"},{"$f":"'Client A'!B18","v":0},{"$f":"'Client A'!C18","v":0},{"$f":"'Client A'!D18","v":false},{"$f":"'Client A'!E18","v":0},{"$f":"'Client A'!F18","v":0},{"$f":"'Client A'!G18","v":0},{"$f":"'Client A'!H18","v":0},{"$f":"'Client A'!K18","v":0}]
[{"$f":"'Client A'!A19","v":"00:00:00"},{"$f":"'Client A'!B19","v":0},{"$f":"'Client A'!C19","v":0},{"$f":"'Client A'!D19","v":false},{"$f":"'Client A'!E19","v":0},{"$f":"'Client A'!F19","v":0},{"$f":"'Client A'!G19","v":0},{"$f":"'Client A'!H19","v":0},{"$f":"'Client A'!K19","v":0}]
[{"$f":"'Client A'!A20","v":"00:00:00"},{"$f":"'Client A'!B20","v":0},{"$f":"'Client A'!C20","v":0},{"$f":"'Client A'!D20","v":false},{"$f":"'Client A'!E20","v":0},{"$f":"'Client A'!F20","v":0},{"$f":"'Client A'!G20","v":0},{"$f":"'Client A'!H20","v":0},{"$f":"'Client A'!K20","v":0}]
[{"$f":"'Client A'!A21","v":"00:00:00"},{"$f":"'Client A'!B21","v":0},{"$f":"'Client A'!C21","v":0},{"$f":"'Client A'!D21","v":false},{"$f":"'Client A'!E21","v":0},{"$f":"'Client A'!F21","v":0},{"$f":"'Client A'!G21","v":0},{"$f":"'Client A'!H21","v":0},{"$f":"'Client A'!K21","v":0}]
[{"$f":"'Client A'!A22","v":"00:00:00"},{"$f":"'Client A'!B22","v":0},{"$f":"'Client A'!C22","v":0},{"$f":"'Client A'!D22","v":false},{"$f":"'Client A'!E22","v":0},{"$f":"'Client A'!F22","v":0},{"$f":"'Client A'!G22","v":0},{"$f":"'Client A'!H22","v":0},{"$f":"'Client A'!K22","v":0}]
[{"$f":"'Client A'!A23","v":"00:00:00"},{"$f":"'Client A'!B23","v":0},{"$f":"'Client A'!C23","v":0},{"$f":"'Client A'!D23","v":false},{"$f":"'Client A'!E23","v":0},{"$f":"'Client A'!F23","v":0},{"$f":"'Client A'!G23","v":0},{"$f":"'Client A'!H23","v":0},{"$f":"'Client A'!K23","v":0}]
[{"$f":"'Client A'!A24","v":"00:00:00"},{"$f":"'Client A'!B24","v":0},{"$f":"'Client A'!C24","v":0},{"$f":"'Client A'!D24","v":false},{"$f":"'Client A'!E24","v":0},{"$f":"'Client A'!F24","v":0},{"$f":"'Client A'!G24","v":0},{"$f":"'Client A'!H24","v":0},{"$f":"'Client A'!K24","v":0}]
[{"$f":"'Client A'!A25","v":"00:00:00"},{"$f":"'Client A'!B25","v":0},{"$f":"'Client A'!C25","v":0},{"$f":"'Client A'!D25","v":false},{"$f":"'Client A'!E25","v":0},{"$f":"'Client A'!F25","v":0},{"$f":"'Client A'!G25","v":0},{"$f":"'Client A'!H25","v":0},{"$f":"'Client A'!K25","v":0}]
[{"$f":"'Client A'!A26","v":"00:00:00"},{"$f":"'Client A'!B26","v":0},{"$f":"'Client A'!C26","v":0},{"$f":"'Client A'!D26","v":false},{"$f":"'Client A'!E26","v":0},{"$f":"'Client A'!F26","v":0},{"$f":"'Client A'!G26","v":0},{"$f":"'Client A'!H26","v":0},{"$f":"'Client A'!K26","v":0}]
[{"$f":"'Client A'!A27","v":"00:00:00"},{"$f":"'Client A'!B27","v":0},{"$f":"'Client A'!C27","v":0},{"$f":"'Client A'!D27","v":false},{"$f":"'Client A'!E27","v":0},{"$f":"'Client A'!F27","v":0},{"$f":"'Client A'!G27","v":0},{"$f":"'Client A'!H27","v":0},{"$f":"'Client A'!K27","v":0}]
[{"$f":"'Client A'!A28","v":"00:00:00"},{"$f":"'Client A'!B28","v":0},{"$f":"'Client A'!C28","v":0},{"$f":"'Client A'!D28","v":false},{"$f":"'Client A'!E28","v":0},{"$f":"'Client A'!F28","v":0},{"$f":"'Client A'!G28","v":0},{"$f":"'Client A'!H28","v":0},{"$f":"'Client A'!K28","v":0}]
[{"$f":"'Client A'!A29","v":"00:00:00"},{"$f":"'Client A'!B29","v":0},{"$f":"'Client A'!C29","v":0},{"$f":"'Client A'!D29","v":false},{"$f":"'Client A'!E29","v":0},{"$f":"'Client A'!F29","v":0},{"$f":"'Client A'!G29","v":0},{"$f":"'Client A'!H29","v":0},{"$f":"'Client A'!K29","v":0}]
[{"$f":"'Client A'!A30","v":"00:00:00"},{"$f":"'Client A'!B30","v":0},{"$f":"'Client A'!C30","v":0},{"$f":"'Client A'!D30","v":false},{"$f":"'Client A'!E30","v":0},{"$f":"'Client A'!F30","v":0},{"$f":"'Client A'!G30","v":0},{"$f":"'Client A'!H30","v":0},{"$f":"'Client A'!K30","v":0}]
[{"$f":"'Client A'!A31","v":"00:00:00"},{"$f":"'Client A'!B31","v":0},{"$f":"'Client A'!C31","v":0},{"$f":"'Client A'!D31","v":false},{"$f":"'Client A'!E31","v":0},{"$f":"'Client A'!F31","v":0},{"$f":"'Client A'!G31","v":0},{"$f":"'Client A'!H31","v":0},{"$f":"'Client A'!K31","v":0}]
[{"$f":"'Client A'!A32","v":"00:00:00"},{"$f":"'Client A'!B32","v":0},{"$f":"'Client A'!C32","v":0},{"$f":"'Client A'!D32","v":false},{"$f":"'Client A'!E32","v":0},{"$f":"'Client A'!F32","v":0},{"$f":"'Client A'!G32","v":0},{"$f":"'Client A'!H32","v":0},{"$f":"'Client A'!K32","v":0}]
[{"$f":"'Client A'!A33","v":"00:00:00"},{"$f":"'Client A'!B33","v":0},{"$f":"'Client A'!C33","v":0},{"$f":"'Client A'!D33","v":false},{"$f":"'Client A'!E33","v":0},{"$f":"'Client A'!F33","v":0},{"$f":"'Client A'!G33","v":0},{"$f":"'Client A'!H33","v":0},{"$f":"'Client A'!K33","v":0}]
[{"$f":"'Client A'!A34","v":"00:00:00"},{"$f":"'Client A'!B34","v":0},{"$f":"'Client A'!C34","v":0},{"$f":"'Client A'!D34","v":false},{"$f":"'Client A'!E34","v":0},{"$f":"'Client A'!F34","v":0},{"$f":"'Client A'!G34","v":0},{"$f":"'Client A'!H34","v":0},{"$f":"'Client A'!K34","v":0}]
[{"$f":"'Client A'!A35","v":"00:00:00"},{"$f":"'Client A'!B35","v":0},{"$f":"'Client A'!C35","v":0},{"$f":"'Client A'!D35","v":false},{"$f":"'Client A'!E35","v":0},{"$f":"'Client A'!F35","v":0},{"$f":"'Client A'!G35","v":0},{"$f":"'Client A'!H35","v":0},{"$f":"'Client A'!K35","v":0}]
[{"$f":"'Client A'!A36","v":"00:00:00"},{"$f":"'Client A'!B36","v":0},{"$f":"'Client A'!C36","v":0},{"$f":"'Client A'!D36","v":false},{"$f":"'Client A'!E36","v":0},{"$f":"'Client A'!F36","v":0},{"$f":"'Client A'!G36","v":0},{"$f":"'Client A'!H36","v":0},{"$f":"'Client A'!K36","v":0}]
[{"$f":"'Client A'!A37","v":"00:00:00"},{"$f":"'Client A'!B37","v":0},{"$f":"'Client A'!C37","v":0},{"$f":"'Client A'!D37","v":false},{"$f":"'Client A'!E37","v":0},{"$f":"'Client A'!F37","v":0},{"$f":"'Client A'!G37","v":0},{"$f":"'Client A'!H37","v":0},{"$f":"'Client A'!K37","v":0}]
[{"$f":"'Client A'!A38","v":"00:00:00"},{"$f":"'Client A'!B38","v":0},{"$f":"'Client A'!C38","v":0},{"$f":"'Client A'!D38","v":false},{"$f":"'Client A'!E38","v":0},{"$f":"'Client A'!F38","v":0},{"$f":"'Client A'!G38","v":0},{"$f":"'Client A'!H38","v":0},{"$f":"'Client A'!K38","v":0}]
[{"$f":"'Client A'!A39","v":"00:00:00"},{"$f":"'Client A'!B39","v":0},{"$f":"'Client A'!C39","v":0},{"$f":"'Client A'!D39","v":false},{"$f":"'Client A'!E39","v":0},{"$f":"'Client A'!F39","v":0},{"$f":"'Client A'!G39","v":0},{"$f":"'Client A'!H39","v":0},{"$f":"'Client A'!K39","v":0}]
[{"$f":"'Client A'!A40","v":"00:00:00"},{"$f":"'Client A'!B40","v":0},{"$f":"'Client A'!C40","v":0},{"$f":"'Client A'!D40","v":false},{"$f":"'Client A'!E40","v":0},{"$f":"'Client A'!F40","v":0},{"$f":"'Client A'!G40","v":0},{"$f":"'Client A'!H40","v":0},{"$f":"'Client A'!K40","v":0}]
[{"$f":"'Client A'!A41","v":"00:00:00"},{"$f":"'Client A'!B41","v":0},{"$f":"'Client A'!C41","v":0},{"$f":"'Client A'!D41","v":false},{"$f":"'Client A'!E41","v":0},{"$f":"'Client A'!F41","v":0},{"$f":"'Client A'!G41","v":0},{"$f":"'Client A'!H41","v":0},{"$f":"'Client A'!K41","v":0}]
[{"$f":"'Client A'!A42","v":"00:00:00"},{"$f":"'Client A'!B42","v":0},{"$f":"'Client A'!C42","v":0},{"$f":"'Client A'!D42","v":false},{"$f":"'Client A'!E42","v":0},{"$f":"'Client A'!F42","v":0},{"$f":"'Client A'!G42","v":0},{"$f":"'Client A'!H42","v":0},{"$f":"'Client A'!K42","v":0}]
[{"$f":"'Client A'!A43","v":"00:00:00"},{"$f":"'Client A'!B43","v":0},{"$f":"'Client A'!C43","v":0},{"$f":"'Client A'!D43","v":false},{"$f":"'Client A'!E43","v":0},{"$f":"'Client A'!F43","v":0},{"$f":"'Client A'!G43","v":0},{"$f":"'Client A'!H43","v":0},{"$f":"'Client A'!K43","v":0}]
[{"$f":"'Client A'!A44","v":"00:00:00"},{"$f":"'Client A'!B44","v":0},{"$f":"'Client A'!C44","v":0},{"$f":"'Client A'!D44","v":false},{"$f":"'Client A'!E44","v":0},{"$f":"'Client A'!F44","v":0},{"$f":"'Client A'!G44","v":0},{"$f":"'Client A'!H44","v":0},{"$f":"'Client A'!K44","v":0}]
[{"$f":"'Client A'!A45","v":"00:00:00"},{"$f":"'Client A'!B45","v":0},{"$f":"'Client A'!C45","v":0},{"$f":"'Client A'!D45","v":false},{"$f":"'Client A'!E45","v":0},{"$f":"'Client A'!F45","v":0},{"$f":"'Client A'!G45","v":0},{"$f":"'Client A'!H45","v":0},{"$f":"'Client A'!K45","v":0}]
[{"$f":"'Client A'!A46","v":"00:00:00"},{"$f":"'Client A'!B46","v":0},{"$f":"'Client A'!C46","v":0},{"$f":"'Client A'!D46","v":false},{"$f":"'Client A'!E46","v":0},{"$f":"'Client A'!F46","v":0},{"$f":"'Client A'!G46","v":0},{"$f":"'Client A'!H46","v":0},{"$f":"'Client A'!K46","v":0}]
[{"$f":"'Client A'!A47","v":"00:00:00"},{"$f":"'Client A'!B47","v":0},{"$f":"'Client A'!C47","v":0},{"$f":"'Client A'!D47","v":false},{"$f":"'Client A'!E47","v":0},{"$f":"'Client A'!F47","v":0},{"$f":"'Client A'!G47","v":0},{"$f":"'Client A'!H47","v":0},{"$f":"'Client A'!K47","v":0}]
[{"$f":"'Client A'!A48","v":"00:00:00"},{"$f":"'Client A'!B48","v":0},{"$f":"'Client A'!C48","v":0},{"$f":"'Client A'!D48","v":false},{"$f":"'Client A'!E48","v":0},{"$f":"'Client A'!F48","v":0},{"$f":"'Client A'!G48","v":0},{"$f":"'Client A'!H48","v":0},{"$f":"'Client A'!K48","v":0}]
[{"$f":"'Client A'!A49","v":"00:00:00"},{"$f":"'Client A'!B49","v":0},{"$f":"'Client A'!C49","v":0},{"$f":"'Client A'!D49","v":false},{"$f":"'Client A'!E49","v":0},{"$f":"'Client A'!F49","v":0},{"$f":"'Client A'!G49","v":0},{"$f":"'Client A'!H49","v":0},{"$f":"'Client A'!K49","v":0}]
[{"$f":"'Client A'!A50","v":"00:00:00"},{"$f":"'Client A'!B50","v":0},{"$f":"'Client A'!C50","v":0},{"$f":"'Client A'!D50","v":false},{"$f":"'Client A'!E50","v":0},{"$f":"'Client A'!F50","v":0},{"$f":"'Client A'!G50","v":0},{"$f":"'Client A'!H50","v":0},{"$f":"'Client A'!K50","v":0}]
[{"$f":"'Client A'!A51","v":"00:00:00"},{"$f":"'Client A'!B51","v":0},{"$f":"'Client A'!C51","v":0},{"$f":"'Client A'!D51","v":false},{"$f":"'Client A'!E51","v":0},{"$f":"'Client A'!F51","v":0},{"$f":"'Client A'!G51","v":0},{"$f":"'Client A'!H51","v":0},{"$f":"'Client A'!K51","v":0}]
[{"$f":"'Client A'!A52","v":"00:00:00"},{"$f":"'Client A'!B52","v":0},{"$f":"'Client A'!C52","v":0},{"$f":"'Client A'!D52","v":false},{"$f":"'Client A'!E52","v":0},{"$f":"'Client A'!F52","v":0},{"$f":"'Client A'!G52","v":0},{"$f":"'Client A'!H52","v":0},{"$f":"'Client A'!K52","v":0}]
[{"$f":"'Client A'!A53","v":"00:00:00"},{"$f":"'Client A'!B53","v":0},{"$f":"'Client A'!C53","v":0},{"$f":"'Client A'!D53","v":false},{"$f":"'Client A'!E53","v":0},{"$f":"'Client A'!F53","v":0},{"$f":"'Client A'!G53","v":0},{"$f":"'Client A'!H53","v":0},{"$f":"'Client A'!K53","v":0}]
[{"$f":"'Client A'!A54","v":"00:00:00"},{"$f":"'Client A'!B54","v":0},{"$f":"'Client A'!C54","v":0},{"$f":"'Client A'!D54","v":false},{"$f":"'Client A'!E54","v":0},{"$f":"'Client A'!F54","v":0},{"$f":"'Client A'!G54","v":0},{"$f":"'Client A'!H54","v":0},{"$f":"'Client A'!K54","v":0}]
[{"$f":"'Client A'!A55","v":"00:00:00"},{"$f":"'Client A'!B55","v":0},{"$f":"'Client A'!C55","v":0},{"$f":"'Client A'!D55","v":false},{"$f":"'Client A'!E55","v":0},{"$f":"'Client A'!F55","v":0},{"$f":"'Client A'!G55","v":0},{"$f":"'Client A'!H55","v":0},{"$f":"'Client A'!K55","v":0}]
[{"$f":"'Client A'!A56","v":"00:00:00"},{"$f":"'Client A'!B56","v":0},{"$f":"'Client A'!C56","v":0},{"$f":"'Client A'!D56","v":false},{"$f":"'Client A'!E56","v":0},{"$f":"'Client A'!F56","v":0},{"$f":"'Client A'!G56","v":0},{"$f":"'Client A'!H56","v":0},{"$f":"'Client A'!K56","v":0}]
[{"$f":"'Client A'!A57","v":"00:00:00"},{"$f":"'Client A'!B57","v":0},{"$f":"'Client A'!C57","v":0},{"$f":"'Client A'!D57","v":false},{"$f":"'Client A'!E57","v":0},{"$f":"'Client A'!F57","v":0},{"$f":"'Client A'!G57","v":0},{"$f":"'Client A'!H57","v":0},{"$f":"'Client A'!K57","v":0}]
[{"$f":"'Client A'!A58","v":"00:00:00"},{"$f":"'Client A'!B58","v":0},{"$f":"'Client A'!C58","v":0},{"$f":"'Client A'!D58","v":false},{"$f":"'Client A'!E58","v":0},{"$f":"'Client A'!F58","v":0},{"$f":"'Client A'!G58","v":0},{"$f":"'Client A'!H58","v":0},{"$f":"'Client A'!K58","v":0}]
[{"$f":"'Client A'!A59","v":"00:00:00"},{"$f":"'Client A'!B59","v":0},{"$f":"'Client A'!C59","v":0},{"$f":"'Client A'!D59","v":false},{"$f":"'Client A'!E59","v":0},{"$f":"'Client A'!F59","v":0},{"$f":"'Client A'!G59","v":0},{"$f":"'Client A'!H59","v":0},{"$f":"'Client A'!K59","v":0}]
[{"$f":"'Client A'!A60","v":"00:00:00"},{"$f":"'Client A'!B60","v":0},{"$f":"'Client A'!C60","v":0},{"$f":"'Client A'!D60","v":false},{"$f":"'Client A'!E60","v":0},{"$f":"'Client A'!F60","v":0},{"$f":"'Client A'!G60","v":0},{"$f":"'Client A'!H60","v":0},{"$f":"'Client A'!K60","v":0}]
[{"$f":"'Client A'!A61","v":"00:00:00"},{"$f":"'Client A'!B61","v":0},{"$f":"'Client A'!C61","v":0},{"$f":"'Client A'!D61","v":false},{"$f":"'Client A'!E61","v":0},{"$f":"'Client A'!F61","v":0},{"$f":"'Client A'!G61","v":0},{"$f":"'Client A'!H61","v":0},{"$f":"'Client A'!K61","v":0}]
[{"$f":"'Client A'!A62","v":"00:00:00"},{"$f":"'Client A'!B62","v":0},{"$f":"'Client A'!C62","v":0},{"$f":"'Client A'!D62","v":false},{"$f":"'Client A'!E62","v":0},{"$f":"'Client A'!F62","v":0},{"$f":"'Client A'!G62","v":0},{"$f":"'Client A'!H62","v":0},{"$f":"'Client A'!K62","v":0}]
[{"$f":"'Client A'!A63","v":"00:00:00"},{"$f":"'Client A'!B63","v":0},{"$f":"'Client A'!C63","v":0},{"$f":"'Client A'!D63","v":false},{"$f":"'Client A'!E63","v":0},{"$f":"'Client A'!F63","v":0},{"$f":"'Client A'!G63","v":0},{"$f":"'Client A'!H63","v":0},{"$f":"'Client A'!K63","v":0}]
[{"$f":"'Client A'!A64","v":"00:00:00"},{"$f":"'Client A'!B64","v":0},{"$f":"'Client A'!C64","v":0},{"$f":"'Client A'!D64","v":false},{"$f":"'Client A'!E64","v":0},{"$f":"'Client A'!F64","v":0},{"$f":"'Client A'!G64","v":0},{"$f":"'Client A'!H64","v":0},{"$f":"'Client A'!K64","v":0}]
[{"$f":"'Client A'!A65","v":"00:00:00"},{"$f":"'Client A'!B65","v":0},{"$f":"'Client A'!C65","v":0},{"$f":"'Client A'!D65","v":false},{"$f":"'Client A'!E65","v":0},{"$f":"'Client A'!F65","v":0},{"$f":"'Client A'!G65","v":0},{"$f":"'Client A'!H65","v":0},{"$f":"'Client A'!K65","v":0}]
[{"$f":"'Client A'!A66","v":"00:00:00"},{"$f":"'Client A'!B66","v":0},{"$f":"'Client A'!C66","v":0},{"$f":"'Client A'!D66","v":false},{"$f":"'Client A'!E66","v":0},{"$f":"'Client A'!F66","v":0},{"$f":"'Client A'!G66","v":0},{"$f":"'Client A'!H66","v":0},{"$f":"'Client A'!K66","v":0}]
[{"$f":"'Client A'!A67","v":"00:00:00"},{"$f":"'Client A'!B67","v":0},{"$f":"'Client A'!C67","v":0},{"$f":"'Client A'!D67","v":false},{"$f":"'Client A'!E67","v":0},{"$f":"'Client A'!F67","v":0},{"$f":"'Client A'!G67","v":0},{"$f":"'Client A'!H67","v":0},{"$f":"'Client A'!K67","v":0}]
[{"$f":"'Client A'!A68","v":"00:00:00"},{"$f":"'Client A'!B68","v":0},{"$f":"'Client A'!C68","v":0},{"$f":"'Client A'!D68","v":false},{"$f":"'Client A'!E68","v":0},{"$f":"'Client A'!F68","v":0},{"$f":"'Client A'!G68","v":0},{"$f":"'Client A'!H68","v":0},{"$f":"'Client A'!K68","v":0}]
[{"$f":"'Client A'!A69","v":"00:00:00"},{"$f":"'Client A'!B69","v":0},{"$f":"'Client A'!C69","v":0},{"$f":"'Client A'!D69","v":false},{"$f":"'Client A'!E69","v":0},{"$f":"'Client A'!F69","v":0},{"$f":"'Client A'!G69","v":0},{"$f":"'Client A'!H69","v":0},{"$f":"'Client A'!K69","v":0}]
[{"$f":"'Client A'!A70","v":"00:00:00"},{"$f":"'Client A'!B70","v":0},{"$f":"'Client A'!C70","v":0},{"$f":"'Client A'!D70","v":false},{"$f":"'Client A'!E70","v":0},{"$f":"'Client A'!F70","v":0},{"$f":"'Client A'!G70","v":0},{"$f":"'Client A'!H70","v":0},{"$f":"'Client A'!K70","v":0}]
[{"$f":"'Client A'!A71","v":"00:00:00"},{"$f":"'Client A'!B71","v":0},{"$f":"'Client A'!C71","v":0},{"$f":"'Client A'!D71","v":false},{"$f":"'Client A'!E71","v":0},{"$f":"'Client A'!F71","v":0},{"$f":"'Client A'!G71","v":0},{"$f":"'Client A'!H71","v":0},{"$f":"'Client A'!K71","v":0}]
[{"$f":"'Client A'!A72","v":"00:00:00"},{"$f":"'Client A'!B72","v":0},{"$f":"'Client A'!C72","v":0},{"$f":"'Client A'!D72","v":false},{"$f":"'Client A'!E72","v":0},{"$f":"'Client A'!F72","v":0},{"$f":"'Client A'!G72","v":0},{"$f":"'Client A'!H72","v":0},{"$f":"'Client A'!K72","v":0}]
[{"$f":"'Client A'!A73","v":"00:00:00"},{"$f":"'Client A'!B73","v":0},{"$f":"'Client A'!C73","v":0},{"$f":"'Client A'!D73","v":false},{"$f":"'Client A'!E73","v":0},{"$f":"'Client A'!F73","v":0},{"$f":"'Client A'!G73","v":0},{"$f":"'Client A'!H73","v":0},{"$f":"'Client A'!K73","v":0}]
[{"$f":"'Client A'!A74","v":"00:00:00"},{"$f":"'Client A'!B74","v":0},{"$f":"'Client A'!C74","v":0},{"$f":"'Client A'!D74","v":false},{"$f":"'Client A'!E74","v":0},{"$f":"'Client A'!F74","v":0},{"$f":"'Client A'!G74","v":0},{"$f":"'Client A'!H74","v":0},{"$f":"'Client A'!K74","v":0}]
[{"$f":"'Client A'!A75","v":"00:00:00"},{"$f":"'Client A'!B75","v":0},{"$f":"'Client A'!C75","v":0},{"$f":"'Client A'!D75","v":false},{"$f":"'Client A'!E75","v":0},{"$f":"'Client A'!F75","v":0},{"$f":"'Client A'!G75","v":0},{"$f":"'Client A'!H75","v":0},{"$f":"'Client A'!K75","v":0}]
[{"$f":"'Client A'!A76","v":"00:00:00"},{"$f":"'Client A'!B76","v":0},{"$f":"'Client A'!C76","v":0},{"$f":"'Client A'!D76","v":false},{"$f":"'Client A'!E76","v":0},{"$f":"'Client A'!F76","v":0},{"$f":"'Client A'!G76","v":0},{"$f":"'Client A'!H76","v":0},{"$f":"'Client A'!K76","v":0}]
[{"$f":"'Client A'!A77","v":"00:00:00"},{"$f":"'Client A'!B77","v":0},{"$f":"'Client A'!C77","v":0},{"$f":"'Client A'!D77","v":false},{"$f":"'Client A'!E77","v":0},{"$f":"'Client A'!F77","v":0},{"$f":"'Client A'!G77","v":0},{"$f":"'Client A'!H77","v":0},{"$f":"'Client A'!K77","v":0}]
[{"$f":"'Client A'!A78","v":"00:00:00"},{"$f":"'Client A'!B78","v":0},{"$f":"'Client A'!C78","v":0},{"$f":"'Client A'!D78","v":false},{"$f":"'Client A'!E78","v":0},{"$f":"'Client A'!F78","v":0},{"$f":"'Client A'!G78","v":0},{"$f":"'Client A'!H78","v":0},{"$f":"'Client A'!K78","v":0}]
[{"$f":"'Client A'!A79","v":"00:00:00"},{"$f":"'Client A'!B79","v":0},{"$f":"'Client A'!C79","v":0},{"$f":"'Client A'!D79","v":false},{"$f":"'Client A'!E79","v":0},{"$f":"'Client A'!F79","v":0},{"$f":"'Client A'!G79","v":0},{"$f":"'Client A'!H79","v":0},{"$f":"'Client A'!K79","v":0}]
[{"$f":"'Client A'!A80","v":"00:00:00"},{"$f":"'Client A'!B80","v":0},{"$f":"'Client A'!C80","v":0},{"$f":"'Client A'!D80","v":false},{"$f":"'Client A'!E80","v":0},{"$f":"'Client A'!F80","v":0},{"$f":"'Client A'!G80","v":0},{"$f":"'Client A'!H80","v":0},{"$f":"'Client A'!K80","v":0}]
[{"$f":"'Client A'!A81","v":"00:00:00"},{"$f":"'Client A'!B81","v":0},{"$f":"'Client A'!C81","v":0},{"$f":"'Client A'!D81","v":false},{"$f":"'Client A'!E81","v":0},{"$f":"'Client A'!F81","v":0},{"$f":"'Client A'!G81","v":0},{"$f":"'Client A'!H81","v":0},{"$f":"'Client A'!K81","v":0}]
[{"$f":"'Client A'!A82","v":"00:00:00"},{"$f":"'Client A'!B82","v":0},{"$f":"'Client A'!C82","v":0},{"$f":"'Client A'!D82","v":false},{"$f":"'Client A'!E82","v":0},{"$f":"'Client A'!F82","v":0},{"$f":"'Client A'!G82","v":0},{"$f":"'Client A'!H82","v":0},{"$f":"'Client A'!K82","v":0}]
[{"$f":"'Client A'!A83","v":"00:00:00"},{"$f":"'Client A'!B83","v":0},{"$f":"'Client A'!C83","v":0},{"$f":"'Client A'!D83","v":false},{"$f":"'Client A'!E83","v":0},{"$f":"'Client A'!F83","v":0},{"$f":"'Client A'!G83","v":0},{"$f":"'Client A'!H83","v":0},{"$f":"'Client A'!K83","v":0}]
[{"$f":"'Client A'!A84","v":"00:00:00"},{"$f":"'Client A'!B84","v":0},{"$f":"'Client A'!C84","v":0},{"$f":"'Client A'!D84","v":false},{"$f":"'Client A'!E84","v":0},{"$f":"'Client A'!F84","v":0},{"$f":"'Client A'!G84","v":0},{"$f":"'Client A'!H84","v":0},{"$f":"'Client A'!K84","v":0}]
[{"$f":"'Client A'!A85","v":"00:00:00"},{"$f":"'Client A'!B85","v":0},{"$f":"'Client A'!C85","v":0},{"$f":"'Client A'!D85","v":false},{"$f":"'Client A'!E85","v":0},{"$f":"'Client A'!F85","v":0},{"$f":"'Client A'!G85","v":0},{"$f":"'Client A'!H85","v":0},{"$f":"'Client A'!K85","v":0}]
[{"$f":"'Client A'!A86","v":"00:00:00"},{"$f":"'Client A'!B86","v":0},{"$f":"'Client A'!C86","v":0},{"$f":"'Client A'!D86","v":false},{"$f":"'Client A'!E86","v":0},{"$f":"'Client A'!F86","v":0},{"$f":"'Client A'!G86","v":0},{"$f":"'Client A'!H86","v":0},{"$f":"'Client A'!K86","v":0}]
[{"$f":"'Client A'!A87","v":"00:00:00"},{"$f":"'Client A'!B87","v":0},{"$f":"'Client A'!C87","v":0},{"$f":"'Client A'!D87","v":false},{"$f":"'Client A'!E87","v":0},{"$f":"'Client A'!F87","v":0},{"$f":"'Client A'!G87","v":0},{"$f":"'Client A'!H87","v":0},{"$f":"'Client A'!K87","v":0}]
[{"$f":"'Client A'!A88","v":"00:00:00"},{"$f":"'Client A'!B88","v":0},{"$f":"'Client A'!C88","v":0},{"$f":"'Client A'!D88","v":false},{"$f":"'Client A'!E88","v":0},{"$f":"'Client A'!F88","v":0},{"$f":"'Client A'!G88","v":0},{"$f":"'Client A'!H88","v":0},{"$f":"'Client A'!K88","v":0}]
[{"$f":"'Client A'!A89","v":"00:00:00"},{"$f":"'Client A'!B89","v":0},{"$f":"'Client A'!C89","v":0},{"$f":"'Client A'!D89","v":false},{"$f":"'Client A'!E89","v":0},{"$f":"'Client A'!F89","v":0},{"$f":"'Client A'!G89","v":0},{"$f":"'Client A'!H89","v":0},{"$f":"'Client A'!K89","v":0}]
[{"$f":"'Client A'!A90","v":"00:00:00"},{"$f":"'Client A'!B90","v":0},{"$f":"'Client A'!C90","v":0},{"$f":"'Client A'!D90","v":false},{"$f":"'Client A'!E90","v":0},{"$f":"'Client A'!F90","v":0},{"$f":"'Client A'!G90","v":0},{"$f":"'Client A'!H90","v":0},{"$f":"'Client A'!K90","v":0}]
[{"$f":"'Client A'!A91","v":"00:00:00"},{"$f":"'Client A'!B91","v":0},{"$f":"'Client A'!C91","v":0},{"$f":"'Client A'!D91","v":false},{"$f":"'Client A'!E91","v":0},{"$f":"'Client A'!F91","v":0},{"$f":"'Client A'!G91","v":0},{"$f":"'Client A'!H91","v":0},{"$f":"'Client A'!K91","v":0}]
[{"$f":"'Client A'!A92","v":"00:00:00"},{"$f":"'Client A'!B92","v":0},{"$f":"'Client A'!C92","v":0},{"$f":"'Client A'!D92","v":false},{"$f":"'Client A'!E92","v":0},{"$f":"'Client A'!F92","v":0},{"$f":"'Client A'!G92","v":0},{"$f":"'Client A'!H92","v":0},{"$f":"'Client A'!K92","v":0}]
[{"$f":"'Client A'!A93","v":"00:00:00"},{"$f":"'Client A'!B93","v":0},{"$f":"'Client A'!C93","v":0},{"$f":"'Client A'!D93","v":false},{"$f":"'Client A'!E93","v":0},{"$f":"'Client A'!F93","v":0},{"$f":"'Client A'!G93","v":0},{"$f":"'Client A'!H93","v":0},{"$f":"'Client A'!K93","v":0}]
[{"$f":"'Client A'!A94","v":"00:00:00"},{"$f":"'Client A'!B94","v":0},{"$f":"'Client A'!C94","v":0},{"$f":"'Client A'!D94","v":false},{"$f":"'Client A'!E94","v":0},{"$f":"'Client A'!F94","v":0},{"$f":"'Client A'!G94","v":0},{"$f":"'Client A'!H94","v":0},{"$f":"'Client A'!K94","v":0}]
[{"$f":"'Client A'!A95","v":"00:00:00"},{"$f":"'Client A'!B95","v":0},{"$f":"'Client A'!C95","v":0},{"$f":"'Client A'!D95","v":false},{"$f":"'Client A'!E95","v":0},{"$f":"'Client A'!F95","v":0},{"$f":"'Client A'!G95","v":0},{"$f":"'Client A'!H95","v":0},{"$f":"'Client A'!K95","v":0}]
[{"$f":"'Client A'!A96","v":"00:00:00"},{"$f":"'Client A'!B96","v":0},{"$f":"'Client A'!C96","v":0},{"$f":"'Client A'!D96","v":false},{"$f":"'Client A'!E96","v":0},{"$f":"'Client A'!F96","v":0},{"$f":"'Client A'!G96","v":0},{"$f":"'Client A'!H96","v":0},{"$f":"'Client A'!K96","v":0}]
[{"$f":"'Client A'!A97","v":"00:00:00"},{"$f":"'Client A'!B97","v":0},{"$f":"'Client A'!C97","v":0},{"$f":"'Client A'!D97","v":false},{"$f":"'Client A'!E97","v":0},{"$f":"'Client A'!F97","v":0},{"$f":"'Client A'!G97","v":0},{"$f":"'Client A'!H97","v":0},{"$f":"'Client A'!K97","v":0}]
[{"$f":"'Client A'!A98","v":"00:00:00"},{"$f":"'Client A'!B98","v":0},{"$f":"'Client A'!C98","v":0},{"$f":"'Client A'!D98","v":false},{"$f":"'Client A'!E98","v":0},{"$f":"'Client A'!F98","v":0},{"$f":"'Client A'!G98","v":0},{"$f":"'Client A'!H98","v":0},{"$f":"'Client A'!K98","v":0}]
[{"$f":"'Client A'!A99","v":"00:00:00"},{"$f":"'Client A'!B99","v":0},{"$f":"'Client A'!C99","v":0},{"$f":"'Client A'!D99","v":false},{"$f":"'Client A'!E99","v":0},{"$f":"'Client A'!F99","v":0},{"$f":"'Client A'!G99","v":0},{"$f":"'Client A'!H99","v":0},{"$f":"'Client A'!K99","v":0}]
[{"$f":"'Client A'!A100","v":"00:00:00"},{"$f":"'Client A'!B100","v":0},{"$f":"'Client A'!C100","v":0},{"$f":"'Client A'!D100","v":false},{"$f":"'Client A'!E100","v":0},{"$f":"'Client A'!F100","v":0},{"$f":"'Client A'!G100","v":0},{"$f":"'Client A'!H100","v":0},{"$f":"'Client A'!K100","v":0}]
[{"$f":"'Client A'!A101","v":"00:00:00"},{"$f":"'Client A'!B101","v":0},{"$f":"'Client A'!C101","v":0},{"$f":"'Client A'!D101","v":false},{"$f":"'Client A'!E101","v":0},{"$f":"'Client A'!F101","v":0},{"$f":"'Client A'!G101","v":0},{"$f":"'Client A'!H101","v":0},{"$f":"'Client A'!K101","v":0}]
[{"$f":"'Client A'!A102","v":"00:00:00"},{"$f":"'Client A'!B102","v":0},{"$f":"'Client A'!C102","v":0},{"$f":"'Client A'!D102","v":false},{"$f":"'Client A'!E102","v":0},{"$f":"'Client A'!F102","v":0},{"$f":"'Client A'!G102","v":0},{"$f":"'Client A'!H102","v":0},{"$f":"'Client A'!K102","v":0}]
[{"$f":"'Client A'!A103","v":"00:00:00"},{"$f":"'Client A'!B103","v":0},{"$f":"'Client A'!C103","v":0},{"$f":"'Client A'!D103","v":false},{"$f":"'Client A'!E103","v":0},{"$f":"'Client A'!F103","v":0},{"$f":"'Client A'!G103","v":0},{"$f":"'Client A'!H103","v":0},{"$f":"'Client A'!K103","v":0}]
[{"$f":"'Client A'!A104","v":"00:00:00"},{"$f":"'Client A'!B104","v":0},{"$f":"'Client A'!C104","v":0},{"$f":"'Client A'!D104","v":false},{"$f":"'Client A'!E104","v":0},{"$f":"'Client A'!F104","v":0},{"$f":"'Client A'!G104","v":0},{"$f":"'Client A'!H104","v":0},{"$f":"'Client A'!K104","v":0}]
[{"$f":"'Client A'!A105","v":"00:00:00"},{"$f":"'Client A'!B105","v":0},{"$f":"'Client A'!C105","v":0},{"$f":"'Client A'!D105","v":false},{"$f":"'Client A'!E105","v":0},{"$f":"'Client A'!F105","v":0},{"$f":"'Client A'!G105","v":0},{"$f":"'Client A'!H105","v":0},{"$f":"'Client A'!K105","v":0}]
[{"$f":"'Client A'!A106","v":"00:00:00"},{"$f":"'Client A'!B106","v":0},{"$f":"'Client A'!C106","v":0},{"$f":"'Client A'!D106","v":false},{"$f":"'Client A'!E106","v":0},{"$f":"'Client A'!F106","v":0},{"$f":"'Client A'!G106","v":0},{"$f":"'Client A'!H106","v":0},{"$f":"'Client A'!K106","v":0}]
[{"$f":"'Client A'!A107","v":"00:00:00"},{"$f":"'Client A'!B107","v":0},{"$f":"'Client A'!C107","v":0},{"$f":"'Client A'!D107","v":false},{"$f":"'Client A'!E107","v":0},{"$f":"'Client A'!F107","v":0},{"$f":"'Client A'!G107","v":0},{"$f":"'Client A'!H107","v":0},{"$f":"'Client A'!K107","v":0}]
[{"$f":"'Client A'!A108","v":"00:00:00"},{"$f":"'Client A'!B108","v":0},{"$f":"'Client A'!C108","v":0},{"$f":"'Client A'!D108","v":false},{"$f":"'Client A'!E108","v":0},{"$f":"'Client A'!F108","v":0},{"$f":"'Client A'!G108","v":0},{"$f":"'Client A'!H108","v":0},{"$f":"'Client A'!K108","v":0}]
[{"$f":"'Client A'!A109","v":"00:00:00"},{"$f":"'Client A'!B109","v":0},{"$f":"'Client A'!C109","v":0},{"$f":"'Client A'!D109","v":false},{"$f":"'Client A'!E109","v":0},{"$f":"'Client A'!F109","v":0},{"$f":"'Client A'!G109","v":0},{"$f":"'Client A'!H109","v":0},{"$f":"'Client A'!K109","v":0}]
[{"$f":"'Client A'!A110","v":"00:00:00"},{"$f":"'Client A'!B110","v":0},{"$f":"'Client A'!C110","v":0},{"$f":"'Client A'!D110","v":false},{"$f":"'Client A'!E110","v":0},{"$f":"'Client A'!F110","v":0},{"$f":"'Client A'!G110","v":0},{"$f":"'Client A'!H110","v":0},{"$f":"'Client A'!K110","v":0}]
[{"$f":"'Client A'!A111","v":"00:00:00"},{"$f":"'Client A'!B111","v":0},{"$f":"'Client A'!C111","v":0},{"$f":"'Client A'!D111","v":false},{"$f":"'Client A'!E111","v":0},{"$f":"'Client A'!F111","v":0},{"$f":"'Client A'!G111","v":0},{"$f":"'Client A'!H111","v":0},{"$f":"'Client A'!K111","v":0}]
[{"$f":"'Client A'!A112","v":"00:00:00"},{"$f":"'Client A'!B112","v":0},{"$f":"'Client A'!C112","v":0},{"$f":"'Client A'!D112","v":false},{"$f":"'Client A'!E112","v":0},{"$f":"'Client A'!F112","v":0},{"$f":"'Client A'!G112","v":0},{"$f":"'Client A'!H112","v":0},{"$f":"'Client A'!K112","v":0}]
[{"$f":"'Client A'!A113","v":"00:00:00"},{"$f":"'Client A'!B113","v":0},{"$f":"'Client A'!C113","v":0},{"$f":"'Client A'!D113","v":false},{"$f":"'Client A'!E113","v":0},{"$f":"'Client A'!F113","v":0},{"$f":"'Client A'!G113","v":0},{"$f":"'Client A'!H113","v":0},{"$f":"'Client A'!K113","v":0}]
[{"$f":"'Client A'!A114","v":"00:00:00"},{"$f":"'Client A'!B114","v":0},{"$f":"'Client A'!C114","v":0},{"$f":"'Client A'!D114","v":false},{"$f":"'Client A'!E114","v":0},{"$f":"'Client A'!F114","v":0},{"$f":"'Client A'!G114","v":0},{"$f":"'Client A'!H114","v":0},{"$f":"'Client A'!K114","v":0}]
[{"$f":"'Client A'!A115","v":"00:00:00"},{"$f":"'Client A'!B115","v":0},{"$f":"'Client A'!C115","v":0},{"$f":"'Client A'!D115","v":false},{"$f":"'Client A'!E115","v":0},{"$f":"'Client A'!F115","v":0},{"$f":"'Client A'!G115","v":0},{"$f":"'Client A'!H115","v":0},{"$f":"'Client A'!K115","v":0}]
[{"$f":"'Client A'!A116","v":"00:00:00"},{"$f":"'Client A'!B116","v":0},{"$f":"'Client A'!C116","v":0},{"$f":"'Client A'!D116","v":false},{"$f":"'Client A'!E116","v":0},{"$f":"'Client A'!F116","v":0},{"$f":"'Client A'!G116","v":0},{"$f":"'Client A'!H116","v":0},{"$f":"'Client A'!K116","v":0}]
[{"$f":"'Client A'!A117","v":"00:00:00"},{"$f":"'Client A'!B117","v":0},{"$f":"'Client A'!C117","v":0},{"$f":"'Client A'!D117","v":false},{"$f":"'Client A'!E117","v":0},{"$f":"'Client A'!F117","v":0},{"$f":"'Client A'!G117","v":0},{"$f":"'Client A'!H117","v":0},{"$f":"'Client A'!K117","v":0}]
[{"$f":"'Client A'!A118","v":"00:00:00"},{"$f":"'Client A'!B118","v":0},{"$f":"'Client A'!C118","v":0},{"$f":"'Client A'!D118","v":false},{"$f":"'Client A'!E118","v":0},{"$f":"'Client A'!F118","v":0},{"$f":"'Client A'!G118","v":0},{"$f":"'Client A'!H118","v":0},{"$f":"'Client A'!K118","v":0}]
[{"$f":"'Client A'!A119","v":"00:00:00"},{"$f":"'Client A'!B119","v":0},{"$f":"'Client A'!C119","v":0},{"$f":"'Client A'!D119","v":false},{"$f":"'Client A'!E119","v":0},{"$f":"'Client A'!F119","v":0},{"$f":"'Client A'!G119","v":0},{"$f":"'Client A'!H119","v":0},{"$f":"'Client A'!K119","v":0}]
[{"$f":"'Client A'!A120","v":"00:00:00"},{"$f":"'Client A'!B120","v":0},{"$f":"'Client A'!C120","v":0},{"$f":"'Client A'!D120","v":false},{"$f":"'Client A'!E120","v":0},{"$f":"'Client A'!F120","v":0},{"$f":"'Client A'!G120","v":0},{"$f":"'Client A'!H120","v":0},{"$f":"'Client A'!K120","v":0}]
[{"$f":"'Client A'!A121","v":"00:00:00"},{"$f":"'Client A'!B121","v":0},{"$f":"'Client A'!C121","v":0},{"$f":"'Client A'!D121","v":false},{"$f":"'Client A'!E121","v":0},{"$f":"'Client A'!F121","v":0},{"$f":"'Client A'!G121","v":0},{"$f":"'Client A'!H121","v":0},{"$f":"'Client A'!K121","v":0}]
[{"$f":"'Client A'!A122","v":"00:00:00"},{"$f":"'Client A'!B122","v":0},{"$f":"'Client A'!C122","v":0},{"$f":"'Client A'!D122","v":false},{"$f":"'Client A'!E122","v":0},{"$f":"'Client A'!F122","v":0},{"$f":"'Client A'!G122","v":0},{"$f":"'Client A'!H122","v":0},{"$f":"'Client A'!K122","v":0}]
[{"$f":"'Client A'!A123","v":"00:00:00"},{"$f":"'Client A'!B123","v":0},{"$f":"'Client A'!C123","v":0},{"$f":"'Client A'!D123","v":false},{"$f":"'Client A'!E123","v":0},{"$f":"'Client A'!F123","v":0},{"$f":"'Client A'!G123","v":0},{"$f":"'Client A'!H123","v":0},{"$f":"'Client A'!K123","v":0}]
[{"$f":"'Client A'!A124","v":"00:00:00"},{"$f":"'Client A'!B124","v":0},{"$f":"'Client A'!C124","v":0},{"$f":"'Client A'!D124","v":false},{"$f":"'Client A'!E124","v":0},{"$f":"'Client A'!F124","v":0},{"$f":"'Client A'!G124","v":0},{"$f":"'Client A'!H124","v":0},{"$f":"'Client A'!K124","v":0}]
[{"$f":"'Client A'!A125","v":"00:00:00"},{"$f":"'Client A'!B125","v":0},{"$f":"'Client A'!C125","v":0},{"$f":"'Client A'!D125","v":false},{"$f":"'Client A'!E125","v":0},{"$f":"'Client A'!F125","v":0},{"$f":"'Client A'!G125","v":0},{"$f":"'Client A'!H125","v":0},{"$f":"'Client A'!K125","v":0}]
[{"$f":"'Client A'!A126","v":"00:00:00"},{"$f":"'Client A'!B126","v":0},{"$f":"'Client A'!C126","v":0},{"$f":"'Client A'!D126","v":false},{"$f":"'Client A'!E126","v":0},{"$f":"'Client A'!F126","v":0},{"$f":"'Client A'!G126","v":0},{"$f":"'Client A'!H126","v":0},{"$f":"'Client A'!K126","v":0}]
[{"$f":"'Client A'!A127","v":"00:00:00"},{"$f":"'Client A'!B127","v":0},{"$f":"'Client A'!C127","v":0},{"$f":"'Client A'!D127","v":false},{"$f":"'Client A'!E127","v":0},{"$f":"'Client A'!F127","v":0},{"$f":"'Client A'!G127","v":0},{"$f":"'Client A'!H127","v":0},{"$f":"'Client A'!K127","v":0}]
[{"$f":"'Client A'!A128","v":"00:00:00"},{"$f":"'Client A'!B128","v":0},{"$f":"'Client A'!C128","v":0},{"$f":"'Client A'!D128","v":false},{"$f":"'Client A'!E128","v":0},{"$f":"'Client A'!F128","v":0},{"$f":"'Client A'!G128","v":0},{"$f":"'Client A'!H128","v":0},{"$f":"'Client A'!K128","v":0}]
[{"$f":"'Client A'!A129","v":"00:00:00"},{"$f":"'Client A'!B129","v":0},{"$f":"'Client A'!C129","v":0},{"$f":"'Client A'!D129","v":false},{"$f":"'Client A'!E129","v":0},{"$f":"'Client A'!F129","v":0},{"$f":"'Client A'!G129","v":0},{"$f":"'Client A'!H129","v":0},{"$f":"'Client A'!K129","v":0}]
[{"$f":"'Client A'!A130","v":"00:00:00"},{"$f":"'Client A'!B130","v":0},{"$f":"'Client A'!C130","v":0},{"$f":"'Client A'!D130","v":false},{"$f":"'Client A'!E130","v":0},{"$f":"'Client A'!F130","v":0},{"$f":"'Client A'!G130","v":0},{"$f":"'Client A'!H130","v":0},{"$f":"'Client A'!K130","v":0}]
[{"$f":"'Client A'!A131","v":"00:00:00"},{"$f":"'Client A'!B131","v":0},{"$f":"'Client A'!C131","v":0},{"$f":"'Client A'!D131","v":false},{"$f":"'Client A'!E131","v":0},{"$f":"'Client A'!F131","v":0},{"$f":"'Client A'!G131","v":0},{"$f":"'Client A'!H131","v":0},{"$f":"'Client A'!K131","v":0}]
[{"$f":"'Client A'!A132","v":"00:00:00"},{"$f":"'Client A'!B132","v":0},{"$f":"'Client A'!C132","v":0},{"$f":"'Client A'!D132","v":false},{"$f":"'Client A'!E132","v":0},{"$f":"'Client A'!F132","v":0},{"$f":"'Client A'!G132","v":0},{"$f":"'Client A'!H132","v":0},{"$f":"'Client A'!K132","v":0}]
[{"$f":"'Client A'!A133","v":"00:00:00"},{"$f":"'Client A'!B133","v":0},{"$f":"'Client A'!C133","v":0},{"$f":"'Client A'!D133","v":false},{"$f":"'Client A'!E133","v":0},{"$f":"'Client A'!F133","v":0},{"$f":"'Client A'!G133","v":0},{"$f":"'Client A'!H133","v":0},{"$f":"'Client A'!K133","v":0}]
[{"$f":"'Client A'!A134","v":"00:00:00"},{"$f":"'Client A'!B134","v":0},{"$f":"'Client A'!C134","v":0},{"$f":"'Client A'!D134","v":false},{"$f":"'Client A'!E134","v":0},{"$f":"'Client A'!F134","v":0},{"$f":"'Client A'!G134","v":0},{"$f":"'Client A'!H134","v":0},{"$f":"'Client A'!K134","v":0}]
[{"$f":"'Client A'!A135","v":"00:00:00"},{"$f":"'Client A'!B135","v":0},{"$f":"'Client A'!C135","v":0},{"$f":"'Client A'!D135","v":false},{"$f":"'Client A'!E135","v":0},{"$f":"'Client A'!F135","v":0},{"$f":"'Client A'!G135","v":0},{"$f":"'Client A'!H135","v":0},{"$f":"'Client A'!K135","v":0}]
[{"$f":"'Client A'!A136","v":"00:00:00"},{"$f":"'Client A'!B136","v":0},{"$f":"'Client A'!C136","v":0},{"$f":"'Client A'!D136","v":false},{"$f":"'Client A'!E136","v":0},{"$f":"'Client A'!F136","v":0},{"$f":"'Client A'!G136","v":0},{"$f":"'Client A'!H136","v":0},{"$f":"'Client A'!K136","v":0}]
[{"$f":"'Client A'!A137","v":"00:00:00"},{"$f":"'Client A'!B137","v":0},{"$f":"'Client A'!C137","v":0},{"$f":"'Client A'!D137","v":false},{"$f":"'Client A'!E137","v":0},{"$f":"'Client A'!F137","v":0},{"$f":"'Client A'!G137","v":0},{"$f":"'Client A'!H137","v":0},{"$f":"'Client A'!K137","v":0}]
[{"$f":"'Client A'!A138","v":"00:00:00"},{"$f":"'Client A'!B138","v":0},{"$f":"'Client A'!C138","v":0},{"$f":"'Client A'!D138","v":false},{"$f":"'Client A'!E138","v":0},{"$f":"'Client A'!F138","v":0},{"$f":"'Client A'!G138","v":0},{"$f":"'Client A'!H138","v":0},{"$f":"'Client A'!K138","v":0}]
[{"$f":"'Client A'!A139","v":"00:00:00"},{"$f":"'Client A'!B139","v":0},{"$f":"'Client A'!C139","v":0},{"$f":"'Client A'!D139","v":false},{"$f":"'Client A'!E139","v":0},{"$f":"'Client A'!F139","v":0},{"$f":"'Client A'!G139","v":0},{"$f":"'Client A'!H139","v":0},{"$f":"'Client A'!K139","v":0}]
[{"$f":"'Client A'!A140","v":"00:00:00"},{"$f":"'Client A'!B140","v":0},{"$f":"'Client A'!C140","v":0},{"$f":"'Client A'!D140","v":false},{"$f":"'Client A'!E140","v":0},{"$f":"'Client A'!F140","v":0},{"$f":"'Client A'!G140","v":0},{"$f":"'Client A'!H140","v":0},{"$f":"'Client A'!K140","v":0}]
[{"$f":"'Client A'!A141","v":"00:00:00"},{"$f":"'Client A'!B141","v":0},{"$f":"'Client A'!C141","v":0},{"$f":"'Client A'!D141","v":false},{"$f":"'Client A'!E141","v":0},{"$f":"'Client A'!F141","v":0},{"$f":"'Client A'!G141","v":0},{"$f":"'Client A'!H141","v":0},{"$f":"'Client A'!K141","v":0}]
[{"$f":"'Client A'!A142","v":"00:00:00"},{"$f":"'Client A'!B142","v":0},{"$f":"'Client A'!C142","v":0},{"$f":"'Client A'!D142","v":false},{"$f":"'Client A'!E142","v":0},{"$f":"'Client A'!F142","v":0},{"$f":"'Client A'!G142","v":0},{"$f":"'Client A'!H142","v":0},{"$f":"'Client A'!K142","v":0}]
[{"$f":"'Client A'!A143","v":"00:00:00"},{"$f":"'Client A'!B143","v":0},{"$f":"'Client A'!C143","v":0},{"$f":"'Client A'!D143","v":false},{"$f":"'Client A'!E143","v":0},{"$f":"'Client A'!F143","v":0},{"$f":"'Client A'!G143","v":0},{"$f":"'Client A'!H143","v":0},{"$f":"'Client A'!K143","v":0}]
[{"$f":"'Client A'!A144","v":"00:00:00"},{"$f":"'Client A'!B144","v":0},{"$f":"'Client A'!C144","v":0},{"$f":"'Client A'!D144","v":false},{"$f":"'Client A'!E144","v":0},{"$f":"'Client A'!F144","v":0},{"$f":"'Client A'!G144","v":0},{"$f":"'Client A'!H144","v":0},{"$f":"'Client A'!K144","v":0}]
[{"$f":"'Client A'!A145","v":"00:00:00"},{"$f":"'Client A'!B145","v":0},{"$f":"'Client A'!C145","v":0},{"$f":"'Client A'!D145","v":false},{"$f":"'Client A'!E145","v":0},{"$f":"'Client A'!F145","v":0},{"$f":"'Client A'!G145","v":0},{"$f":"'Client A'!H145","v":0},{"$f":"'Client A'!K145","v":0}]
[{"$f":"'Client A'!A146","v":"00:00:00"},{"$f":"'Client A'!B146","v":0},{"$f":"'Client A'!C146","v":0},{"$f":"'Client A'!D146","v":false},{"$f":"'Client A'!E146","v":0},{"$f":"'Client A'!F146","v":0},{"$f":"'Client A'!G146","v":0},{"$f":"'Client A'!H146","v":0},{"$f":"'Client A'!K146","v":0}]
[{"$f":"'Client A'!A147","v":"00:00:00"},{"$f":"'Client A'!B147","v":0},{"$f":"'Client A'!C147","v":0},{"$f":"'Client A'!D147","v":false},{"$f":"'Client A'!E147","v":0},{"$f":"'Client A'!F147","v":0},{"$f":"'Client A'!G147","v":0},{"$f":"'Client A'!H147","v":0},{"$f":"'Client A'!K147","v":0}]
[{"$f":"'Client A'!A148","v":"00:00:00"},{"$f":"'Client A'!B148","v":0},{"$f":"'Client A'!C148","v":0},{"$f":"'Client A'!D148","v":false},{"$f":"'Client A'!E148","v":0},{"$f":"'Client A'!F148","v":0},{"$f":"'Client A'!G148","v":0},{"$f":"'Client A'!H148","v":0},{"$f":"'Client A'!K148","v":0}]
[{"$f":"'Client A'!A149","v":"00:00:00"},{"$f":"'Client A'!B149","v":0},{"$f":"'Client A'!C149","v":0},{"$f":"'Client A'!D149","v":false},{"$f":"'Client A'!E149","v":0},{"$f":"'Client A'!F149","v":0},{"$f":"'Client A'!G149","v":0},{"$f":"'Client A'!H149","v":0},{"$f":"'Client A'!K149","v":0}]
[{"$f":"'Client A'!A150","v":"00:00:00"},{"$f":"'Client A'!B150","v":0},{"$f":"'Client A'!C150","v":0},{"$f":"'Client A'!D150","v":false},{"$f":"'Client A'!E150","v":0},{"$f":"'Client A'!F150","v":0},{"$f":"'Client A'!G150","v":0},{"$f":"'Client A'!H150","v":0},{"$f":"'Client A'!K150","v":0}]
[{"$f":"'Client A'!A151","v":"00:00:00"},{"$f":"'Client A'!B151","v":0},{"$f":"'Client A'!C151","v":0},{"$f":"'Client A'!D151","v":false},{"$f":"'Client A'!E151","v":0},{"$f":"'Client A'!F151","v":0},{"$f":"'Client A'!G151","v":0},{"$f":"'Client A'!H151","v":0},{"$f":"'Client A'!K151","v":0}]
[{"$f":"'Client A'!A152","v":"00:00:00"},{"$f":"'Client A'!B152","v":0},{"$f":"'Client A'!C152","v":0},{"$f":"'Client A'!D152","v":false},{"$f":"'Client A'!E152","v":0},{"$f":"'Client A'!F152","v":0},{"$f":"'Client A'!G152","v":0},{"$f":"'Client A'!H152","v":0},{"$f":"'Client A'!K152","v":0}]
[{"$f":"'Client A'!A153","v":"00:00:00"},{"$f":"'Client A'!B153","v":0},{"$f":"'Client A'!C153","v":0},{"$f":"'Client A'!D153","v":false},{"$f":"'Client A'!E153","v":0},{"$f":"'Client A'!F153","v":0},{"$f":"'Client A'!G153","v":0},{"$f":"'Client A'!H153","v":0},{"$f":"'Client A'!K153","v":0}]
[{"$f":"'Client A'!A154","v":"00:00:00"},{"$f":"'Client A'!B154","v":0},{"$f":"'Client A'!C154","v":0},{"$f":"'Client A'!D154","v":false},{"$f":"'Client A'!E154","v":0},{"$f":"'Client A'!F154","v":0},{"$f":"'Client A'!G154","v":0},{"$f":"'Client A'!H154","v":0},{"$f":"'Client A'!K154","v":0}]
[{"$f":"'Client B'!A5","v":"00:00:00"},{"$f":"'Client B'!B5","v":0},{"$f":"'Client B'!C5","v":0},{"$f":"'Client B'!D5","v":false},{"$f":"'Client B'!E5","v":0},{"$f":"'Client B'!F5","v":0},{"$f":"'Client B'!G5","v":0},{"$f":"'Client B'!H5","v":0},{"$f":"'Client B'!K5","v":0}]
[{"$f":"'Client B'!A6","v":"00:00:00"},{"$f":"'Client B'!B6","v":0},{"$f":"'Client B'!C6","v":0},{"$f":"'Client B'!D6","v":false},{"$f":"'Client B'!E6","v":0},{"$f":"'Client B'!F6","v":0},{"$f":"'Client B'!G6","v":0},{"$f":"'Client B'!H6","v":0},{"$f":"'Client B'!K6","v":0}]
[{"$f":"'Client B'!A7","v":"00:00:00"},{"$f":"'Client B'!B7","v":0},{"$f":"'Client B'!C7","v":0},{"$f":"'Client B'!D7","v":false},{"$f":"'Client B'!E7","v":0},{"$f":"'Client B'!F7","v":0},{"$f":"'Client B'!G7","v":0},{"$f":"'Client B'!H7","v":0},{"$f":"'Client B'!K7","v":0}]
[{"$f":"'Client B'!A8","v":"00:00:00"},{"$f":"'Client B'!B8","v":0},{"$f":"'Client B'!C8","v":0},{"$f":"'Client B'!D8","v":false},{"$f":"'Client B'!E8","v":0},{"$f":"'Client B'!F8","v":0},{"$f":"'Client B'!G8","v":0},{"$f":"'Client B'!H8","v":0},{"$f":"'Client B'!K8","v":0}]
[{"$f":"'Client B'!A9","v":"00:00:00"},{"$f":"'Client B'!B9","v":0},{"$f":"'Client B'!C9","v":0},{"$f":"'Client B'!D9","v":false},{"$f":"'Client B'!E9","v":0},{"$f":"'Client B'!F9","v":0},{"$f":"'Client B'!G9","v":0},{"$f":"'Client B'!H9","v":0},{"$f":"'Client B'!K9","v":0}]
[{"$f":"'Client B'!A10","v":"00:00:00"},{"$f":"'Client B'!B10","v":0},{"$f":"'Client B'!C10","v":0},{"$f":"'Client B'!D10","v":false},{"$f":"'Client B'!E10","v":0},{"$f":"'Client B'!F10","v":0},{"$f":"'Client B'!G10","v":0},{"$f":"'Client B'!H10","v":0},{"$f":"'Client B'!K10","v":0}]
[{"$f":"'Client B'!A11","v":"00:00:00"},{"$f":"'Client B'!B11","v":0},{"$f":"'Client B'!C11","v":0},{"$f":"'Client B'!D11","v":false},{"$f":"'Client B'!E11","v":0},{"$f":"'Client B'!F11","v":0},{"$f":"'Client B'!G11","v":0},{"$f":"'Client B'!H11","v":0},{"$f":"'Client B'!K11","v":0}]
[{"$f":"'Client B'!A12","v":"00:00:00"},{"$f":"'Client B'!B12","v":0},{"$f":"'Client B'!C12","v":0},{"$f":"'Client B'!D12","v":false},{"$f":"'Client B'!E12","v":0},{"$f":"'Client B'!F12","v":0},{"$f":"'Client B'!G12","v":0},{"$f":"'Client B'!H12","v":0},{"$f":"'Client B'!K12","v":0}]
[{"$f":"'Client B'!A13","v":"00:00:00"},{"$f":"'Client B'!B13","v":0},{"$f":"'Client B'!C13","v":0},{"$f":"'Client B'!D13","v":false},{"$f":"'Client B'!E13","v":0},{"$f":"'Client B'!F13","v":0},{"$f":"'Client B'!G13","v":0},{"$f":"'Client B'!H13","v":0},{"$f":"'Client B'!K13","v":0}]
[{"$f":"'Client B'!A14","v":"00:00:00"},{"$f":"'Client B'!B14","v":0},{"$f":"'Client B'!C14","v":0},{"$f":"'Client B'!D14","v":false},{"$f":"'Client B'!E14","v":0},{"$f":"'Client B'!F14","v":0},{"$f":"'Client B'!G14","v":0},{"$f":"'Client B'!H14","v":0},{"$f":"'Client B'!K14","v":0}]
[{"$f":"'Client B'!A15","v":"00:00:00"},{"$f":"'Client B'!B15","v":0},{"$f":"'Client B'!C15","v":0},{"$f":"'Client B'!D15","v":false},{"$f":"'Client B'!E15","v":0},{"$f":"'Client B'!F15","v":0},{"$f":"'Client B'!G15","v":0},{"$f":"'Client B'!H15","v":0},{"$f":"'Client B'!K15","v":0}]
[{"$f":"'Client B'!A16","v":"00:00:00"},{"$f":"'Client B'!B16","v":0},{"$f":"'Client B'!C16","v":0},{"$f":"'Client B'!D16","v":false},{"$f":"'Client B'!E16","v":0},{"$f":"'Client B'!F16","v":0},{"$f":"'Client B'!G16","v":0},{"$f":"'Client B'!H16","v":0},{"$f":"'Client B'!K16","v":0}]
[{"$f":"'Client B'!A17","v":"00:00:00"},{"$f":"'Client B'!B17","v":0},{"$f":"'Client B'!C17","v":0},{"$f":"'Client B'!D17","v":false},{"$f":"'Client B'!E17","v":0},{"$f":"'Client B'!F17","v":0},{"$f":"'Client B'!G17","v":0},{"$f":"'Client B'!H17","v":0},{"$f":"'Client B'!K17","v":0}]
[{"$f":"'Client B'!A18","v":"00:00:00"},{"$f":"'Client B'!B18","v":0},{"$f":"'Client B'!C18","v":0},{"$f":"'Client B'!D18","v":false},{"$f":"'Client B'!E18","v":0},{"$f":"'Client B'!F18","v":0},{"$f":"'Client B'!G18","v":0},{"$f":"'Client B'!H18","v":0},{"$f":"'Client B'!K18","v":0}]
[{"$f":"'Client B'!A19","v":"00:00:00"},{"$f":"'Client B'!B19","v":0},{"$f":"'Client B'!C19","v":0},{"$f":"'Client B'!D19","v":false},{"$f":"'Client B'!E19","v":0},{"$f":"'Client B'!F19","v":0},{"$f":"'Client B'!G19","v":0},{"$f":"'Client B'!H19","v":0},{"$f":"'Client B'!K19","v":0}]
[{"$f":"'Client B'!A20","v":"00:00:00"},{"$f":"'Client B'!B20","v":0},{"$f":"'Client B'!C20","v":0},{"$f":"'Client B'!D20","v":false},{"$f":"'Client B'!E20","v":0},{"$f":"'Client B'!F20","v":0},{"$f":"'Client B'!G20","v":0},{"$f":"'Client B'!H20","v":0},{"$f":"'Client B'!K20","v":0}]
[{"$f":"'Client B'!A21","v":"00:00:00"},{"$f":"'Client B'!B21","v":0},{"$f":"'Client B'!C21","v":0},{"$f":"'Client B'!D21","v":false},{"$f":"'Client B'!E21","v":0},{"$f":"'Client B'!F21","v":0},{"$f":"'Client B'!G21","v":0},{"$f":"'Client B'!H21","v":0},{"$f":"'Client B'!K21","v":0}]
[{"$f":"'Client B'!A22","v":"00:00:00"},{"$f":"'Client B'!B22","v":0},{"$f":"'Client B'!C22","v":0},{"$f":"'Client B'!D22","v":false},{"$f":"'Client B'!E22","v":0},{"$f":"'Client B'!F22","v":0},{"$f":"'Client B'!G22","v":0},{"$f":"'Client B'!H22","v":0},{"$f":"'Client B'!K22","v":0}]
[{"$f":"'Client B'!A23","v":"00:00:00"},{"$f":"'Client B'!B23","v":0},{"$f":"'Client B'!C23","v":0},{"$f":"'Client B'!D23","v":false},{"$f":"'Client B'!E23","v":0},{"$f":"'Client B'!F23","v":0},{"$f":"'Client B'!G23","v":0},{"$f":"'Client B'!H23","v":0},{"$f":"'Client B'!K23","v":0}]
[{"$f":"'Client B'!A24","v":"00:00:00"},{"$f":"'Client B'!B24","v":0},{"$f":"'Client B'!C24","v":0},{"$f":"'Client B'!D24","v":false},{"$f":"'Client B'!E24","v":0},{"$f":"'Client B'!F24","v":0},{"$f":"'Client B'!G24","v":0},{"$f":"'Client B'!H24","v":0},{"$f":"'Client B'!K24","v":0}]
[{"$f":"'Client B'!A25","v":"00:00:00"},{"$f":"'Client B'!B25","v":0},{"$f":"'Client B'!C25","v":0},{"$f":"'Client B'!D25","v":false},{"$f":"'Client B'!E25","v":0},{"$f":"'Client B'!F25","v":0},{"$f":"'Client B'!G25","v":0},{"$f":"'Client B'!H25","v":0},{"$f":"'Client B'!K25","v":0}]
[{"$f":"'Client B'!A26","v":"00:00:00"},{"$f":"'Client B'!B26","v":0},{"$f":"'Client B'!C26","v":0},{"$f":"'Client B'!D26","v":false},{"$f":"'Client B'!E26","v":0},{"$f":"'Client B'!F26","v":0},{"$f":"'Client B'!G26","v":0},{"$f":"'Client B'!H26","v":0},{"$f":"'Client B'!K26","v":0}]
[{"$f":"'Client B'!A27","v":"00:00:00"},{"$f":"'Client B'!B27","v":0},{"$f":"'Client B'!C27","v":0},{"$f":"'Client B'!D27","v":false},{"$f":"'Client B'!E27","v":0},{"$f":"'Client B'!F27","v":0},{"$f":"'Client B'!G27","v":0},{"$f":"'Client B'!H27","v":0},{"$f":"'Client B'!K27","v":0}]
[{"$f":"'Client B'!A28","v":"00:00:00"},{"$f":"'Client B'!B28","v":0},{"$f":"'Client B'!C28","v":0},{"$f":"'Client B'!D28","v":false},{"$f":"'Client B'!E28","v":0},{"$f":"'Client B'!F28","v":0},{"$f":"'Client B'!G28","v":0},{"$f":"'Client B'!H28","v":0},{"$f":"'Client B'!K28","v":0}]
[{"$f":"'Client B'!A29","v":"00:00:00"},{"$f":"'Client B'!B29","v":0},{"$f":"'Client B'!C29","v":0},{"$f":"'Client B'!D29","v":false},{"$f":"'Client B'!E29","v":0},{"$f":"'Client B'!F29","v":0},{"$f":"'Client B'!G29","v":0},{"$f":"'Client B'!H29","v":0},{"$f":"'Client B'!K29","v":0}]
[{"$f":"'Client B'!A30","v":"00:00:00"},{"$f":"'Client B'!B30","v":0},{"$f":"'Client B'!C30","v":0},{"$f":"'Client B'!D30","v":false},{"$f":"'Client B'!E30","v":0},{"$f":"'Client B'!F30","v":0},{"$f":"'Client B'!G30","v":0},{"$f":"'Client B'!H30","v":0},{"$f":"'Client B'!K30","v":0}]
[{"$f":"'Client B'!A31","v":"00:00:00"},{"$f":"'Client B'!B31","v":0},{"$f":"'Client B'!C31","v":0},{"$f":"'Client B'!D31","v":false},{"$f":"'Client B'!E31","v":0},{"$f":"'Client B'!F31","v":0},{"$f":"'Client B'!G31","v":0},{"$f":"'Client B'!H31","v":0},{"$f":"'Client B'!K31","v":0}]
[{"$f":"'Client B'!A32","v":"00:00:00"},{"$f":"'Client B'!B32","v":0},{"$f":"'Client B'!C32","v":0},{"$f":"'Client B'!D32","v":false},{"$f":"'Client B'!E32","v":0},{"$f":"'Client B'!F32","v":0},{"$f":"'Client B'!G32","v":0},{"$f":"'Client B'!H32","v":0},{"$f":"'Client B'!K32","v":0}]
[{"$f":"'Client B'!A33","v":"00:00:00"},{"$f":"'Client B'!B33","v":0},{"$f":"'Client B'!C33","v":0},{"$f":"'Client B'!D33","v":false},{"$f":"'Client B'!E33","v":0},{"$f":"'Client B'!F33","v":0},{"$f":"'Client B'!G33","v":0},{"$f":"'Client B'!H33","v":0},{"$f":"'Client B'!K33","v":0}]
[{"$f":"'Client B'!A34","v":"00:00:00"},{"$f":"'Client B'!B34","v":0},{"$f":"'Client B'!C34","v":0},{"$f":"'Client B'!D34","v":false},{"$f":"'Client B'!E34","v":0},{"$f":"'Client B'!F34","v":0},{"$f":"'Client B'!G34","v":0},{"$f":"'Client B'!H34","v":0},{"$f":"'Client B'!K34","v":0}]
[{"$f":"'Client B'!A35","v":"00:00:00"},{"$f":"'Client B'!B35","v":0},{"$f":"'Client B'!C35","v":0},{"$f":"'Client B'!D35","v":false},{"$f":"'Client B'!E35","v":0},{"$f":"'Client B'!F35","v":0},{"$f":"'Client B'!G35","v":0},{"$f":"'Client B'!H35","v":0},{"$f":"'Client B'!K35","v":0}]
[{"$f":"'Client B'!A36","v":"00:00:00"},{"$f":"'Client B'!B36","v":0},{"$f":"'Client B'!C36","v":0},{"$f":"'Client B'!D36","v":false},{"$f":"'Client B'!E36","v":0},{"$f":"'Client B'!F36","v":0},{"$f":"'Client B'!G36","v":0},{"$f":"'Client B'!H36","v":0},{"$f":"'Client B'!K36","v":0}]
[{"$f":"'Client B'!A37","v":"00:00:00"},{"$f":"'Client B'!B37","v":0},{"$f":"'Client B'!C37","v":0},{"$f":"'Client B'!D37","v":false},{"$f":"'Client B'!E37","v":0},{"$f":"'Client B'!F37","v":0},{"$f":"'Client B'!G37","v":0},{"$f":"'Client B'!H37","v":0},{"$f":"'Client B'!K37","v":0}]
[{"$f":"'Client B'!A38","v":"00:00:00"},{"$f":"'Client B'!B38","v":0},{"$f":"'Client B'!C38","v":0},{"$f":"'Client B'!D38","v":false},{"$f":"'Client B'!E38","v":0},{"$f":"'Client B'!F38","v":0},{"$f":"'Client B'!G38","v":0},{"$f":"'Client B'!H38","v":0},{"$f":"'Client B'!K38","v":0}]
[{"$f":"'Client B'!A39","v":"00:00:00"},{"$f":"'Client B'!B39","v":0},{"$f":"'Client B'!C39","v":0},{"$f":"'Client B'!D39","v":false},{"$f":"'Client B'!E39","v":0},{"$f":"'Client B'!F39","v":0},{"$f":"'Client B'!G39","v":0},{"$f":"'Client B'!H39","v":0},{"$f":"'Client B'!K39","v":0}]
[{"$f":"'Client B'!A40","v":"00:00:00"},{"$f":"'Client B'!B40","v":0},{"$f":"'Client B'!C40","v":0},{"$f":"'Client B'!D40","v":false},{"$f":"'Client B'!E40","v":0},{"$f":"'Client B'!F40","v":0},{"$f":"'Client B'!G40","v":0},{"$f":"'Client B'!H40","v":0},{"$f":"'Client B'!K40","v":0}]
[{"$f":"'Client B'!A41","v":"00:00:00"},{"$f":"'Client B'!B41","v":0},{"$f":"'Client B'!C41","v":0},{"$f":"'Client B'!D41","v":false},{"$f":"'Client B'!E41","v":0},{"$f":"'Client B'!F41","v":0},{"$f":"'Client B'!G41","v":0},{"$f":"'Client B'!H41","v":0},{"$f":"'Client B'!K41","v":0}]
[{"$f":"'Client B'!A42","v":"00:00:00"},{"$f":"'Client B'!B42","v":0},{"$f":"'Client B'!C42","v":0},{"$f":"'Client B'!D42","v":false},{"$f":"'Client B'!E42","v":0},{"$f":"'Client B'!F42","v":0},{"$f":"'Client B'!G42","v":0},{"$f":"'Client B'!H42","v":0},{"$f":"'Client B'!K42","v":0}]
[{"$f":"'Client B'!A43","v":"00:00:00"},{"$f":"'Client B'!B43","v":0},{"$f":"'Client B'!C43","v":0},{"$f":"'Client B'!D43","v":false},{"$f":"'Client B'!E43","v":0},{"$f":"'Client B'!F43","v":0},{"$f":"'Client B'!G43","v":0},{"$f":"'Client B'!H43","v":0},{"$f":"'Client B'!K43","v":0}]
[{"$f":"'Client B'!A44","v":"00:00:00"},{"$f":"'Client B'!B44","v":0},{"$f":"'Client B'!C44","v":0},{"$f":"'Client B'!D44","v":false},{"$f":"'Client B'!E44","v":0},{"$f":"'Client B'!F44","v":0},{"$f":"'Client B'!G44","v":0},{"$f":"'Client B'!H44","v":0},{"$f":"'Client B'!K44","v":0}]
[{"$f":"'Client B'!A45","v":"00:00:00"},{"$f":"'Client B'!B45","v":0},{"$f":"'Client B'!C45","v":0},{"$f":"'Client B'!D45","v":false},{"$f":"'Client B'!E45","v":0},{"$f":"'Client B'!F45","v":0},{"$f":"'Client B'!G45","v":0},{"$f":"'Client B'!H45","v":0},{"$f":"'Client B'!K45","v":0}]
[{"$f":"'Client B'!A46","v":"00:00:00"},{"$f":"'Client B'!B46","v":0},{"$f":"'Client B'!C46","v":0},{"$f":"'Client B'!D46","v":false},{"$f":"'Client B'!E46","v":0},{"$f":"'Client B'!F46","v":0},{"$f":"'Client B'!G46","v":0},{"$f":"'Client B'!H46","v":0},{"$f":"'Client B'!K46","v":0}]
[{"$f":"'Client B'!A47","v":"00:00:00"},{"$f":"'Client B'!B47","v":0},{"$f":"'Client B'!C47","v":0},{"$f":"'Client B'!D47","v":false},{"$f":"'Client B'!E47","v":0},{"$f":"'Client B'!F47","v":0},{"$f":"'Client B'!G47","v":0},{"$f":"'Client B'!H47","v":0},{"$f":"'Client B'!K47","v":0}]
[{"$f":"'Client B'!A48","v":"00:00:00"},{"$f":"'Client B'!B48","v":0},{"$f":"'Client B'!C48","v":0},{"$f":"'Client B'!D48","v":false},{"$f":"'Client B'!E48","v":0},{"$f":"'Client B'!F48","v":0},{"$f":"'Client B'!G48","v":0},{"$f":"'Client B'!H48","v":0},{"$f":"'Client B'!K48","v":0}]
[{"$f":"'Client B'!A49","v":"00:00:00"},{"$f":"'Client B'!B49","v":0},{"$f":"'Client B'!C49","v":0},{"$f":"'Client B'!D49","v":false},{"$f":"'Client B'!E49","v":0},{"$f":"'Client B'!F49","v":0},{"$f":"'Client B'!G49","v":0},{"$f":"'Client B'!H49","v":0},{"$f":"'Client B'!K49","v":0}]
[{"$f":"'Client B'!A50","v":"00:00:00"},{"$f":"'Client B'!B50","v":0},{"$f":"'Client B'!C50","v":0},{"$f":"'Client B'!D50","v":false},{"$f":"'Client B'!E50","v":0},{"$f":"'Client B'!F50","v":0},{"$f":"'Client B'!G50","v":0},{"$f":"'Client B'!H50","v":0},{"$f":"'Client B'!K50","v":0}]
[{"$f":"'Client B'!A51","v":"00:00:00"},{"$f":"'Client B'!B51","v":0},{"$f":"'Client B'!C51","v":0},{"$f":"'Client B'!D51","v":false},{"$f":"'Client B'!E51","v":0},{"$f":"'Client B'!F51","v":0},{"$f":"'Client B'!G51","v":0},{"$f":"'Client B'!H51","v":0},{"$f":"'Client B'!K51","v":0}]
[{"$f":"'Client B'!A52","v":"00:00:00"},{"$f":"'Client B'!B52","v":0},{"$f":"'Client B'!C52","v":0},{"$f":"'Client B'!D52","v":false},{"$f":"'Client B'!E52","v":0},{"$f":"'Client B'!F52","v":0},{"$f":"'Client B'!G52","v":0},{"$f":"'Client B'!H52","v":0},{"$f":"'Client B'!K52","v":0}]
[{"$f":"'Client B'!A53","v":"00:00:00"},{"$f":"'Client B'!B53","v":0},{"$f":"'Client B'!C53","v":0},{"$f":"'Client B'!D53","v":false},{"$f":"'Client B'!E53","v":0},{"$f":"'Client B'!F53","v":0},{"$f":"'Client B'!G53","v":0},{"$f":"'Client B'!H53","v":0},{"$f":"'Client B'!K53","v":0}]
[{"$f":"'Client B'!A54","v":"00:00:00"},{"$f":"'Client B'!B54","v":0},{"$f":"'Client B'!C54","v":0},{"$f":"'Client B'!D54","v":false},{"$f":"'Client B'!E54","v":0},{"$f":"'Client B'!F54","v":0},{"$f":"'Client B'!G54","v":0},{"$f":"'Client B'!H54","v":0},{"$f":"'Client B'!K54","v":0}]
[{"$f":"'Client B'!A55","v":"00:00:00"},{"$f":"'Client B'!B55","v":0},{"$f":"'Client B'!C55","v":0},{"$f":"'Client B'!D55","v":false},{"$f":"'Client B'!E55","v":0},{"$f":"'Client B'!F55","v":0},{"$f":"'Client B'!G55","v":0},{"$f":"'Client B'!H55","v":0},{"$f":"'Client B'!K55","v":0}]
[{"$f":"'Client B'!A56","v":"00:00:00"},{"$f":"'Client B'!B56","v":0},{"$f":"'Client B'!C56","v":0},{"$f":"'Client B'!D56","v":false},{"$f":"'Client B'!E56","v":0},{"$f":"'Client B'!F56","v":0},{"$f":"'Client B'!G56","v":0},{"$f":"'Client B'!H56","v":0},{"$f":"'Client B'!K56","v":0}]
[{"$f":"'Client B'!A57","v":"00:00:00"},{"$f":"'Client B'!B57","v":0},{"$f":"'Client B'!C57","v":0},{"$f":"'Client B'!D57","v":false},{"$f":"'Client B'!E57","v":0},{"$f":"'Client B'!F57","v":0},{"$f":"'Client B'!G57","v":0},{"$f":"'Client B'!H57","v":0},{"$f":"'Client B'!K57","v":0}]
[{"$f":"'Client B'!A58","v":"00:00:00"},{"$f":"'Client B'!B58","v":0},{"$f":"'Client B'!C58","v":0},{"$f":"'Client B'!D58","v":false},{"$f":"'Client B'!E58","v":0},{"$f":"'Client B'!F58","v":0},{"$f":"'Client B'!G58","v":0},{"$f":"'Client B'!H58","v":0},{"$f":"'Client B'!K58","v":0}]
[{"$f":"'Client B'!A59","v":"00:00:00"},{"$f":"'Client B'!B59","v":0},{"$f":"'Client B'!C59","v":0},{"$f":"'Client B'!D59","v":false},{"$f":"'Client B'!E59","v":0},{"$f":"'Client B'!F59","v":0},{"$f":"'Client B'!G59","v":0},{"$f":"'Client B'!H59","v":0},{"$f":"'Client B'!K59","v":0}]
[{"$f":"'Client B'!A60","v":"00:00:00"},{"$f":"'Client B'!B60","v":0},{"$f":"'Client B'!C60","v":0},{"$f":"'Client B'!D60","v":false},{"$f":"'Client B'!E60","v":0},{"$f":"'Client B'!F60","v":0},{"$f":"'Client B'!G60","v":0},{"$f":"'Client B'!H60","v":0},{"$f":"'Client B'!K60","v":0}]
[{"$f":"'Client B'!A61","v":"00:00:00"},{"$f":"'Client B'!B61","v":0},{"$f":"'Client B'!C61","v":0},{"$f":"'Client B'!D61","v":false},{"$f":"'Client B'!E61","v":0},{"$f":"'Client B'!F61","v":0},{"$f":"'Client B'!G61","v":0},{"$f":"'Client B'!H61","v":0},{"$f":"'Client B'!K61","v":0}]
[{"$f":"'Client B'!A62","v":"00:00:00"},{"$f":"'Client B'!B62","v":0},{"$f":"'Client B'!C62","v":0},{"$f":"'Client B'!D62","v":false},{"$f":"'Client B'!E62","v":0},{"$f":"'Client B'!F62","v":0},{"$f":"'Client B'!G62","v":0},{"$f":"'Client B'!H62","v":0},{"$f":"'Client B'!K62","v":0}]
[{"$f":"'Client B'!A63","v":"00:00:00"},{"$f":"'Client B'!B63","v":0},{"$f":"'Client B'!C63","v":0},{"$f":"'Client B'!D63","v":false},{"$f":"'Client B'!E63","v":0},{"$f":"'Client B'!F63","v":0},{"$f":"'Client B'!G63","v":0},{"$f":"'Client B'!H63","v":0},{"$f":"'Client B'!K63","v":0}]
[{"$f":"'Client B'!A64","v":"00:00:00"},{"$f":"'Client B'!B64","v":0},{"$f":"'Client B'!C64","v":0},{"$f":"'Client B'!D64","v":false},{"$f":"'Client B'!E64","v":0},{"$f":"'Client B'!F64","v":0},{"$f":"'Client B'!G64","v":0},{"$f":"'Client B'!H64","v":0},{"$f":"'Client B'!K64","v":0}]
[{"$f":"'Client B'!A65","v":"00:00:00"},{"$f":"'Client B'!B65","v":0},{"$f":"'Client B'!C65","v":0},{"$f":"'Client B'!D65","v":false},{"$f":"'Client B'!E65","v":0},{"$f":"'Client B'!F65","v":0},{"$f":"'Client B'!G65","v":0},{"$f":"'Client B'!H65","v":0},{"$f":"'Client B'!K65","v":0}]
[{"$f":"'Client B'!A66","v":"00:00:00"},{"$f":"'Client B'!B66","v":0},{"$f":"'Client B'!C66","v":0},{"$f":"'Client B'!D66","v":false},{"$f":"'Client B'!E66","v":0},{"$f":"'Client B'!F66","v":0},{"$f":"'Client B'!G66","v":0},{"$f":"'Client B'!H66","v":0},{"$f":"'Client B'!K66","v":0}]
[{"$f":"'Client B'!A67","v":"00:00:00"},{"$f":"'Client B'!B67","v":0},{"$f":"'Client B'!C67","v":0},{"$f":"'Client B'!D67","v":false},{"$f":"'Client B'!E67","v":0},{"$f":"'Client B'!F67","v":0},{"$f":"'Client B'!G67","v":0},{"$f":"'Client B'!H67","v":0},{"$f":"'Client B'!K67","v":0}]
[{"$f":"'Client B'!A68","v":"00:00:00"},{"$f":"'Client B'!B68","v":0},{"$f":"'Client B'!C68","v":0},{"$f":"'Client B'!D68","v":false},{"$f":"'Client B'!E68","v":0},{"$f":"'Client B'!F68","v":0},{"$f":"'Client B'!G68","v":0},{"$f":"'Client B'!H68","v":0},{"$f":"'Client B'!K68","v":0}]
[{"$f":"'Client B'!A69","v":"00:00:00"},{"$f":"'Client B'!B69","v":0},{"$f":"'Client B'!C69","v":0},{"$f":"'Client B'!D69","v":false},{"$f":"'Client B'!E69","v":0},{"$f":"'Client B'!F69","v":0},{"$f":"'Client B'!G69","v":0},{"$f":"'Client B'!H69","v":0},{"$f":"'Client B'!K69","v":0}]
[{"$f":"'Client B'!A70","v":"00:00:00"},{"$f":"'Client B'!B70","v":0},{"$f":"'Client B'!C70","v":0},{"$f":"'Client B'!D70","v":false},{"$f":"'Client B'!E70","v":0},{"$f":"'Client B'!F70","v":0},{"$f":"'Client B'!G70","v":0},{"$f":"'Client B'!H70","v":0},{"$f":"'Client B'!K70","v":0}]
[{"$f":"'Client B'!A71","v":"00:00:00"},{"$f":"'Client B'!B71","v":0},{"$f":"'Client B'!C71","v":0},{"$f":"'Client B'!D71","v":false},{"$f":"'Client B'!E71","v":0},{"$f":"'Client B'!F71","v":0},{"$f":"'Client B'!G71","v":0},{"$f":"'Client B'!H71","v":0},{"$f":"'Client B'!K71","v":0}]
[{"$f":"'Client B'!A72","v":"00:00:00"},{"$f":"'Client B'!B72","v":0},{"$f":"'Client B'!C72","v":0},{"$f":"'Client B'!D72","v":false},{"$f":"'Client B'!E72","v":0},{"$f":"'Client B'!F72","v":0},{"$f":"'Client B'!G72","v":0},{"$f":"'Client B'!H72","v":0},{"$f":"'Client B'!K72","v":0}]
[{"$f":"'Client B'!A73","v":"00:00:00"},{"$f":"'Client B'!B73","v":0},{"$f":"'Client B'!C73","v":0},{"$f":"'Client B'!D73","v":false},{"$f":"'Client B'!E73","v":0},{"$f":"'Client B'!F73","v":0},{"$f":"'Client B'!G73","v":0},{"$f":"'Client B'!H73","v":0},{"$f":"'Client B'!K73","v":0}]
[{"$f":"'Client B'!A74","v":"00:00:00"},{"$f":"'Client B'!B74","v":0},{"$f":"'Client B'!C74","v":0},{"$f":"'Client B'!D74","v":false},{"$f":"'Client B'!E74","v":0},{"$f":"'Client B'!F74","v":0},{"$f":"'Client B'!G74","v":0},{"$f":"'Client B'!H74","v":0},{"$f":"'Client B'!K74","v":0}]
[{"$f":"'Client B'!A75","v":"00:00:00"},{"$f":"'Client B'!B75","v":0},{"$f":"'Client B'!C75","v":0},{"$f":"'Client B'!D75","v":false},{"$f":"'Client B'!E75","v":0},{"$f":"'Client B'!F75","v":0},{"$f":"'Client B'!G75","v":0},{"$f":"'Client B'!H75","v":0},{"$f":"'Client B'!K75","v":0}]
[{"$f":"'Client B'!A76","v":"00:00:00"},{"$f":"'Client B'!B76","v":0},{"$f":"'Client B'!C76","v":0},{"$f":"'Client B'!D76","v":false},{"$f":"'Client B'!E76","v":0},{"$f":"'Client B'!F76","v":0},{"$f":"'Client B'!G76","v":0},{"$f":"'Client B'!H76","v":0},{"$f":"'Client B'!K76","v":0}]
[{"$f":"'Client B'!A77","v":"00:00:00"},{"$f":"'Client B'!B77","v":0},{"$f":"'Client B'!C77","v":0},{"$f":"'Client B'!D77","v":false},{"$f":"'Client B'!E77","v":0},{"$f":"'Client B'!F77","v":0},{"$f":"'Client B'!G77","v":0},{"$f":"'Client B'!H77","v":0},{"$f":"'Client B'!K77","v":0}]
[{"$f":"'Client B'!A78","v":"00:00:00"},{"$f":"'Client B'!B78","v":0},{"$f":"'Client B'!C78","v":0},{"$f":"'Client B'!D78","v":false},{"$f":"'Client B'!E78","v":0},{"$f":"'Client B'!F78","v":0},{"$f":"'Client B'!G78","v":0},{"$f":"'Client B'!H78","v":0},{"$f":"'Client B'!K78","v":0}]
[{"$f":"'Client B'!A79","v":"00:00:00"},{"$f":"'Client B'!B79","v":0},{"$f":"'Client B'!C79","v":0},{"$f":"'Client B'!D79","v":false},{"$f":"'Client B'!E79","v":0},{"$f":"'Client B'!F79","v":0},{"$f":"'Client B'!G79","v":0},{"$f":"'Client B'!H79","v":0},{"$f":"'Client B'!K79","v":0}]
[{"$f":"'Client B'!A80","v":"00:00:00"},{"$f":"'Client B'!B80","v":0},{"$f":"'Client B'!C80","v":0},{"$f":"'Client B'!D80","v":false},{"$f":"'Client B'!E80","v":0},{"$f":"'Client B'!F80","v":0},{"$f":"'Client B'!G80","v":0},{"$f":"'Client B'!H80","v":0},{"$f":"'Client B'!K80","v":0}]
[{"$f":"'Client B'!A81","v":"00:00:00"},{"$f":"'Client B'!B81","v":0},{"$f":"'Client B'!C81","v":0},{"$f":"'Client B'!D81","v":false},{"$f":"'Client B'!E81","v":0},{"$f":"'Client B'!F81","v":0},{"$f":"'Client B'!G81","v":0},{"$f":"'Client B'!H81","v":0},{"$f":"'Client B'!K81","v":0}]
[{"$f":"'Client B'!A82","v":"00:00:00"},{"$f":"'Client B'!B82","v":0},{"$f":"'Client B'!C82","v":0},{"$f":"'Client B'!D82","v":false},{"$f":"'Client B'!E82","v":0},{"$f":"'Client B'!F82","v":0},{"$f":"'Client B'!G82","v":0},{"$f":"'Client B'!H82","v":0},{"$f":"'Client B'!K82","v":0}]
[{"$f":"'Client B'!A83","v":"00:00:00"},{"$f":"'Client B'!B83","v":0},{"$f":"'Client B'!C83","v":0},{"$f":"'Client B'!D83","v":false},{"$f":"'Client B'!E83","v":0},{"$f":"'Client B'!F83","v":0},{"$f":"'Client B'!G83","v":0},{"$f":"'Client B'!H83","v":0},{"$f":"'Client B'!K83","v":0}]
[{"$f":"'Client B'!A84","v":"00:00:00"},{"$f":"'Client B'!B84","v":0},{"$f":"'Client B'!C84","v":0},{"$f":"'Client B'!D84","v":false},{"$f":"'Client B'!E84","v":0},{"$f":"'Client B'!F84","v":0},{"$f":"'Client B'!G84","v":0},{"$f":"'Client B'!H84","v":0},{"$f":"'Client B'!K84","v":0}]
[{"$f":"'Client B'!A85","v":"00:00:00"},{"$f":"'Client B'!B85","v":0},{"$f":"'Client B'!C85","v":0},{"$f":"'Client B'!D85","v":false},{"$f":"'Client B'!E85","v":0},{"$f":"'Client B'!F85","v":0},{"$f":"'Client B'!G85","v":0},{"$f":"'Client B'!H85","v":0},{"$f":"'Client B'!K85","v":0}]
[{"$f":"'Client B'!A86","v":"00:00:00"},{"$f":"'Client B'!B86","v":0},{"$f":"'Client B'!C86","v":0},{"$f":"'Client B'!D86","v":false},{"$f":"'Client B'!E86","v":0},{"$f":"'Client B'!F86","v":0},{"$f":"'Client B'!G86","v":0},{"$f":"'Client B'!H86","v":0},{"$f":"'Client B'!K86","v":0}]
[{"$f":"'Client B'!A87","v":"00:00:00"},{"$f":"'Client B'!B87","v":0},{"$f":"'Client B'!C87","v":0},{"$f":"'Client B'!D87","v":false},{"$f":"'Client B'!E87","v":0},{"$f":"'Client B'!F87","v":0},{"$f":"'Client B'!G87","v":0},{"$f":"'Client B'!H87","v":0},{"$f":"'Client B'!K87","v":0}]
[{"$f":"'Client B'!A88","v":"00:00:00"},{"$f":"'Client B'!B88","v":0},{"$f":"'Client B'!C88","v":0},{"$f":"'Client B'!D88","v":false},{"$f":"'Client B'!E88","v":0},{"$f":"'Client B'!F88","v":0},{"$f":"'Client B'!G88","v":0},{"$f":"'Client B'!H88","v":0},{"$f":"'Client B'!K88","v":0}]
[{"$f":"'Client B'!A89","v":"00:00:00"},{"$f":"'Client B'!B89","v":0},{"$f":"'Client B'!C89","v":0},{"$f":"'Client B'!D89","v":false},{"$f":"'Client B'!E89","v":0},{"$f":"'Client B'!F89","v":0},{"$f":"'Client B'!G89","v":0},{"$f":"'Client B'!H89","v":0},{"$f":"'Client B'!K89","v":0}]
[{"$f":"'Client B'!A90","v":"00:00:00"},{"$f":"'Client B'!B90","v":0},{"$f":"'Client B'!C90","v":0},{"$f":"'Client B'!D90","v":false},{"$f":"'Client B'!E90","v":0},{"$f":"'Client B'!F90","v":0},{"$f":"'Client B'!G90","v":0},{"$f":"'Client B'!H90","v":0},{"$f":"'Client B'!K90","v":0}]
[{"$f":"'Client B'!A91","v":"00:00:00"},{"$f":"'Client B'!B91","v":0},{"$f":"'Client B'!C91","v":0},{"$f":"'Client B'!D91","v":false},{"$f":"'Client B'!E91","v":0},{"$f":"'Client B'!F91","v":0},{"$f":"'Client B'!G91","v":0},{"$f":"'Client B'!H91","v":0},{"$f":"'Client B'!K91","v":0}]
[{"$f":"'Client B'!A92","v":"00:00:00"},{"$f":"'Client B'!B92","v":0},{"$f":"'Client B'!C92","v":0},{"$f":"'Client B'!D92","v":false},{"$f":"'Client B'!E92","v":0},{"$f":"'Client B'!F92","v":0},{"$f":"'Client B'!G92","v":0},{"$f":"'Client B'!H92","v":0},{"$f":"'Client B'!K92","v":0}]
[{"$f":"'Client B'!A93","v":"00:00:00"},{"$f":"'Client B'!B93","v":0},{"$f":"'Client B'!C93","v":0},{"$f":"'Client B'!D93","v":false},{"$f":"'Client B'!E93","v":0},{"$f":"'Client B'!F93","v":0},{"$f":"'Client B'!G93","v":0},{"$f":"'Client B'!H93","v":0},{"$f":"'Client B'!K93","v":0}]
[{"$f":"'Client B'!A94","v":"00:00:00"},{"$f":"'Client B'!B94","v":0},{"$f":"'Client B'!C94","v":0},{"$f":"'Client B'!D94","v":false},{"$f":"'Client B'!E94","v":0},{"$f":"'Client B'!F94","v":0},{"$f":"'Client B'!G94","v":0},{"$f":"'Client B'!H94","v":0},{"$f":"'Client B'!K94","v":0}]
[{"$f":"'Client B'!A95","v":"00:00:00"},{"$f":"'Client B'!B95","v":0},{"$f":"'Client B'!C95","v":0},{"$f":"'Client B'!D95","v":false},{"$f":"'Client B'!E95","v":0},{"$f":"'Client B'!F95","v":0},{"$f":"'Client B'!G95","v":0},{"$f":"'Client B'!H95","v":0},{"$f":"'Client B'!K95","v":0}]
[{"$f":"'Client B'!A96","v":"00:00:00"},{"$f":"'Client B'!B96","v":0},{"$f":"'Client B'!C96","v":0},{"$f":"'Client B'!D96","v":false},{"$f":"'Client B'!E96","v":0},{"$f":"'Client B'!F96","v":0},{"$f":"'Client B'!G96","v":0},{"$f":"'Client B'!H96","v":0},{"$f":"'Client B'!K96","v":0}]
[{"$f":"'Client B'!A97","v":"00:00:00"},{"$f":"'Client B'!B97","v":0},{"$f":"'Client B'!C97","v":0},{"$f":"'Client B'!D97","v":false},{"$f":"'Client B'!E97","v":0},{"$f":"'Client B'!F97","v":0},{"$f":"'Client B'!G97","v":0},{"$f":"'Client B'!H97","v":0},{"$f":"'Client B'!K97","v":0}]
[{"$f":"'Client B'!A98","v":"00:00:00"},{"$f":"'Client B'!B98","v":0},{"$f":"'Client B'!C98","v":0},{"$f":"'Client B'!D98","v":false},{"$f":"'Client B'!E98","v":0},{"$f":"'Client B'!F98","v":0},{"$f":"'Client B'!G98","v":0},{"$f":"'Client B'!H98","v":0},{"$f":"'Client B'!K98","v":0}]
[{"$f":"'Client B'!A99","v":"00:00:00"},{"$f":"'Client B'!B99","v":0},{"$f":"'Client B'!C99","v":0},{"$f":"'Client B'!D99","v":false},{"$f":"'Client B'!E99","v":0},{"$f":"'Client B'!F99","v":0},{"$f":"'Client B'!G99","v":0},{"$f":"'Client B'!H99","v":0},{"$f":"'Client B'!K99","v":0}]
[{"$f":"'Client B'!A100","v":"00:00:00"},{"$f":"'Client B'!B100","v":0},{"$f":"'Client B'!C100","v":0},{"$f":"'Client B'!D100","v":false},{"$f":"'Client B'!E100","v":0},{"$f":"'Client B'!F100","v":0},{"$f":"'Client B'!G100","v":0},{"$f":"'Client B'!H100","v":0},{"$f":"'Client B'!K100","v":0}]
[{"$f":"'Client B'!A101","v":"00:00:00"},{"$f":"'Client B'!B101","v":0},{"$f":"'Client B'!C101","v":0},{"$f":"'Client B'!D101","v":false},{"$f":"'Client B'!E101","v":0},{"$f":"'Client B'!F101","v":0},{"$f":"'Client B'!G101","v":0},{"$f":"'Client B'!H101","v":0},{"$f":"'Client B'!K101","v":0}]
[{"$f":"'Client B'!A102","v":"00:00:00"},{"$f":"'Client B'!B102","v":0},{"$f":"'Client B'!C102","v":0},{"$f":"'Client B'!D102","v":false},{"$f":"'Client B'!E102","v":0},{"$f":"'Client B'!F102","v":0},{"$f":"'Client B'!G102","v":0},{"$f":"'Client B'!H102","v":0},{"$f":"'Client B'!K102","v":0}]
[{"$f":"'Client B'!A103","v":"00:00:00"},{"$f":"'Client B'!B103","v":0},{"$f":"'Client B'!C103","v":0},{"$f":"'Client B'!D103","v":false},{"$f":"'Client B'!E103","v":0},{"$f":"'Client B'!F103","v":0},{"$f":"'Client B'!G103","v":0},{"$f":"'Client B'!H103","v":0},{"$f":"'Client B'!K103","v":0}]
[{"$f":"'Client B'!A104","v":"00:00:00"},{"$f":"'Client B'!B104","v":0},{"$f":"'Client B'!C104","v":0},{"$f":"'Client B'!D104","v":false},{"$f":"'Client B'!E104","v":0},{"$f":"'Client B'!F104","v":0},{"$f":"'Client B'!G104","v":0},{"$f":"'Client B'!H104","v":0},{"$f":"'Client B'!K104","v":0}]
[{"$f":"'Client B'!A105","v":"00:00:00"},{"$f":"'Client B'!B105","v":0},{"$f":"'Client B'!C105","v":0},{"$f":"'Client B'!D105","v":false},{"$f":"'Client B'!E105","v":0},{"$f":"'Client B'!F105","v":0},{"$f":"'Client B'!G105","v":0},{"$f":"'Client B'!H105","v":0},{"$f":"'Client B'!K105","v":0}]
[{"$f":"'Client B'!A106","v":"00:00:00"},{"$f":"'Client B'!B106","v":0},{"$f":"'Client B'!C106","v":0},{"$f":"'Client B'!D106","v":false},{"$f":"'Client B'!E106","v":0},{"$f":"'Client B'!F106","v":0},{"$f":"'Client B'!G106","v":0},{"$f":"'Client B'!H106","v":0},{"$f":"'Client B'!K106","v":0}]
[{"$f":"'Client B'!A107","v":"00:00:00"},{"$f":"'Client B'!B107","v":0},{"$f":"'Client B'!C107","v":0},{"$f":"'Client B'!D107","v":false},{"$f":"'Client B'!E107","v":0},{"$f":"'Client B'!F107","v":0},{"$f":"'Client B'!G107","v":0},{"$f":"'Client B'!H107","v":0},{"$f":"'Client B'!K107","v":0}]
[{"$f":"'Client B'!A108","v":"00:00:00"},{"$f":"'Client B'!B108","v":0},{"$f":"'Client B'!C108","v":0},{"$f":"'Client B'!D108","v":false},{"$f":"'Client B'!E108","v":0},{"$f":"'Client B'!F108","v":0},{"$f":"'Client B'!G108","v":0},{"$f":"'Client B'!H108","v":0},{"$f":"'Client B'!K108","v":0}]
[{"$f":"'Client B'!A109","v":"00:00:00"},{"$f":"'Client B'!B109","v":0},{"$f":"'Client B'!C109","v":0},{"$f":"'Client B'!D109","v":false},{"$f":"'Client B'!E109","v":0},{"$f":"'Client B'!F109","v":0},{"$f":"'Client B'!G109","v":0},{"$f":"'Client B'!H109","v":0},{"$f":"'Client B'!K109","v":0}]
[{"$f":"'Client B'!A110","v":"00:00:00"},{"$f":"'Client B'!B110","v":0},{"$f":"'Client B'!C110","v":0},{"$f":"'Client B'!D110","v":false},{"$f":"'Client B'!E110","v":0},{"$f":"'Client B'!F110","v":0},{"$f":"'Client B'!G110","v":0},{"$f":"'Client B'!H110","v":0},{"$f":"'Client B'!K110","v":0}]
[{"$f":"'Client B'!A111","v":"00:00:00"},{"$f":"'Client B'!B111","v":0},{"$f":"'Client B'!C111","v":0},{"$f":"'Client B'!D111","v":false},{"$f":"'Client B'!E111","v":0},{"$f":"'Client B'!F111","v":0},{"$f":"'Client B'!G111","v":0},{"$f":"'Client B'!H111","v":0},{"$f":"'Client B'!K111","v":0}]
[{"$f":"'Client B'!A112","v":"00:00:00"},{"$f":"'Client B'!B112","v":0},{"$f":"'Client B'!C112","v":0},{"$f":"'Client B'!D112","v":false},{"$f":"'Client B'!E112","v":0},{"$f":"'Client B'!F112","v":0},{"$f":"'Client B'!G112","v":0},{"$f":"'Client B'!H112","v":0},{"$f":"'Client B'!K112","v":0}]
[{"$f":"'Client B'!A113","v":"00:00:00"},{"$f":"'Client B'!B113","v":0},{"$f":"'Client B'!C113","v":0},{"$f":"'Client B'!D113","v":false},{"$f":"'Client B'!E113","v":0},{"$f":"'Client B'!F113","v":0},{"$f":"'Client B'!G113","v":0},{"$f":"'Client B'!H113","v":0},{"$f":"'Client B'!K113","v":0}]
[{"$f":"'Client B'!A114","v":"00:00:00"},{"$f":"'Client B'!B114","v":0},{"$f":"'Client B'!C114","v":0},{"$f":"'Client B'!D114","v":false},{"$f":"'Client B'!E114","v":0},{"$f":"'Client B'!F114","v":0},{"$f":"'Client B'!G114","v":0},{"$f":"'Client B'!H114","v":0},{"$f":"'Client B'!K114","v":0}]
[{"$f":"'Client B'!A115","v":"00:00:00"},{"$f":"'Client B'!B115","v":0},{"$f":"'Client B'!C115","v":0},{"$f":"'Client B'!D115","v":false},{"$f":"'Client B'!E115","v":0},{"$f":"'Client B'!F115","v":0},{"$f":"'Client B'!G115","v":0},{"$f":"'Client B'!H115","v":0},{"$f":"'Client B'!K115","v":0}]
[{"$f":"'Client B'!A116","v":"00:00:00"},{"$f":"'Client B'!B116","v":0},{"$f":"'Client B'!C116","v":0},{"$f":"'Client B'!D116","v":false},{"$f":"'Client B'!E116","v":0},{"$f":"'Client B'!F116","v":0},{"$f":"'Client B'!G116","v":0},{"$f":"'Client B'!H116","v":0},{"$f":"'Client B'!K116","v":0}]
[{"$f":"'Client B'!A117","v":"00:00:00"},{"$f":"'Client B'!B117","v":0},{"$f":"'Client B'!C117","v":0},{"$f":"'Client B'!D117","v":false},{"$f":"'Client B'!E117","v":0},{"$f":"'Client B'!F117","v":0},{"$f":"'Client B'!G117","v":0},{"$f":"'Client B'!H117","v":0},{"$f":"'Client B'!K117","v":0}]
[{"$f":"'Client B'!A118","v":"00:00:00"},{"$f":"'Client B'!B118","v":0},{"$f":"'Client B'!C118","v":0},{"$f":"'Client B'!D118","v":false},{"$f":"'Client B'!E118","v":0},{"$f":"'Client B'!F118","v":0},{"$f":"'Client B'!G118","v":0},{"$f":"'Client B'!H118","v":0},{"$f":"'Client B'!K118","v":0}]
[{"$f":"'Client B'!A119","v":"00:00:00"},{"$f":"'Client B'!B119","v":0},{"$f":"'Client B'!C119","v":0},{"$f":"'Client B'!D119","v":false},{"$f":"'Client B'!E119","v":0},{"$f":"'Client B'!F119","v":0},{"$f":"'Client B'!G119","v":0},{"$f":"'Client B'!H119","v":0},{"$f":"'Client B'!K119","v":0}]
[{"$f":"'Client B'!A120","v":"00:00:00"},{"$f":"'Client B'!B120","v":0},{"$f":"'Client B'!C120","v":0},{"$f":"'Client B'!D120","v":false},{"$f":"'Client B'!E120","v":0},{"$f":"'Client B'!F120","v":0},{"$f":"'Client B'!G120","v":0},{"$f":"'Client B'!H120","v":0},{"$f":"'Client B'!K120","v":0}]
[{"$f":"'Client B'!A121","v":"00:00:00"},{"$f":"'Client B'!B121","v":0},{"$f":"'Client B'!C121","v":0},{"$f":"'Client B'!D121","v":false},{"$f":"'Client B'!E121","v":0},{"$f":"'Client B'!F121","v":0},{"$f":"'Client B'!G121","v":0},{"$f":"'Client B'!H121","v":0},{"$f":"'Client B'!K121","v":0}]
[{"$f":"'Client B'!A122","v":"00:00:00"},{"$f":"'Client B'!B122","v":0},{"$f":"'Client B'!C122","v":0},{"$f":"'Client B'!D122","v":false},{"$f":"'Client B'!E122","v":0},{"$f":"'Client B'!F122","v":0},{"$f":"'Client B'!G122","v":0},{"$f":"'Client B'!H122","v":0},{"$f":"'Client B'!K122","v":0}]
[{"$f":"'Client B'!A123","v":"00:00:00"},{"$f":"'Client B'!B123","v":0},{"$f":"'Client B'!C123","v":0},{"$f":"'Client B'!D123","v":false},{"$f":"'Client B'!E123","v":0},{"$f":"'Client B'!F123","v":0},{"$f":"'Client B'!G123","v":0},{"$f":"'Client B'!H123","v":0},{"$f":"'Client B'!K123","v":0}]
[{"$f":"'Client B'!A124","v":"00:00:00"},{"$f":"'Client B'!B124","v":0},{"$f":"'Client B'!C124","v":0},{"$f":"'Client B'!D124","v":false},{"$f":"'Client B'!E124","v":0},{"$f":"'Client B'!F124","v":0},{"$f":"'Client B'!G124","v":0},{"$f":"'Client B'!H124","v":0},{"$f":"'Client B'!K124","v":0}]
[{"$f":"'Client B'!A125","v":"00:00:00"},{"$f":"'Client B'!B125","v":0},{"$f":"'Client B'!C125","v":0},{"$f":"'Client B'!D125","v":false},{"$f":"'Client B'!E125","v":0},{"$f":"'Client B'!F125","v":0},{"$f":"'Client B'!G125","v":0},{"$f":"'Client B'!H125","v":0},{"$f":"'Client B'!K125","v":0}]
[{"$f":"'Client B'!A126","v":"00:00:00"},{"$f":"'Client B'!B126","v":0},{"$f":"'Client B'!C126","v":0},{"$f":"'Client B'!D126","v":false},{"$f":"'Client B'!E126","v":0},{"$f":"'Client B'!F126","v":0},{"$f":"'Client B'!G126","v":0},{"$f":"'Client B'!H126","v":0},{"$f":"'Client B'!K126","v":0}]
[{"$f":"'Client B'!A127","v":"00:00:00"},{"$f":"'Client B'!B127","v":0},{"$f":"'Client B'!C127","v":0},{"$f":"'Client B'!D127","v":false},{"$f":"'Client B'!E127","v":0},{"$f":"'Client B'!F127","v":0},{"$f":"'Client B'!G127","v":0},{"$f":"'Client B'!H127","v":0},{"$f":"'Client B'!K127","v":0}]
[{"$f":"'Client B'!A128","v":"00:00:00"},{"$f":"'Client B'!B128","v":0},{"$f":"'Client B'!C128","v":0},{"$f":"'Client B'!D128","v":false},{"$f":"'Client B'!E128","v":0},{"$f":"'Client B'!F128","v":0},{"$f":"'Client B'!G128","v":0},{"$f":"'Client B'!H128","v":0},{"$f":"'Client B'!K128","v":0}]
[{"$f":"'Client B'!A129","v":"00:00:00"},{"$f":"'Client B'!B129","v":0},{"$f":"'Client B'!C129","v":0},{"$f":"'Client B'!D129","v":false},{"$f":"'Client B'!E129","v":0},{"$f":"'Client B'!F129","v":0},{"$f":"'Client B'!G129","v":0},{"$f":"'Client B'!H129","v":0},{"$f":"'Client B'!K129","v":0}]
[{"$f":"'Client B'!A130","v":"00:00:00"},{"$f":"'Client B'!B130","v":0},{"$f":"'Client B'!C130","v":0},{"$f":"'Client B'!D130","v":false},{"$f":"'Client B'!E130","v":0},{"$f":"'Client B'!F130","v":0},{"$f":"'Client B'!G130","v":0},{"$f":"'Client B'!H130","v":0},{"$f":"'Client B'!K130","v":0}]
[{"$f":"'Client B'!A131","v":"00:00:00"},{"$f":"'Client B'!B131","v":0},{"$f":"'Client B'!C131","v":0},{"$f":"'Client B'!D131","v":false},{"$f":"'Client B'!E131","v":0},{"$f":"'Client B'!F131","v":0},{"$f":"'Client B'!G131","v":0},{"$f":"'Client B'!H131","v":0},{"$f":"'Client B'!K131","v":0}]
[{"$f":"'Client B'!A132","v":"00:00:00"},{"$f":"'Client B'!B132","v":0},{"$f":"'Client B'!C132","v":0},{"$f":"'Client B'!D132","v":false},{"$f":"'Client B'!E132","v":0},{"$f":"'Client B'!F132","v":0},{"$f":"'Client B'!G132","v":0},{"$f":"'Client B'!H132","v":0},{"$f":"'Client B'!K132","v":0}]
[{"$f":"'Client B'!A133","v":"00:00:00"},{"$f":"'Client B'!B133","v":0},{"$f":"'Client B'!C133","v":0},{"$f":"'Client B'!D133","v":false},{"$f":"'Client B'!E133","v":0},{"$f":"'Client B'!F133","v":0},{"$f":"'Client B'!G133","v":0},{"$f":"'Client B'!H133","v":0},{"$f":"'Client B'!K133","v":0}]
[{"$f":"'Client B'!A134","v":"00:00:00"},{"$f":"'Client B'!B134","v":0},{"$f":"'Client B'!C134","v":0},{"$f":"'Client B'!D134","v":false},{"$f":"'Client B'!E134","v":0},{"$f":"'Client B'!F134","v":0},{"$f":"'Client B'!G134","v":0},{"$f":"'Client B'!H134","v":0},{"$f":"'Client B'!K134","v":0}]
[{"$f":"'Client B'!A135","v":"00:00:00"},{"$f":"'Client B'!B135","v":0},{"$f":"'Client B'!C135","v":0},{"$f":"'Client B'!D135","v":false},{"$f":"'Client B'!E135","v":0},{"$f":"'Client B'!F135","v":0},{"$f":"'Client B'!G135","v":0},{"$f":"'Client B'!H135","v":0},{"$f":"'Client B'!K135","v":0}]
[{"$f":"'Client B'!A136","v":"00:00:00"},{"$f":"'Client B'!B136","v":0},{"$f":"'Client B'!C136","v":0},{"$f":"'Client B'!D136","v":false},{"$f":"'Client B'!E136","v":0},{"$f":"'Client B'!F136","v":0},{"$f":"'Client B'!G136","v":0},{"$f":"'Client B'!H136","v":0},{"$f":"'Client B'!K136","v":0}]
[{"$f":"'Client B'!A137","v":"00:00:00"},{"$f":"'Client B'!B137","v":0},{"$f":"'Client B'!C137","v":0},{"$f":"'Client B'!D137","v":false},{"$f":"'Client B'!E137","v":0},{"$f":"'Client B'!F137","v":0},{"$f":"'Client B'!G137","v":0},{"$f":"'Client B'!H137","v":0},{"$f":"'Client B'!K137","v":0}]
[{"$f":"'Client B'!A138","v":"00:00:00"},{"$f":"'Client B'!B138","v":0},{"$f":"'Client B'!C138","v":0},{"$f":"'Client B'!D138","v":false},{"$f":"'Client B'!E138","v":0},{"$f":"'Client B'!F138","v":0},{"$f":"'Client B'!G138","v":0},{"$f":"'Client B'!H138","v":0},{"$f":"'Client B'!K138","v":0}]
[{"$f":"'Client B'!A139","v":"00:00:00"},{"$f":"'Client B'!B139","v":0},{"$f":"'Client B'!C139","v":0},{"$f":"'Client B'!D139","v":false},{"$f":"'Client B'!E139","v":0},{"$f":"'Client B'!F139","v":0},{"$f":"'Client B'!G139","v":0},{"$f":"'Client B'!H139","v":0},{"$f":"'Client B'!K139","v":0}]
[{"$f":"'Client B'!A140","v":"00:00:00"},{"$f":"'Client B'!B140","v":0},{"$f":"'Client B'!C140","v":0},{"$f":"'Client B'!D140","v":false},{"$f":"'Client B'!E140","v":0},{"$f":"'Client B'!F140","v":0},{"$f":"'Client B'!G140","v":0},{"$f":"'Client B'!H140","v":0},{"$f":"'Client B'!K140","v":0}]
[{"$f":"'Client B'!A141","v":"00:00:00"},{"$f":"'Client B'!B141","v":0},{"$f":"'Client B'!C141","v":0},{"$f":"'Client B'!D141","v":false},{"$f":"'Client B'!E141","v":0},{"$f":"'Client B'!F141","v":0},{"$f":"'Client B'!G141","v":0},{"$f":"'Client B'!H141","v":0},{"$f":"'Client B'!K141","v":0}]
[{"$f":"'Client B'!A142","v":"00:00:00"},{"$f":"'Client B'!B142","v":0},{"$f":"'Client B'!C142","v":0},{"$f":"'Client B'!D142","v":false},{"$f":"'Client B'!E142","v":0},{"$f":"'Client B'!F142","v":0},{"$f":"'Client B'!G142","v":0},{"$f":"'Client B'!H142","v":0},{"$f":"'Client B'!K142","v":0}]
[{"$f":"'Client B'!A143","v":"00:00:00"},{"$f":"'Client B'!B143","v":0},{"$f":"'Client B'!C143","v":0},{"$f":"'Client B'!D143","v":false},{"$f":"'Client B'!E143","v":0},{"$f":"'Client B'!F143","v":0},{"$f":"'Client B'!G143","v":0},{"$f":"'Client B'!H143","v":0},{"$f":"'Client B'!K143","v":0}]
[{"$f":"'Client B'!A144","v":"00:00:00"},{"$f":"'Client B'!B144","v":0},{"$f":"'Client B'!C144","v":0},{"$f":"'Client B'!D144","v":false},{"$f":"'Client B'!E144","v":0},{"$f":"'Client B'!F144","v":0},{"$f":"'Client B'!G144","v":0},{"$f":"'Client B'!H144","v":0},{"$f":"'Client B'!K144","v":0}]
[{"$f":"'Client B'!A145","v":"00:00:00"},{"$f":"'Client B'!B145","v":0},{"$f":"'Client B'!C145","v":0},{"$f":"'Client B'!D145","v":false},{"$f":"'Client B'!E145","v":0},{"$f":"'Client B'!F145","v":0},{"$f":"'Client B'!G145","v":0},{"$f":"'Client B'!H145","v":0},{"$f":"'Client B'!K145","v":0}]
[{"$f":"'Client B'!A146","v":"00:00:00"},{"$f":"'Client B'!B146","v":0},{"$f":"'Client B'!C146","v":0},{"$f":"'Client B'!D146","v":false},{"$f":"'Client B'!E146","v":0},{"$f":"'Client B'!F146","v":0},{"$f":"'Client B'!G146","v":0},{"$f":"'Client B'!H146","v":0},{"$f":"'Client B'!K146","v":0}]
[{"$f":"'Client B'!A147","v":"00:00:00"},{"$f":"'Client B'!B147","v":0},{"$f":"'Client B'!C147","v":0},{"$f":"'Client B'!D147","v":false},{"$f":"'Client B'!E147","v":0},{"$f":"'Client B'!F147","v":0},{"$f":"'Client B'!G147","v":0},{"$f":"'Client B'!H147","v":0},{"$f":"'Client B'!K147","v":0}]
[{"$f":"'Client B'!A148","v":"00:00:00"},{"$f":"'Client B'!B148","v":0},{"$f":"'Client B'!C148","v":0},{"$f":"'Client B'!D148","v":false},{"$f":"'Client B'!E148","v":0},{"$f":"'Client B'!F148","v":0},{"$f":"'Client B'!G148","v":0},{"$f":"'Client B'!H148","v":0},{"$f":"'Client B'!K148","v":0}]
[{"$f":"'Client B'!A149","v":"00:00:00"},{"$f":"'Client B'!B149","v":0},{"$f":"'Client B'!C149","v":0},{"$f":"'Client B'!D149","v":false},{"$f":"'Client B'!E149","v":0},{"$f":"'Client B'!F149","v":0},{"$f":"'Client B'!G149","v":0},{"$f":"'Client B'!H149","v":0},{"$f":"'Client B'!K149","v":0}]
[{"$f":"'Client B'!A150","v":"00:00:00"},{"$f":"'Client B'!B150","v":0},{"$f":"'Client B'!C150","v":0},{"$f":"'Client B'!D150","v":false},{"$f":"'Client B'!E150","v":0},{"$f":"'Client B'!F150","v":0},{"$f":"'Client B'!G150","v":0},{"$f":"'Client B'!H150","v":0},{"$f":"'Client B'!K150","v":0}]
[{"$f":"'Client B'!A151","v":"00:00:00"},{"$f":"'Client B'!B151","v":0},{"$f":"'Client B'!C151","v":0},{"$f":"'Client B'!D151","v":false},{"$f":"'Client B'!E151","v":0},{"$f":"'Client B'!F151","v":0},{"$f":"'Client B'!G151","v":0},{"$f":"'Client B'!H151","v":0},{"$f":"'Client B'!K151","v":0}]
[{"$f":"'Client B'!A152","v":"00:00:00"},{"$f":"'Client B'!B152","v":0},{"$f":"'Client B'!C152","v":0},{"$f":"'Client B'!D152","v":false},{"$f":"'Client B'!E152","v":0},{"$f":"'Client B'!F152","v":0},{"$f":"'Client B'!G152","v":0},{"$f":"'Client B'!H152","v":0},{"$f":"'Client B'!K152","v":0}]
[{"$f":"'Client B'!A153","v":"00:00:00"},{"$f":"'Client B'!B153","v":0},{"$f":"'Client B'!C153","v":0},{"$f":"'Client B'!D153","v":false},{"$f":"'Client B'!E153","v":0},{"$f":"'Client B'!F153","v":0},{"$f":"'Client B'!G153","v":0},{"$f":"'Client B'!H153","v":0},{"$f":"'Client B'!K153","v":0}]
[{"$f":"'Client B'!A154","v":"00:00:00"},{"$f":"'Client B'!B154","v":0},{"$f":"'Client B'!C154","v":0},{"$f":"'Client B'!D154","v":false},{"$f":"'Client B'!E154","v":0},{"$f":"'Client B'!F154","v":0},{"$f":"'Client B'!G154","v":0},{"$f":"'Client B'!H154","v":0},{"$f":"'Client B'!K154","v":0}]
[{"$f":"'Hourly rate'!A7","v":"00:00:00"},{"$f":"'Hourly rate'!B7","v":0},"n/a",{"$f":"'Hourly rate'!$B$3","v":0},"n/a","n/a",{"$f":"'Hourly rate'!D7","v":0},"n/a",{"$f":"'Hourly rate'!E7","v":0}]
[{"$f":"'Hourly rate'!A8","v":"00:00:00"},{"$f":"'Hourly rate'!B8","v":0},"n/a",{"$f":"'Hourly rate'!$B$3","v":0},"n/a","n/a",{"$f":"'Hourly rate'!D8","v":0},"n/a",{"$f":"'Hourly rate'!E8","v":0}]
[{"$f":"'Hourly rate'!A9","v":"00:00:00"},{"$f":"'Hourly rate'!B9","v":0},"n/a",{"$f":"'Hourly rate'!$B$3","v":0},"n/a","n/a",{"$f":"'Hourly rate'!D9","v":0},"n/a",{"$f":"'Hourly rate'!E9","v":0}]
[{"$f":"'Hourly rate'!A10","v":"00:00:00"},{"$f":"'Hourly rate'!B10","v":0},"n/a",{"$f":"'Hourly rate'!$B$3","v":0},"n/a","n/a",{"$f":"'Hourly rate'!D10","v":0},"n/a",{"$f":"'Hourly rate'!E10","v":0}]
[{"$f":"'Hourly rate'!A11","v":"00:00:00"},{"$f":"'Hourly rate'!B11","v":0},"n/a",{"$f":"'Hourly rate'!$B$3","v":0},"n/a","n/a",{"$f":"'Hourly rate'!D11","v":0},"n/a",{"$f":"'Hourly rate'!E11","v":0}]
[{"$f":"'Hourly rate'!A12","v":"00:00:00"},{"$f":"'Hourly rate'!B12","v":0},"n/a",{"$f":"'Hourly rate'!$B$3","v":0},"n/a","n/a",{"$f":"'Hourly rate'!D12","v":0},"n/a",{"$f":"'Hourly rate'!E12","v":0}]
[{"$f":"'Hourly rate'!A13","v":"00:00:00"},{"$f":"'Hourly rate'!B13","v":0},"n/a",{"$f":"'Hourly rate'!$B$3","v":0},"n/a","n/a",{"$f":"'Hourly rate'!D13","v":0},"n/a",{"$f":"'Hourly rate'!E13","v":0}]
[{"$f":"'Hourly rate'!A14","v":"00:00:00"},{"$f":"'Hourly rate'!B14","v":0},"n/a",{"$f":"'Hourly rate'!$B$3","v":0},"n/a","n/a",{"$f":"'Hourly rate'!D14","v":0},"n/a",{"$f":"'Hourly rate'!E14","v":0}]
[{"$f":"'Hourly rate'!A15","v":"00:00:00"},{"$f":"'Hourly rate'!B15","v":0},"n/a",{"$f":"'Hourly rate'!$B$3","v":0},"n/a","n/a",{"$f":"'Hourly rate'!D15","v":0},"n/a",{"$f":"'Hourly rate'!E15","v":0}]
[{"$f":"'Hourly rate'!A16","v":"00:00:00"},{"$f":"'Hourly rate'!B16","v":0},"n/a",{"$f":"'Hourly rate'!$B$3","v":0},"n/a","n/a",{"$f":"'Hourly rate'!D16","v":0},"n/a",{"$f":"'Hourly rate'!E16","v":0}]
[{"$f":"'Hourly rate'!A17","v":"00:00:00"},{"$f":"'Hourly rate'!B17","v":0},"n/a",{"$f":"'Hourly rate'!$B$3","v":0},"n/a","n/a",{"$f":"'Hourly rate'!D17","v":0},"n/a",{"$f":"'Hourly rate'!E17","v":0}]
[{"$f":"'Hourly rate'!A18","v":"00:00:00"},{"$f":"'Hourly rate'!B18","v":0},"n/a",{"$f":"'Hourly rate'!$B$3","v":0},"n/a","n/a",{"$f":"'Hourly rate'!D18","v":0},"n/a",{"$f":"'Hourly rate'!E18","v":0}]
[{"$f":"'Hourly rate'!A19","v":"00:00:00"},{"$f":"'Hourly rate'!B19","v":0},"n/a",{"$f":"'Hourly rate'!$B$3","v":0},"n/a","n/a",{"$f":"'Hourly rate'!D19","v":0},"n/a",{"$f":"'Hourly rate'!E19","v":0}]
[{"$f":"'Hourly rate'!A20","v":"00:00:00"},{"$f":"'Hourly rate'!B20","v":0},"n/a",{"$f":"'Hourly rate'!$B$3","v":0},"n/a","n/a",{"$f":"'Hourly rate'!D20","v":0},"n/a",{"$f":"'Hourly rate'!E20","v":0}]
[{"$f":"'Hourly rate'!A21","v":"00:00:00"},{"$f":"'Hourly rate'!B21","v":0},"n/a",{"$f":"'Hourly rate'!$B$3","v":0},"n/a","n/a",{"$f":"'Hourly rate'!D21","v":0},"n/a",{"$f":"'Hourly rate'!E21","v":0}]
[{"$f":"'Hourly rate'!A22","v":"00:00:00"},{"$f":"'Hourly rate'!B22","v":0},"n/a",{"$f":"'Hourly rate'!$B$3","v":0},"n/a","n/a",{"$f":"'Hourly rate'!D22","v":0},"n/a",{"$f":"'Hourly rate'!E22","v":0}]
[{"$f":"'Hourly rate'!A23","v":"00:00:00"},{"$f":"'Hourly rate'!B23","v":0},"n/a",{"$f":"'Hourly rate'!$B$3","v":0},"n/a","n/a",{"$f":"'Hourly rate'!D23","v":0},"n/a",{"$f":"'Hourly rate'!E23","v":0}]
[{"$f":"'Hourly rate'!A24","v":"00:00:00"},{"$f":"'Hourly rate'!B24","v":0},"n/a",{"$f":"'Hourly rate'!$B$3","v":0},"n/a","n/a",{"$f":"'Hourly rate'!D24","v":0},"n/a",{"$f":"'Hourly rate'!E24","v":0}]
[{"$f":"'Hourly rate'!A25","v":"00:00:00"},{"$f":"'Hourly rate'!B25","v":0},"n/a",{"$f":"'Hourly rate'!$B$3","v":0},"n/a","n/a",{"$f":"'Hourly rate'!D25","v":0},"n/a",{"$f":"'Hourly rate'!E25","v":0}]
[{"$f":"'Hourly rate'!A26","v":"00:00:00"},{"$f":"'Hourly rate'!B26","v":0},"n/a",{"$f":"'Hourly rate'!$B$3","v":0},"n/a","n/a",{"$f":"'Hourly rate'!D26","v":0},"n/a",{"$f":"'Hourly rate'!E26","v":0}]
[{"$f":"'Hourly rate'!A27","v":"00:00:00"},{"$f":"'Hourly rate'!B27","v":0},"n/a",{"$f":"'Hourly rate'!$B$3","v":0},"n/a","n/a",{"$f":"'Hourly rate'!D27","v":0},"n/a",{"$f":"'Hourly rate'!E27","v":0}]
[{"$f":"'Hourly rate'!A28","v":"00:00:00"},{"$f":"'Hourly rate'!B28","v":0},"n/a",{"$f":"'Hourly rate'!$B$3","v":0},"n/a","n/a",{"$f":"'Hourly rate'!D28","v":0},"n/a",{"$f":"'Hourly rate'!E28","v":0}]
[{"$f":"'Hourly rate'!A29","v":"00:00:00"},{"$f":"'Hourly rate'!B29","v":0},"n/a",{"$f":"'Hourly rate'!$B$3","v":0},"n/a","n/a",{"$f":"'Hourly rate'!D29","v":0},"n/a",{"$f":"'Hourly rate'!E29","v":0}]
[{"$f":"'Hourly rate'!A30","v":"00:00:00"},{"$f":"'Hourly rate'!B30","v":0},"n/a",{"$f":"'Hourly rate'!$B$3","v":0},"n/a","n/a",{"$f":"'Hourly rate'!D30","v":0},"n/a",{"$f":"'Hourly rate'!E30","v":0}]
[{"$f":"'Hourly rate'!A31","v":"00:00:00"},{"$f":"'Hourly rate'!B31","v":0},"n/a",{"$f":"'Hourly rate'!$B$3","v":0},"n/a","n/a",{"$f":"'Hourly rate'!D31","v":0},"n/a",{"$f":"'Hourly rate'!E31","v":0}]
[{"$f":"'Hourly rate'!A32","v":"00:00:00"},{"$f":"'Hourly rate'!B32","v":0},"n/a",{"$f":"'Hourly rate'!$B$3","v":0},"n/a","n/a",{"$f":"'Hourly rate'!D32","v":0},"n/a",{"$f":"'Hourly rate'!E32","v":0}]
[{"$f":"'Hourly rate'!A33","v":"00:00:00"},{"$f":"'Hourly rate'!B33","v":0},"n/a",{"$f":"'Hourly rate'!$B$3","v":0},"n/a","n/a",{"$f":"'Hourly rate'!D33","v":0},"n/a",{"$f":"'Hourly rate'!E33","v":0}]
[{"$f":"'Hourly rate'!A34","v":"00:00:00"},{"$f":"'Hourly rate'!B34","v":0},"n/a",{"$f":"'Hourly rate'!$B$3","v":0},"n/a","n/a",{"$f":"'Hourly rate'!D34","v":0},"n/a",{"$f":"'Hourly rate'!E34","v":0}]
[{"$f":"'Hourly rate'!A35","v":"00:00:00"},{"$f":"'Hourly rate'!B35","v":0},"n/a",{"$f":"'Hourly rate'!$B$3","v":0},"n/a","n/a",{"$f":"'Hourly rate'!D35","v":0},"n/a",{"$f":"'Hourly rate'!E35","v":0}]
[{"$f":"'Hourly rate'!A36","v":"00:00:00"},{"$f":"'Hourly rate'!B36","v":0},"n/a",{"$f":"'Hourly rate'!$B$3","v":0},"n/a","n/a",{"$f":"'Hourly rate'!D36","v":0},"n/a",{"$f":"'Hourly rate'!E36","v":0}]
[{"$f":"'Hourly rate'!A37","v":"00:00:00"},{"$f":"'Hourly rate'!B37","v":0},"n/a",{"$f":"'Hourly rate'!$B$3","v":0},"n/a","n/a",{"$f":"'Hourly rate'!D37","v":0},"n/a",{"$f":"'Hourly rate'!E37","v":0}]
[{"$f":"'Hourly rate'!A38","v":"00:00:00"},{"$f":"'Hourly rate'!B38","v":0},"n/a",{"$f":"'Hourly rate'!$B$3","v":0},"n/a","n/a",{"$f":"'Hourly rate'!D38","v":0},"n/a",{"$f":"'Hourly rate'!E38","v":0}]
[{"$f":"'Hourly rate'!A39","v":"00:00:00"},{"$f":"'Hourly rate'!B39","v":0},"n/a",{"$f":"'Hourly rate'!$B$3","v":0},"n/a","n/a",{"$f":"'Hourly rate'!D39","v":0},"n/a",{"$f":"'Hourly rate'!E39","v":0}]
[{"$f":"'Hourly rate'!A40","v":"00:00:00"},{"$f":"'Hourly rate'!B40","v":0},"n/a",{"$f":"'Hourly rate'!$B$3","v":0},"n/a","n/a",{"$f":"'Hourly rate'!D40","v":0},"n/a",{"$f":"'Hourly rate'!E40","v":0}]
[{"$f":"'Hourly rate'!A41","v":"00:00:00"},{"$f":"'Hourly rate'!B41","v":0},"n/a",{"$f":"'Hourly rate'!$B$3","v":0},"n/a","n/a",{"$f":"'Hourly rate'!D41","v":0},"n/a",{"$f":"'Hourly rate'!E41","v":0}]
[{"$f":"'Hourly rate'!A42","v":"00:00:00"},{"$f":"'Hourly rate'!B42","v":0},"n/a",{"$f":"'Hourly rate'!$B$3","v":0},"n/a","n/a",{"$f":"'Hourly rate'!D42","v":0},"n/a",{"$f":"'Hourly rate'!E42","v":0}]
[{"$f":"'Hourly rate'!A43","v":"00:00:00"},{"$f":"'Hourly rate'!B43","v":0},"n/a",{"$f":"'Hourly rate'!$B$3","v":0},"n/a","n/a",{"$f":"'Hourly rate'!D43","v":0},"n/a",{"$f":"'Hourly rate'!E43","v":0}]
[{"$f":"'Hourly rate'!A44","v":"00:00:00"},{"$f":"'Hourly rate'!B44","v":0},"n/a",{"$f":"'Hourly rate'!$B$3","v":0},"n/a","n/a",{"$f":"'Hourly rate'!D44","v":0},"n/a",{"$f":"'Hourly rate'!E44","v":0}]
[{"$f":"'Hourly rate'!A45","v":"00:00:00"},{"$f":"'Hourly rate'!B45","v":0},"n/a",{"$f":"'Hourly rate'!$B$3","v":0},"n/a","n/a",{"$f":"'Hourly rate'!D45","v":0},"n/a",{"$f":"'Hourly rate'!E45","v":0}]
[{"$f":"'Hourly rate'!A46","v":"00:00:00"},{"$f":"'Hourly rate'!B46","v":0},"n/a",{"$f":"'Hourly rate'!$B$3","v":0},"n/a","n/a",{"$f":"'Hourly rate'!D46","v":0},"n/a",{"$f":"'Hourly rate'!E46","v":0}]
[{"$f":"'Hourly rate'!A47","v":"00:00:00"},{"$f":"'Hourly rate'!B47","v":0},"n/a",{"$f":"'Hourly rate'!$B$3","v":0},"n/a","n/a",{"$f":"'Hourly rate'!D47","v":0},"n/a",{"$f":"'Hourly rate'!E47","v":0}]
[{"$f":"'Hourly rate'!A48","v":"00:00:00"},{"$f":"'Hourly rate'!B48","v":0},"n/a",{"$f":"'Hourly rate'!$B$3","v":0},"n/a","n/a",{"$f":"'Hourly rate'!D48","v":0},"n/a",{"$f":"'Hourly rate'!E48","v":0}]
[{"$f":"'Hourly rate'!A49","v":"00:00:00"},{"$f":"'Hourly rate'!B49","v":0},"n/a",{"$f":"'Hourly rate'!$B$3","v":0},"n/a","n/a",{"$f":"'Hourly rate'!D49","v":0},"n/a",{"$f":"'Hourly rate'!E49","v":0}]
[{"$f":"'Hourly rate'!A50","v":"00:00:00"},{"$f":"'Hourly rate'!B50","v":0},"n/a",{"$f":"'Hourly rate'!$B$3","v":0},"n/a","n/a",{"$f":"'Hourly rate'!D50","v":0},"n/a",{"$f":"'Hourly rate'!E50","v":0}]
[{"$f":"'Hourly rate'!A51","v":"00:00:00"},{"$f":"'Hourly rate'!B51","v":0},"n/a",{"$f":"'Hourly rate'!$B$3","v":0},"n/a","n/a",{"$f":"'Hourly rate'!D51","v":0},"n/a",{"$f":"'Hourly rate'!E51","v":0}]
[{"$f":"'Hourly rate'!A52","v":"00:00:00"},{"$f":"'Hourly rate'!B52","v":0},"n/a",{"$f":"'Hourly rate'!$B$3","v":0},"n/a","n/a",{"$f":"'Hourly rate'!D52","v":0},"n/a",{"$f":"'Hourly rate'!E52","v":0}]
[{"$f":"'Hourly rate'!A53","v":"00:00:00"},{"$f":"'Hourly rate'!B53","v":0},"n/a",{"$f":"'Hourly rate'!$B$3","v":0},"n/a","n/a",{"$f":"'Hourly rate'!D53","v":0},"n/a",{"$f":"'Hourly rate'!E53","v":0}]
[{"$f":"'Hourly rate'!A54","v":"00:00:00"},{"$f":"'Hourly rate'!B54","v":0},"n/a",{"$f":"'Hourly rate'!$B$3","v":0},"n/a","n/a",{"$f":"'Hourly rate'!D54","v":0},"n/a",{"$f":"'Hourly rate'!E54","v":0}]
[{"$f":"'Hourly rate'!A55","v":"00:00:00"},{"$f":"'Hourly rate'!B55","v":0},"n/a",{"$f":"'Hourly rate'!$B$3","v":0},"n/a","n/a",{"$f":"'Hourly rate'!D55","v":0},"n/a",{"$f":"'Hourly rate'!E55","v":0}]
[{"$f":"'Hourly rate'!A56","v":"00:00:00"},{"$f":"'Hourly rate'!B56","v":0},"n/a",{"$f":"'Hourly rate'!$B$3","v":0},"n/a","n/a",{"$f":"'Hourly rate'!D56","v":0},"n/a",{"$f":"'Hourly rate'!E56","v":0}]
[{"$f":"'Hourly rate'!A57","v":"00:00:00"},{"$f":"'Hourly rate'!B57","v":0},"n/a",{"$f":"'Hourly rate'!$B$3","v":0},"n/a","n/a",{"$f":"'Hourly rate'!D57","v":0},"n/a",{"$f":"'Hourly rate'!E57","v":0}]
[{"$f":"'Hourly rate'!A58","v":"00:00:00"},{"$f":"'Hourly rate'!B58","v":0},"n/a",{"$f":"'Hourly rate'!$B$3","v":0},"n/a","n/a",{"$f":"'Hourly rate'!D58","v":0},"n/a",{"$f":"'Hourly rate'!E58","v":0}]
[{"$f":"'Hourly rate'!A59","v":"00:00:00"},{"$f":"'Hourly rate'!B59","v":0},"n/a",{"$f":"'Hourly rate'!$B$3","v":0},"n/a","n/a",{"$f":"'Hourly rate'!D59","v":0},"n/a",{"$f":"'Hourly rate'!E59","v":0}]
[{"$f":"'Hourly rate'!A60","v":"00:00:00"},{"$f":"'Hourly rate'!B60","v":0},"n/a",{"$f":"'Hourly rate'!$B$3","v":0},"n/a","n/a",{"$f":"'Hourly rate'!D60","v":0},"n/a",{"$f":"'Hourly rate'!E60","v":0}]
[{"$f":"'Hourly rate'!A61","v":"00:00:00"},{"$f":"'Hourly rate'!B61","v":0},"n/a",{"$f":"'Hourly rate'!$B$3","v":0},"n/a","n/a",{"$f":"'Hourly rate'!D61","v":0},"n/a",{"$f":"'Hourly rate'!E61","v":0}]
[{"$f":"'Hourly rate'!A62","v":"00:00:00"},{"$f":"'Hourly rate'!B62","v":0},"n/a",{"$f":"'Hourly rate'!$B$3","v":0},"n/a","n/a",{"$f":"'Hourly rate'!D62","v":0},"n/a",{"$f":"'Hourly rate'!E62","v":0}]
[{"$f":"'Hourly rate'!A63","v":"00:00:00"},{"$f":"'Hourly rate'!B63","v":0},"n/a",{"$f":"'Hourly rate'!$B$3","v":0},"n/a","n/a",{"$f":"'Hourly rate'!D63","v":0},"n/a",{"$f":"'Hourly rate'!E63","v":0}]
[{"$f":"'Hourly rate'!A64","v":"00:00:00"},{"$f":"'Hourly rate'!B64","v":0},"n/a",{"$f":"'Hourly rate'!$B$3","v":0},"n/a","n/a",{"$f":"'Hourly rate'!D64","v":0},"n/a",{"$f":"'Hourly rate'!E64","v":0}]
[{"$f":"'Hourly rate'!A65","v":"00:00:00"},{"$f":"'Hourly rate'!B65","v":0},"n/a",{"$f":"'Hourly rate'!$B$3","v":0},"n/a","n/a",{"$f":"'Hourly rate'!D65","v":0},"n/a",{"$f":"'Hourly rate'!E65","v":0}]
[{"$f":"'Hourly rate'!A66","v":"00:00:00"},{"$f":"'Hourly rate'!B66","v":0},"n/a",{"$f":"'Hourly rate'!$B$3","v":0},"n/a","n/a",{"$f":"'Hourly rate'!D66","v":0},"n/a",{"$f":"'Hourly rate'!E66","v":0}]
[{"$f":"'Hourly rate'!A67","v":"00:00:00"},{"$f":"'Hourly rate'!B67","v":0},"n/a",{"$f":"'Hourly rate'!$B$3","v":0},"n/a","n/a",{"$f":"'Hourly rate'!D67","v":0},"n/a",{"$f":"'Hourly rate'!E67","v":0}]
[{"$f":"'Hourly rate'!A68","v":"00:00:00"},{"$f":"'Hourly rate'!B68","v":0},"n/a",{"$f":"'Hourly rate'!$B$3","v":0},"n/a","n/a",{"$f":"'Hourly rate'!D68","v":0},"n/a",{"$f":"'Hourly rate'!E68","v":0}]
[{"$f":"'Hourly rate'!A69","v":"00:00:00"},{"$f":"'Hourly rate'!B69","v":0},"n/a",{"$f":"'Hourly rate'!$B$3","v":0},"n/a","n/a",{"$f":"'Hourly rate'!D69","v":0},"n/a",{"$f":"'Hourly rate'!E69","v":0}]
[{"$f":"'Hourly rate'!A70","v":"00:00:00"},{"$f":"'Hourly rate'!B70","v":0},"n/a",{"$f":"'Hourly rate'!$B$3","v":0},"n/a","n/a",{"$f":"'Hourly rate'!D70","v":0},"n/a",{"$f":"'Hourly rate'!E70","v":0}]
[{"$f":"'Hourly rate'!A71","v":"00:00:00"},{"$f":"'Hourly rate'!B71","v":0},"n/a",{"$f":"'Hourly rate'!$B$3","v":0},"n/a","n/a",{"$f":"'Hourly rate'!D71","v":0},"n/a",{"$f":"'Hourly rate'!E71","v":0}]
[{"$f":"'Hourly rate'!A72","v":"00:00:00"},{"$f":"'Hourly rate'!B72","v":0},"n/a",{"$f":"'Hourly rate'!$B$3","v":0},"n/a","n/a",{"$f":"'Hourly rate'!D72","v":0},"n/a",{"$f":"'Hourly rate'!E72","v":0}]
[{"$f":"'Hourly rate'!A73","v":"00:00:00"},{"$f":"'Hourly rate'!B73","v":0},"n/a",{"$f":"'Hourly rate'!$B$3","v":0},"n/a","n/a",{"$f":"'Hourly rate'!D73","v":0},"n/a",{"$f":"'Hourly rate'!E73","v":0}]
[{"$f":"'Hourly rate'!A74","v":"00:00:00"},{"$f":"'Hourly rate'!B74","v":0},"n/a",{"$f":"'Hourly rate'!$B$3","v":0},"n/a","n/a",{"$f":"'Hourly rate'!D74","v":0},"n/a",{"$f":"'Hourly rate'!E74","v":0}]
[{"$f":"'Hourly rate'!A75","v":"00:00:00"},{"$f":"'Hourly rate'!B75","v":0},"n/a",{"$f":"'Hourly rate'!$B$3","v":0},"n/a","n/a",{"$f":"'Hourly rate'!D75","v":0},"n/a",{"$f":"'Hourly rate'!E75","v":0}]
[{"$f":"'Hourly rate'!A76","v":"00:00:00"},{"$f":"'Hourly rate'!B76","v":0},"n/a",{"$f":"'Hourly rate'!$B$3","v":0},"n/a","n/a",{"$f":"'Hourly rate'!D76","v":0},"n/a",{"$f":"'Hourly rate'!E76","v":0}]
[{"$f":"'Hourly rate'!A77","v":"00:00:00"},{"$f":"'Hourly rate'!B77","v":0},"n/a",{"$f":"'Hourly rate'!$B$3","v":0},"n/a","n/a",{"$f":"'Hourly rate'!D77","v":0},"n/a",{"$f":"'Hourly rate'!E77","v":0}]
[{"$f":"'Hourly rate'!A78","v":"00:00:00"},{"$f":"'Hourly rate'!B78","v":0},"n/a",{"$f":"'Hourly rate'!$B$3","v":0},"n/a","n/a",{"$f":"'Hourly rate'!D78","v":0},"n/a",{"$f":"'Hourly rate'!E78","v":0}]
[{"$f":"'Hourly rate'!A79","v":"00:00:00"},{"$f":"'Hourly rate'!B79","v":0},"n/a",{"$f":"'Hourly rate'!$B$3","v":0},"n/a","n/a",{"$f":"'Hourly rate'!D79","v":0},"n/a",{"$f":"'Hourly rate'!E79","v":0}]
[{"$f":"'Hourly rate'!A80","v":"00:00:00"},{"$f":"'Hourly rate'!B80","v":0},"n/a",{"$f":"'Hourly rate'!$B$3","v":0},"n/a","n/a",{"$f":"'Hourly rate'!D80","v":0},"n/a",{"$f":"'Hourly rate'!E80","v":0}]
[{"$f":"'Hourly rate'!A81","v":"00:00:00"},{"$f":"'Hourly rate'!B81","v":0},"n/a",{"$f":"'Hourly rate'!$B$3","v":0},"n/a","n/a",{"$f":"'Hourly rate'!D81","v":0},"n/a",{"$f":"'Hourly rate'!E81","v":0}]
[{"$f":"'Hourly rate'!A82","v":"00:00:00"},{"$f":"'Hourly rate'!B82","v":0},"n/a",{"$f":"'Hourly rate'!$B$3","v":0},"n/a","n/a",{"$f":"'Hourly rate'!D82","v":0},"n/a",{"$f":"'Hourly rate'!E82","v":0}]
[{"$f":"'Hourly rate'!A83","v":"00:00:00"},{"$f":"'Hourly rate'!B83","v":0},"n/a",{"$f":"'Hourly rate'!$B$3","v":0},"n/a","n/a",{"$f":"'Hourly rate'!D83","v":0},"n/a",{"$f":"'Hourly rate'!E83","v":0}]
[{"$f":"'Hourly rate'!A84","v":"00:00:00"},{"$f":"'Hourly rate'!B84","v":0},"n/a",{"$f":"'Hourly rate'!$B$3","v":0},"n/a","n/a",{"$f":"'Hourly rate'!D84","v":0},"n/a",{"$f":"'Hourly rate'!E84","v":0}]
[{"$f":"'Hourly rate'!A85","v":"00:00:00"},{"$f":"'Hourly rate'!B85","v":0},"n/a",{"$f":"'Hourly rate'!$B$3","v":0},"n/a","n/a",{"$f":"'Hourly rate'!D85","v":0},"n/a",{"$f":"'Hourly rate'!E85","v":0}]
[{"$f":"'Hourly rate'!A86","v":"00:00:00"},{"$f":"'Hourly rate'!B86","v":0},"n/a",{"$f":"'Hourly rate'!$B$3","v":0},"n/a","n/a",{"$f":"'Hourly rate'!D86","v":0},"n/a",{"$f":"'Hourly rate'!E86","v":0}]
[{"$f":"'Hourly rate'!A87","v":"00:00:00"},{"$f":"'Hourly rate'!B87","v":0},"n/a",{"$f":"'Hourly rate'!$B$3","v":0},"n/a","n/a",{"$f":"'Hourly rate'!D87","v":0},"n/a",{"$f":"'Hourly rate'!E87","v":0}]
[{"$f":"'Hourly rate'!A88","v":"00:00:00"},{"$f":"'Hourly rate'!B88","v":0},"n/a",{"$f":"'Hourly rate'!$B$3","v":0},"n/a","n/a",{"$f":"'Hourly rate'!D88","v":0},"n/a",{"$f":"'Hourly rate'!E88","v":0}]
[{"$f":"'Hourly rate'!A89","v":"00:00:00"},{"$f":"'Hourly rate'!B89","v":0},"n/a",{"$f":"'Hourly rate'!$B$3","v":0},"n/a","n/a",{"$f":"'Hourly rate'!D89","v":0},"n/a",{"$f":"'Hourly rate'!E89","v":0}]
[{"$f":"'Hourly rate'!A90","v":"00:00:00"},{"$f":"'Hourly rate'!B90","v":0},"n/a",{"$f":"'Hourly rate'!$B$3","v":0},"n/a","n/a",{"$f":"'Hourly rate'!D90","v":0},"n/a",{"$f":"'Hourly rate'!E90","v":0}]
[{"$f":"'Hourly rate'!A91","v":"00:00:00"},{"$f":"'Hourly rate'!B91","v":0},"n/a",{"$f":"'Hourly rate'!$B$3","v":0},"n/a","n/a",{"$f":"'Hourly rate'!D91","v":0},"n/a",{"$f":"'Hourly rate'!E91","v":0}]
[{"$f":"'Hourly rate'!A92","v":"00:00:00"},{"$f":"'Hourly rate'!B92","v":0},"n/a",{"$f":"'Hourly rate'!$B$3","v":0},"n/a","n/a",{"$f":"'Hourly rate'!D92","v":0},"n/a",{"$f":"'Hourly rate'!E92","v":0}]
[{"$f":"'Hourly rate'!A93","v":"00:00:00"},{"$f":"'Hourly rate'!B93","v":0},"n/a",{"$f":"'Hourly rate'!$B$3","v":0},"n/a","n/a",{"$f":"'Hourly rate'!D93","v":0},"n/a",{"$f":"'Hourly rate'!E93","v":0}]
[{"$f":"'Hourly rate'!A94","v":"00:00:00"},{"$f":"'Hourly rate'!B94","v":0},"n/a",{"$f":"'Hourly rate'!$B$3","v":0},"n/a","n/a",{"$f":"'Hourly rate'!D94","v":0},"n/a",{"$f":"'Hourly rate'!E94","v":0}]
[{"$f":"'Hourly rate'!A95","v":"00:00:00"},{"$f":"'Hourly rate'!B95","v":0},"n/a",{"$f":"'Hourly rate'!$B$3","v":0},"n/a","n/a",{"$f":"'Hourly rate'!D95","v":0},"n/a",{"$f":"'Hourly rate'!E95","v":0}]
[{"$f":"'Hourly rate'!A96","v":"00:00:00"},{"$f":"'Hourly rate'!B96","v":0},"n/a",{"$f":"'Hourly rate'!$B$3","v":0},"n/a","n/a",{"$f":"'Hourly rate'!D96","v":0},"n/a",{"$f":"'Hourly rate'!E96","v":0}]
[{"$f":"'Hourly rate'!A97","v":"00:00:00"},{"$f":"'Hourly rate'!B97","v":0},"n/a",{"$f":"'Hourly rate'!$B$3","v":0},"n/a","n/a",{"$f":"'Hourly rate'!D97","v":0},"n/a",{"$f":"'Hourly rate'!E97","v":0}]
[{"$f":"'Hourly rate'!A98","v":"00:00:00"},{"$f":"'Hourly rate'!B98","v":0},"n/a",{"$f":"'Hourly rate'!$B$3","v":0},"n/a","n/a",{"$f":"'Hourly rate'!D98","v":0},"n/a",{"$f":"'Hourly rate'!E98","v":0}]
[{"$f":"'Hourly rate'!A99","v":"00:00:00"},{"$f":"'Hourly rate'!B99","v":0},"n/a",{"$f":"'Hourly rate'!$B$3","v":0},"n/a","n/a",{"$f":"'Hourly rate'!D99","v":0},"n/a",{"$f":"'Hourly rate'!E99","v":0}]
[{"$f":"'Hourly rate'!A100","v":"00:00:00"},{"$f":"'Hourly rate'!B100","v":0},"n/a",{"$f":"'Hourly rate'!$B$3","v":0},"n/a","n/a",{"$f":"'Hourly rate'!D100","v":0},"n/a",{"$f":"'Hourly rate'!E100","v":0}]
[{"$f":"'Hourly rate'!A101","v":"00:00:00"},{"$f":"'Hourly rate'!B101","v":0},"n/a",{"$f":"'Hourly rate'!$B$3","v":0},"n/a","n/a",{"$f":"'Hourly rate'!D101","v":0},"n/a",{"$f":"'Hourly rate'!E101","v":0}]
[{"$f":"'Hourly rate'!A102","v":"00:00:00"},{"$f":"'Hourly rate'!B102","v":0},"n/a",{"$f":"'Hourly rate'!$B$3","v":0},"n/a","n/a",{"$f":"'Hourly rate'!D102","v":0},"n/a",{"$f":"'Hourly rate'!E102","v":0}]
[{"$f":"'Hourly rate'!A103","v":"00:00:00"},{"$f":"'Hourly rate'!B103","v":0},"n/a",{"$f":"'Hourly rate'!$B$3","v":0},"n/a","n/a",{"$f":"'Hourly rate'!D103","v":0},"n/a",{"$f":"'Hourly rate'!E103","v":0}]
[{"$f":"'Hourly rate'!A104","v":"00:00:00"},{"$f":"'Hourly rate'!B104","v":0},"n/a",{"$f":"'Hourly rate'!$B$3","v":0},"n/a","n/a",{"$f":"'Hourly rate'!D104","v":0},"n/a",{"$f":"'Hourly rate'!E104","v":0}]
[{"$f":"'Hourly rate'!A105","v":"00:00:00"},{"$f":"'Hourly rate'!B105","v":0},"n/a",{"$f":"'Hourly rate'!$B$3","v":0},"n/a","n/a",{"$f":"'Hourly rate'!D105","v":0},"n/a",{"$f":"'Hourly rate'!E105","v":0}]
[{"$f":"'Hourly rate'!A106","v":"00:00:00"},{"$f":"'Hourly rate'!B106","v":0},"n/a",{"$f":"'Hourly rate'!$B$3","v":0},"n/a","n/a",{"$f":"'Hourly rate'!D106","v":0},"n/a",{"$f":"'Hourly rate'!E106","v":0}]
[{"$f":"'Hourly rate'!A107","v":"00:00:00"},{"$f":"'Hourly rate'!B107","v":0},"n/a",{"$f":"'Hourly rate'!$B$3","v":0},"n/a","n/a",{"$f":"'Hourly rate'!D107","v":0},"n/a",{"$f":"'Hourly rate'!E107","v":0}]
[{"$f":"'Hourly rate'!A108","v":"00:00:00"},{"$f":"'Hourly rate'!B108","v":0},"n/a",{"$f":"'Hourly rate'!$B$3","v":0},"n/a","n/a",{"$f":"'Hourly rate'!D108","v":0},"n/a",{"$f":"'Hourly rate'!E108","v":0}]
[{"$f":"'Hourly rate'!A109","v":"00:00:00"},{"$f":"'Hourly rate'!B109","v":0},"n/a",{"$f":"'Hourly rate'!$B$3","v":0},"n/a","n/a",{"$f":"'Hourly rate'!D109","v":0},"n/a",{"$f":"'Hourly rate'!E109","v":0}]
[{"$f":"'Hourly rate'!A110","v":"00:00:00"},{"$f":"'Hourly rate'!B110","v":0},"n/a",{"$f":"'Hourly rate'!$B$3","v":0},"n/a","n/a",{"$f":"'Hourly rate'!D110","v":0},"n/a",{"$f":"'Hourly rate'!E110","v":0}]
[{"$f":"'Hourly rate'!A111","v":"00:00:00"},{"$f":"'Hourly rate'!B111","v":0},"n/a",{"$f":"'Hourly rate'!$B$3","v":0},"n/a","n/a",{"$f":"'Hourly rate'!D111","v":0},"n/a",{"$f":"'Hourly rate'!E111","v":0}]
[{"$f":"'Hourly rate'!A112","v":"00:00:00"},{"$f":"'Hourly rate'!B112","v":0},"n/a",{"$f":"'Hourly rate'!$B$3","v":0},"n/a","n/a",{"$f":"'Hourly rate'!D112","v":0},"n/a",{"$f":"'Hourly rate'!E112","v":0}]
[{"$f":"'Hourly rate'!A113","v":"00:00:00"},{"$f":"'Hourly rate'!B113","v":0},"n/a",{"$f":"'Hourly rate'!$B$3","v":0},"n/a","n/a",{"$f":"'Hourly rate'!D113","v":0},"n/a",{"$f":"'Hourly rate'!E113","v":0}]
[{"$f":"'Hourly rate'!A114","v":"00:00:00"},{"$f":"'Hourly rate'!B114","v":0},"n/a",{"$f":"'Hourly rate'!$B$3","v":0},"n/a","n/a",{"$f":"'Hourly rate'!D114","v":0},"n/a",{"$f":"'Hourly rate'!E114","v":0}]
[{"$f":"'Hourly rate'!A115","v":"00:00:00"},{"$f":"'Hourly rate'!B115","v":0},"n/a",{"$f":"'Hourly rate'!$B$3","v":0},"n/a","n/a",{"$f":"'Hourly rate'!D115","v":0},"n/a",{"$f":"'Hourly rate'!E115","v":0}]
[{"$f":"'Hourly rate'!A116","v":"00:00:00"},{"$f":"'Hourly rate'!B116","v":0},"n/a",{"$f":"'Hourly rate'!$B$3","v":0},"n/a","n/a",{"$f":"'Hourly rate'!D116","v":0},"n/a",{"$f":"'Hourly rate'!E116","v":0}]
[{"$f":"'Hourly rate'!A117","v":"00:00:00"},{"$f":"'Hourly rate'!B117","v":0},"n/a",{"$f":"'Hourly rate'!$B$3","v":0},"n/a","n/a",{"$f":"'Hourly rate'!D117","v":0},"n/a",{"$f":"'Hourly rate'!E117","v":0}]
[{"$f":"'Hourly rate'!A118","v":"00:00:00"},{"$f":"'Hourly rate'!B118","v":0},"n/a",{"$f":"'Hourly rate'!$B$3","v":0},"n/a","n/a",{"$f":"'Hourly rate'!D118","v":0},"n/a",{"$f":"'Hourly rate'!E118","v":0}]
[{"$f":"'Hourly rate'!A119","v":"00:00:00"},{"$f":"'Hourly rate'!B119","v":0},"n/a",{"$f":"'Hourly rate'!$B$3","v":0},"n/a","n/a",{"$f":"'Hourly rate'!D119","v":0},"n/a",{"$f":"'Hourly rate'!E119","v":0}]
[{"$f":"'Hourly rate'!A120","v":"00:00:00"},{"$f":"'Hourly rate'!B120","v":0},"n/a",{"$f":"'Hourly rate'!$B$3","v":0},"n/a","n/a",{"$f":"'Hourly rate'!D120","v":0},"n/a",{"$f":"'Hourly rate'!E120","v":0}]
[{"$f":"'Hourly rate'!A121","v":"00:00:00"},{"$f":"'Hourly rate'!B121","v":0},"n/a",{"$f":"'Hourly rate'!$B$3","v":0},"n/a","n/a",{"$f":"'Hourly rate'!D121","v":0},"n/a",{"$f":"'Hourly rate'!E121","v":0}]
[{"$f":"'Hourly rate'!A122","v":"00:00:00"},{"$f":"'Hourly rate'!B122","v":0},"n/a",{"$f":"'Hourly rate'!$B$3","v":0},"n/a","n/a",{"$f":"'Hourly rate'!D122","v":0},"n/a",{"$f":"'Hourly rate'!E122","v":0}]
[{"$f":"'Hourly rate'!A123","v":"00:00:00"},{"$f":"'Hourly rate'!B123","v":0},"n/a",{"$f":"'Hourly rate'!$B$3","v":0},"n/a","n/a",{"$f":"'Hourly rate'!D123","v":0},"n/a",{"$f":"'Hourly rate'!E123","v":0}]
[{"$f":"'Hourly rate'!A124","v":"00:00:00"},{"$f":"'Hourly rate'!B124","v":0},"n/a",{"$f":"'Hourly rate'!$B$3","v":0},"n/a","n/a",{"$f":"'Hourly rate'!D124","v":0},"n/a",{"$f":"'Hourly rate'!E124","v":0}]
[{"$f":"'Hourly rate'!A125","v":"00:00:00"},{"$f":"'Hourly rate'!B125","v":0},"n/a",{"$f":"'Hourly rate'!$B$3","v":0},"n/a","n/a",{"$f":"'Hourly rate'!D125","v":0},"n/a",{"$f":"'Hourly rate'!E125","v":0}]
[{"$f":"'Hourly rate'!A126","v":"00:00:00"},{"$f":"'Hourly rate'!B126","v":0},"n/a",{"$f":"'Hourly rate'!$B$3","v":0},"n/a","n/a",{"$f":"'Hourly rate'!D126","v":0},"n/a",{"$f":"'Hourly rate'!E126","v":0}]
[{"$f":"'Hourly rate'!A127","v":"00:00:00"},{"$f":"'Hourly rate'!B127","v":0},"n/a",{"$f":"'Hourly rate'!$B$3","v":0},"n/a","n/a",{"$f":"'Hourly rate'!D127","v":0},"n/a",{"$f":"'Hourly rate'!E127","v":0}]
[{"$f":"'Hourly rate'!A128","v":"00:00:00"},{"$f":"'Hourly rate'!B128","v":0},"n/a",{"$f":"'Hourly rate'!$B$3","v":0},"n/a","n/a",{"$f":"'Hourly rate'!D128","v":0},"n/a",{"$f":"'Hourly rate'!E128","v":0}]
[{"$f":"'Hourly rate'!A129","v":"00:00:00"},{"$f":"'Hourly rate'!B129","v":0},"n/a",{"$f":"'Hourly rate'!$B$3","v":0},"n/a","n/a",{"$f":"'Hourly rate'!D129","v":0},"n/a",{"$f":"'Hourly rate'!E129","v":0}]
[{"$f":"'Hourly rate'!A130","v":"00:00:00"},{"$f":"'Hourly rate'!B130","v":0},"n/a",{"$f":"'Hourly rate'!$B$3","v":0},"n/a","n/a",{"$f":"'Hourly rate'!D130","v":0},"n/a",{"$f":"'Hourly rate'!E130","v":0}]
[{"$f":"'Hourly rate'!A131","v":"00:00:00"},{"$f":"'Hourly rate'!B131","v":0},"n/a",{"$f":"'Hourly rate'!$B$3","v":0},"n/a","n/a",{"$f":"'Hourly rate'!D131","v":0},"n/a",{"$f":"'Hourly rate'!E131","v":0}]
[{"$f":"'Hourly rate'!A132","v":"00:00:00"},{"$f":"'Hourly rate'!B132","v":0},"n/a",{"$f":"'Hourly rate'!$B$3","v":0},"n/a","n/a",{"$f":"'Hourly rate'!D132","v":0},"n/a",{"$f":"'Hourly rate'!E132","v":0}]
[{"$f":"'Hourly rate'!A133","v":"00:00:00"},{"$f":"'Hourly rate'!B133","v":0},"n/a",{"$f":"'Hourly rate'!$B$3","v":0},"n/a","n/a",{"$f":"'Hourly rate'!D133","v":0},"n/a",{"$f":"'Hourly rate'!E133","v":0}]
[{"$f":"'Hourly rate'!A134","v":"00:00:00"},{"$f":"'Hourly rate'!B134","v":0},"n/a",{"$f":"'Hourly rate'!$B$3","v":0},"n/a","n/a",{"$f":"'Hourly rate'!D134","v":0},"n/a",{"$f":"'Hourly rate'!E134","v":0}]
[{"$f":"'Hourly rate'!A135","v":"00:00:00"},{"$f":"'Hourly rate'!B135","v":0},"n/a",{"$f":"'Hourly rate'!$B$3","v":0},"n/a","n/a",{"$f":"'Hourly rate'!D135","v":0},"n/a",{"$f":"'Hourly rate'!E135","v":0}]
[{"$f":"'Hourly rate'!A136","v":"00:00:00"},{"$f":"'Hourly rate'!B136","v":0},"n/a",{"$f":"'Hourly rate'!$B$3","v":0},"n/a","n/a",{"$f":"'Hourly rate'!D136","v":0},"n/a",{"$f":"'Hourly rate'!E136","v":0}]
[{"$f":"'Hourly rate'!A137","v":"00:00:00"},{"$f":"'Hourly rate'!B137","v":0},"n/a",{"$f":"'Hourly rate'!$B$3","v":0},"n/a","n/a",{"$f":"'Hourly rate'!D137","v":0},"n/a",{"$f":"'Hourly rate'!E137","v":0}]
[{"$f":"'Hourly rate'!A138","v":"00:00:00"},{"$f":"'Hourly rate'!B138","v":0},"n/a",{"$f":"'Hourly rate'!$B$3","v":0},"n/a","n/a",{"$f":"'Hourly rate'!D138","v":0},"n/a",{"$f":"'Hourly rate'!E138","v":0}]
[{"$f":"'Hourly rate'!A139","v":"00:00:00"},{"$f":"'Hourly rate'!B139","v":0},"n/a",{"$f":"'Hourly rate'!$B$3","v":0},"n/a","n/a",{"$f":"'Hourly rate'!D139","v":0},"n/a",{"$f":"'Hourly rate'!E139","v":0}]
[{"$f":"'Hourly rate'!A140","v":"00:00:00"},{"$f":"'Hourly rate'!B140","v":0},"n/a",{"$f":"'Hourly rate'!$B$3","v":0},"n/a","n/a",{"$f":"'Hourly rate'!D140","v":0},"n/a",{"$f":"'Hourly rate'!E140","v":0}]
[{"$f":"'Hourly rate'!A141","v":"00:00:00"},{"$f":"'Hourly rate'!B141","v":0},"n/a",{"$f":"'Hourly rate'!$B$3","v":0},"n/a","n/a",{"$f":"'Hourly rate'!D141","v":0},"n/a",{"$f":"'Hourly rate'!E141","v":0}]
[{"$f":"'Hourly rate'!A142","v":"00:00:00"},{"$f":"'Hourly rate'!B142","v":0},"n/a",{"$f":"'Hourly rate'!$B$3","v":0},"n/a","n/a",{"$f":"'Hourly rate'!D142","v":0},"n/a",{"$f":"'Hourly rate'!E142","v":0}]
[{"$f":"'Hourly rate'!A143","v":"00:00:00"},{"$f":"'Hourly rate'!B143","v":0},"n/a",{"$f":"'Hourly rate'!$B$3","v":0},"n/a","n/a",{"$f":"'Hourly rate'!D143","v":0},"n/a",{"$f":"'Hourly rate'!E143","v":0}]
[{"$f":"'Hourly rate'!A144","v":"00:00:00"},{"$f":"'Hourly rate'!B144","v":0},"n/a",{"$f":"'Hourly rate'!$B$3","v":0},"n/a","n/a",{"$f":"'Hourly rate'!D144","v":0},"n/a",{"$f":"'Hourly rate'!E144","v":0}]
[{"$f":"'Hourly rate'!A145","v":"00:00:00"},{"$f":"'Hourly rate'!B145","v":0},"n/a",{"$f":"'Hourly rate'!$B$3","v":0},"n/a","n/a",{"$f":"'Hourly rate'!D145","v":0},"n/a",{"$f":"'Hourly rate'!E145","v":0}]
[{"$f":"'Hourly rate'!A146","v":"00:00:00"},{"$f":"'Hourly rate'!B146","v":0},"n/a",{"$f":"'Hourly rate'!$B$3","v":0},"n/a","n/a",{"$f":"'Hourly rate'!D146","v":0},"n/a",{"$f":"'Hourly rate'!E146","v":0}]
[{"$f":"'Hourly rate'!A147","v":"00:00:00"},{"$f":"'Hourly rate'!B147","v":0},"n/a",{"$f":"'Hourly rate'!$B$3","v":0},"n/a","n/a",{"$f":"'Hourly rate'!D147","v":0},"n/a",{"$f":"'Hourly rate'!E147","v":0}]
[{"$f":"'Hourly rate'!A148","v":"00:00:00"},{"$f":"'Hourly rate'!B148","v":0},"n/a",{"$f":"'Hourly rate'!$B$3","v":0},"n/a","n/a",{"$f":"'Hourly rate'!D148","v":0},"n/a",{"$f":"'Hourly rate'!E148","v":0}]
[{"$f":"'Hourly rate'!A149","v":"00:00:00"},{"$f":"'Hourly rate'!B149","v":0},"n/a",{"$f":"'Hourly rate'!$B$3","v":0},"n/a","n/a",{"$f":"'Hourly rate'!D149","v":0},"n/a",{"$f":"'Hourly rate'!E149","v":0}]
[{"$f":"'Hourly rate'!A150","v":"00:00:00"},{"$f":"'Hourly rate'!B150","v":0},"n/a",{"$f":"'Hourly rate'!$B$3","v":0},"n/a","n/a",{"$f":"'Hourly rate'!D150","v":0},"n/a",{"$f":"'Hourly rate'!E150","v":0}]
[{"$f":"'Hourly rate'!A151","v":"00:00:00"},{"$f":"'Hourly rate'!B151","v":0},"n/a",{"$f":"'Hourly rate'!$B$3","v":0},"n/a","n/a",{"$f":"'Hourly rate'!D151","v":0},"n/a",{"$f":"'Hourly rate'!E151","v":0}]
[{"$f":"'Hourly rate'!A152","v":"00:00:00"},{"$f":"'Hourly rate'!B152","v":0},"n/a",{"$f":"'Hourly rate'!$B$3","v":0},"n/a","n/a",{"$f":"'Hourly rate'!D152","v":0},"n/a",{"$f":"'Hourly rate'!E152","v":0}]
[{"$f":"'Hourly rate'!A153","v":"00:00:00"},{"$f":"'Hourly rate'!B153","v":0},"n/a",{"$f":"'Hourly rate'!$B$3","v":0},"n/a","n/a",{"$f":"'Hourly rate'!D153","v":0},"n/a",{"$f":"'Hourly rate'!E153","v":0}]
[{"$f":"'Hourly rate'!A154","v":"00:00:00"},{"$f":"'Hourly rate'!B154","v":0},"n/a",{"$f":"'Hourly rate'!$B$3","v":0},"n/a","n/a",{"$f":"'Hourly rate'!D154","v":0},"n/a",{"$f":"'Hourly rate'!E154","v":0}]
[{"$f":"'Hourly rate'!A155","v":"00:00:00"},{"$f":"'Hourly rate'!B155","v":0},"n/a",{"$f":"'Hourly rate'!$B$3","v":0},"n/a","n/a",{"$f":"'Hourly rate'!D155","v":0},"n/a",{"$f":"'Hourly rate'!E155","v":0}]
[{"$f":"'Hourly rate'!A156","v":"00:00:00"},{"$f":"'Hourly rate'!B156","v":0},"n/a",{"$f":"'Hourly rate'!$B$3","v":0},"n/a","n/a",{"$f":"'Hourly rate'!D156","v":0},"n/a",{"$f":"'Hourly rate'!E156","v":0}]
[]
[null,null,null,null,null,null,null,"Sub total Per Minute Training",{"$f":"SUM(I18:I62)","v":0},null,{"$f":"Training!K51/Training!G51/24","v":{"$error":"#DIV/0!"}}]
[null,null,null,null,null,null,null,"Sub total Per Minute Standard",{"$f":"SUM(I63:I162)","v":0},null,{"$f":"Standard!K119/Standard!G119/24","v":{"$error":"#DIV/0!"}}]
[null,null,null,null,null,null,null,"Sub total Per Minute Legal",{"$f":"SUM(I163:I262)","v":0},null,{"$f":"Legal!K106/Legal!G106/24","v":{"$error":"#DIV/0!"}}]
[null,null,null,null,null,null,null,"Sub total Per Minute Client A",{"$f":"SUM(I263:I412)","v":0},null,{"$f":"'Client A'!K156/'Client A'!G156/24","v":{"$error":"#DIV/0!"}}]
[null,null,null,null,null,null,null,"Sub total Per Minute Client B",{"$f":"SUM(I413:I562)","v":0},null,{"$f":"'Client B'!K157/'Client B'!G157/24","v":{"$error":"#DIV/0!"}}]
[null,null,null,null,null,null,null,null,null,null,{"$f":"'Hourly rate'!B3","v":0},null,{"$f":"SUM(F18:F712)","v":0}]
[null,null,null,null,null,null,null,"Bonus awarded"]
[null,null,null,null,null,null,null,"Sub total Hourly Rate  ",{"$f":"SUM(I563:I712)","v":0}]
[null,null,null,null,"TOTAL",null,null,null,{"$f":"SUM(I714:I721)","v":0},null,{"$f":"SUM(K714:K719)/6","v":{"$error":"#DIV/0!"}}]

{"sheet":"Sheet1","index":8,"n_rows":35,"n_cols":6,"rows_kept":35,"cut":false,"hidden":true,"merged":[]}
["Poor quality"]
["Accent"]
["Referencing",null,null,null,null,"1 to 3"]
["Other",null,null,null,null,"4+"]
[]
["Yes"]
["No"]
[]
["NCW QC"]
["CR QQ"]
["OT QC"]
["Proofreading"]
["Copy typing"]
["Other"]
[]
["1 to 2/3+ at length"]
["3+ "]
[]
[0.8]
[1.04]
[0.9]
[0.98]
[]
[0.84]
[0.84]
[]
[]
[]
[]
[]
[]
["Level 1"]
["Level 2"]
["Level 3"]
["n/a - document fee"]